Workbook

Sheet פירוט המשימות
F3: להשלים | M3: שנת התשלום | Q3: תשלומים מצטבר באלפי ₪ | R3: יתרה בהתחייבויות | S3: יתרת התחייבויות אלפי ₪ | T3: ס"ה התחייבויות ותשלומים עד סוף 2016 | U3: סך תקציב מצטבר שאושר עד סוף 2015 | V3: הקצאות חדשות 2016 | W3: סך תקציב מצטבר שאושר עד סוף 2016 | X3: יתרות תקציב בלתי מחוייבות | Y3: יתרות תקציב בלתי מחוייבות מועברות (מתואמת) | Z3: סך היתרות המועברות (כולל בהתחייבויות) | AA3: חדש 2017 | AB3: צפי תשלומים 2017 | AC3: צפי תשלומים 2018 | AD3: צפי תשלומים 2019 | AE3: צפי תשלומים 2020 | AF3: צפי תשלומים 2021 | AG3: צפי תשלומים 2022 | AH3: צפי תשלומים 2023 | AI3: צפי תשלומים 2024 | AJ3: סך תשלומים צפוי
G4: 2008 | H4: 2009 | I4: 2010 | J4: 2011 | K4: 2012 | L4: 2013 | M4: 2014 | N4: 2015 | P4: 2016
A5: משימת תקציב | B5: סוג מטרות המשימה | C5: מטרות המשימה | D5: משימה באיו"ש | E5: נושא משימת תקציב | F5: ,תאריך אישור הבקשה | G5: סכום | H5: סכום | I5: סכום | J5: סכום | K5: סכום | L5: סכום | M5: סכום | N5: סכום | O5: 42522 | P5: דצמבר 2016 (מצטבר) | Y5: הסטות/התאמות
A6: אימוץ תקן RDF | B6: פיתוח | C6: פיתוח - רכש | D6: לא באיו"ש | E6: פרוייקטים שונים | F6: 0 | G6: - | H6: - | I6: - | J6: - | K6: - | L6: - | M6: - | N6: 48331.62 | O6: =VLOOKUP(A6,'[1]ינואר עד יוני 2016'!A:F,6,0) -> 15974.01 | P6: 15974.01 | Q6: =SUM(G6:P6)/1000-O6/1000 -> 64.30563 | R6: 0 | S6: 0 | T6: =Q6+S6 -> 64.30563 | U6: =VLOOKUP(A6,'[1]16'!B:W,22,0) -> 65 | V6: 0 | W6: =U6+V6 -> 65 | X6: =W6-T6 -> 0.69437 | Y6: 0 | Z6: =Y6+S6 -> 0 | AB6: 0 | AC6: =VLOOKUP(A6,'[1]16'!B:AL,30,0) -> 0 | AD6: 0 | AE6: 0 | AF6: 0 | AG6: 0 | AH6: 0 | AI6: 0 | AJ6: =SUM(AB6:AI6) -> 0 | AK6: =AJ6-Z6 -> 0
A7: אינטרנט | B7: נוספות | C7: נוספות - חינוך והסברה | D7: לא באיו"ש | E7: הסברה | F7: 0 | G7: - | H7: - | I7: 923801.32 | J7: 1952003.3 | K7: 1531573.6 | L7: 1859630.3 | M7: 1884994 | N7: 925793.43 | O7: =VLOOKUP(A7,'[1]ינואר עד יוני 2016'!A:F,6,0) -> 124566.77 | P7: 181828.55 | Q7: =SUM(G7:P7)/1000-O7/1000 -> 9259.6245 | R7: 794184.99 | S7: =R7/1000 -> 794.18499 | T7: =Q7+S7 -> 10053.809 | U7: =VLOOKUP(A7,'[1]16'!B:W,22,0) -> 10760.664 | V7: 0 | W7: =U7+V7 -> 10760.664 | X7: =W7-T7 -> 706.85439 | Z7: =Y7+S7 -> 794.18499 | AB7: 794 | AC7: =VLOOKUP(A7,'[1]16'!B:AL,30,0) -> 0 | AD7: 0 | AE7: 0 | AF7: 0 | AG7: 0 | AH7: 0 | AI7: 0 | AJ7: =SUM(AB7:AI7) -> 794 | AK7: =AJ7-Z7 -> -0.18499
A8: איסוף סוללות | B8: פיתוח | C8: פיתוח - רכש | D8: לא באיו"ש | E8: פרוייקטים שונים | F8: 0 | G8: - | H8: 36355.86 | I8: 231208.55 | J8: 108124.63 | K8: 248092.71 | L8: 264728.75 | M8: 91662.4 | N8: 104919.13 | P8: - | Q8: =SUM(G8:P8)/1000-O8/1000 -> 1085.092 | R8: 1316.25 | S8: =R8/1000 -> 1.31625 | T8: =Q8+S8 -> 1086.4083 | U8: =VLOOKUP(A8,'[1]16'!B:W,22,0) -> 2816.8754 | V8: 0 | W8: =U8+V8 -> 2816.8754 | X8: =W8-T8 -> 1730.4671 | Y8: =VLOOKUP(A8,'[1]16'!B:AK,25,0) -> 750 | Z8: =Y8+S8 -> 751.31625 | AB8: 250 | AC8: =VLOOKUP(A8,'[1]16'!B:AL,30,0) -> 250 | AD8: 251 | AE8: 0 | AF8: 0 | AG8: 0 | AH8: 0 | AI8: 0 | AJ8: =SUM(AB8:AI8) -> 751 | AK8: =AJ8-Z8 -> -0.31625
A9: אתר אינטרנט לילדים בשפה הערבית | B9: נוספות | C9: נוספות - חינוך והסברה | D9: לא באיו"ש | E9: הסברה | F9: 0 | G9: - | H9: - | I9: - | J9: - | K9: - | L9: - | M9: - | N9: - | P9: - | Q9: =SUM(G9:P9)/1000-O9/1000 -> 0 | R9: 500000 | S9: =R9/1000 -> 500 | T9: =Q9+S9 -> 500 | U9: =VLOOKUP(A9,'[1]16'!B:W,22,0) -> 500 | V9: 0 | W9: =U9+V9 -> 500 | X9: =W9-T9 -> 0 | Y9: 0 | Z9: =Y9+S9 -> 500 | AB9: 500 | AC9: =VLOOKUP(A9,'[1]16'!B:AL,30,0) -> 0 | AD9: =VLOOKUP(A9,'[1]16'!B:AK,31,1) -> 0 | AE9: =VLOOKUP(A9,'[1]16'!B:AK,32,1) -> 0 | AF9: =VLOOKUP(A9,'[1]16'!B:AL,33,1) -> 0 | AG9: 0 | AH9: 0 | AI9: 0 | AJ9: =SUM(AB9:AI9) -> 500 | AK9: =AJ9-Z9 -> 0
A10: בורות כילוי | B10: פיתוח | C10: פיתוח - רכש | D10: לא באיו"ש | E10: פרוייקטים שונים | F10: 0 | G10: - | H10: - | I10: 691056 | J10: 5310000 | K10: - | L10: - | M10: - | N10: - | P10: - | Q10: =SUM(G10:P10)/1000-O10/1000 -> 6001.056 | R10: 0 | S10: 0 | T10: =Q10+S10 -> 6001.056 | U10: =VLOOKUP(A10,'[1]16'!B:W,22,0) -> 6001 | V10: 0 | W10: =U10+V10 -> 6001 | X10: 0 | Y10: 0 | Z10: =Y10+S10 -> 0 | AB10: 0 | AC10: =VLOOKUP(A10,'[1]16'!B:AL,30,0) -> 0 | AD10: =VLOOKUP(A10,'[1]16'!B:AK,31,1) -> 0 | AE10: =VLOOKUP(A10,'[1]16'!B:AK,32,1) -> 0 | AF10: =VLOOKUP(A10,'[1]16'!B:AL,33,1) -> 0 | AG10: 0 | AH10: 0 | AI10: 0 | AJ10: =SUM(AB10:AI10) -> 0 | AK10: =AJ10-Z10 -> 0
A11: בניית תשתית אקדמית להטמעת אורח חיים מקיים במוסדות להשכלה גבוהה | B11: פיתוח | C11: פיתוח - רכש | D11: לא באיו"ש | E11: חינוך | F11: 0 | G11: - | H11: - | I11: - | J11: - | K11: - | L11: 1000000 | M11: - | N11: - | P11: - | Q11: =SUM(G11:P11)/1000-O11/1000 -> 1000 | R11: 0 | S11: 0 | T11: =Q11+S11 -> 1000 | U11: =VLOOKUP(A11,'[1]16'!B:W,22,0) -> 2000 | V11: 0 | W11: =U11+V11 -> 2000 | X11: =W11-T11 -> 1000 | Y11: 1000 | Z11: =Y11+S11 -> 1000 | AB11: 1000 | AC11: =VLOOKUP(A11,'[1]16'!B:AL,30,0) -> 0 | AD11: =VLOOKUP(A11,'[1]16'!B:AK,31,1) -> 0 | AE11: =VLOOKUP(A11,'[1]16'!B:AK,32,1) -> 0 | AF11: =VLOOKUP(A11,'[1]16'!B:AL,33,1) -> 0 | AG11: 0 | AH11: 0 | AI11: 0 | AJ11: =SUM(AB11:AI11) -> 1000 | AK11: =AJ11-Z11 -> 0
A12: בקרה חשבונאית | B12: פיתוח | C12: פיתוח - רכש | D12: לא באיו"ש | E12: בקרה | F12: 0 | G12: 135828 | H12: 592051.5 | I12: 217616 | J12: 183501.56 | K12: 1021079 | L12: 270474.59 | M12: 162397.5 | N12: 37440 | O12: =VLOOKUP(A12,'[1]ינואר עד יוני 2016'!A:F,6,0) -> 49140 | P12: 98280 | Q12: =SUM(G12:P12)/1000-O12/1000 -> 2718.6681 | R12: 1108654.3 | S12: =R12/1000 -> 1108.6543 | T12: =Q12+S12 -> 3827.3225 | U12: =VLOOKUP(A12,'[1]16'!B:W,22,0) -> 10676.899 | V12: 0 | W12: =U12+V12 -> 10676.899 | X12: =W12-T12 -> 6849.5763 | Y12: =VLOOKUP(A12,'[1]16'!B:AK,25,0) -> 6448 | Z12: =Y12+S12 -> 7556.6543 | AB12: 4501 | AC12: 2500 | AD12: 556 | AE12: =VLOOKUP(A12,'[1]16'!B:AK,32,1) -> 0 | AF12: =VLOOKUP(A12,'[1]16'!B:AL,33,1) -> 0 | AG12: 0 | AH12: 0 | AI12: 0 | AJ12: =SUM(AB12:AI12) -> 7557 | AK12: =AJ12-Z12 -> 0.34567
A13: דרום אדום | B13: נוספות | C13: נוספות - חינוך והסברה | D13: לא באיו"ש | E13: הסברה | F13: 0 | G13: - | H13: - | I13: - | J13: - | K13: - | L13: - | M13: 100000 | N13: 150000 | P13: - | Q13: =SUM(G13:P13)/1000-O13/1000 -> 250 | R13: 0 | S13: 0 | T13: =Q13+S13 -> 250 | U13: =VLOOKUP(A13,'[1]16'!B:W,22,0) -> 250 | V13: 0 | W13: =U13+V13 -> 250 | X13: =W13-T13 -> 0 | Y13: 0 | Z13: =Y13+S13 -> 0 | AB13: 0 | AC13: =VLOOKUP(A13,'[1]16'!B:AL,30,0) -> 0 | AD13: =VLOOKUP(A13,'[1]16'!B:AK,31,1) -> 0 | AE13: =VLOOKUP(A13,'[1]16'!B:AK,32,1) -> 0 | AF13: =VLOOKUP(A13,'[1]16'!B:AL,33,1) -> 0 | AG13: 0 | AH13: 0 | AI13: 0 | AJ13: =SUM(AB13:AI13) -> 0 | AK13: =AJ13-Z13 -> 0
A14: החלטת ממשלה 1496-מיעוטים משנית | B14: נוספות | C14: נוספות - מגזרים מוחלשים | D14: לא באיו"ש | E14: מיעוטים | G14: - | H14: - | I14: - | J14: - | K14: - | L14: - | M14: 195050 | N14: 878131 | O14: =VLOOKUP(A14,'[1]ינואר עד יוני 2016'!A:F,6,0) -> 1622570 | P14: 3908237 | Q14: =SUM(G14:P14)/1000-O14/1000 -> 4981.418 | R14: 30001672 | S14: =R14/1000 -> 30001.672 | T14: =Q14+S14 -> 34983.09 | U14: ='[2]ישיבות הנהלה'!$F$11 -> 201500 | V14: 98972 | W14: =U14+V14 -> 300472 | X14: =W14-T14-T15 -> 64345.91 | Y14: =X14+X15 -> 64345.91 | Z14: =[3]גיליון2!$G$24/1000-Q14 -> 118960.58 | AB14: 108634 | AC14: 10327 | AD14: =VLOOKUP(A14,'[1]16'!B:AK,31,1) -> 0 | AE14: =VLOOKUP(A14,'[1]16'!B:AK,32,1) -> 0 | AF14: =VLOOKUP(A14,'[1]16'!B:AL,33,1) -> 0 | AG14: 0 | AH14: 0 | AI14: 0 | AJ14: =SUM(AB14:AI14) -> 118961 | AK14: =AJ14-Z14 -> 0.418
A15: החלטת ממשלה 1496-מיעוטים ראשית | B15: פיתוח | C15: פיתוח - תמיכות | D15: לא באיו"ש | E15: מיעוטים | G15: - | H15: - | I15: - | J15: - | K15: - | L15: - | M15: - | N15: - | O15: =VLOOKUP(A15,'[1]ינואר עד יוני 2016'!A:F,6,0) -> 1436818 | P15: 10631691 | Q15: =SUM(G15:P15)/1000-O15/1000 -> 10631.691 | R15: 190511309 | S15: =R15/1000 -> 190511.31 | T15: =Q15+S15 -> 201143 | V15: 0 | W15: =U15+V15 -> 0 | Y15: 0 | Z15: =W14-Z14-Q14-Q15 -> 165898.31 | AB15: 119948 | AC15: 45950 | AD15: =VLOOKUP(A15,'[1]16'!B:AK,31,1) -> 0 | AE15: =VLOOKUP(A15,'[1]16'!B:AK,32,1) -> 0 | AF15: =VLOOKUP(A15,'[1]16'!B:AL,33,1) -> 0 | AG15: 0 | AH15: 0 | AI15: 0 | AJ15: =SUM(AB15:AI15) -> 165898 | AK15: =AJ15-Z15 -> -0.309
A16: החלטת ממשלה 1846 - סיוע להפחתת כמות הפסולת המועברת להטמנה בישובי הדרום | B16: פיתוח | C16: פיתוח - תמיכות | D16: לא באיו"ש | E16: סיוע לישובי הדרום | F16: 0 | G16: - | H16: - | I16: - | J16: - | K16: - | L16: - | M16: - | N16: 905777 | O16: =VLOOKUP(A16,'[1]ינואר עד יוני 2016'!A:F,6,0) -> 719387 | P16: 719387 | Q16: =SUM(G16:P16)/1000-O16/1000 -> 1625.164 | R16: 5654836 | S16: =R16/1000 -> 5654.836 | T16: =Q16+S16 -> 7280 | U16: =VLOOKUP(A16,'[1]16'!B:W,22,0) -> 7280 | V16: 0 | W16: =U16+V16 -> 7280 | X16: =W16-T16 -> 0 | Y16: 0 | Z16: =Y16+S16 -> 5654.836 | AB16: 5654.836 | AC16: =VLOOKUP(A16,'[1]16'!B:AL,30,0) -> 0 | AD16: =VLOOKUP(A16,'[1]16'!B:AK,31,1) -> 0 | AE16: =VLOOKUP(A16,'[1]16'!B:AK,32,1) -> 0 | AF16: =VLOOKUP(A16,'[1]16'!B:AL,33,1) -> 0 | AG16: 0 | AH16: 0 | AI16: 0 | AJ16: =SUM(AB16:AI16) -> 5654.836 | AK16: =AJ16-Z16 -> 0
A17: החלטת ממשלה 2025 - הפרדה במקור (הפרדת פסולת ביתית - רשויות מקדימות) | B17: פיתוח | C17: פיתוח - תמיכות | D17: לא באיו"ש | E17: סיוע לישובי הדרום | F17: 0 | G17: - | H17: - | I17: - | J17: - | K17: - | L17: - | M17: - | N17: - | P17: - | Q17: =SUM(G17:P17)/1000-O17/1000 -> 0 | R17: 7555600 | S17: =R17/1000 -> 7555.6 | T17: =Q17+S17 -> 7555.6 | U17: =VLOOKUP(A17,'[1]16'!B:W,22,0) -> 9700 | V17: 0 | W17: =U17+V17 -> 9700 | X17: =W17-T17 -> 2144.4 | Y17: =VLOOKUP(A17,'[1]16'!B:AK,25,0) -> 2144.4 | Z17: =Y17+S17 -> 9700 | AB17: 9700 | AC17: =VLOOKUP(A17,'[1]16'!B:AL,30,0) -> 0 | AD17: =VLOOKUP(A17,'[1]16'!B:AK,31,1) -> 0 | AE17: =VLOOKUP(A17,'[1]16'!B:AK,32,1) -> 0 | AF17: =VLOOKUP(A17,'[1]16'!B:AL,33,1) -> 0 | AG17: 0 | AH17: 0 | AI17: 0 | AJ17: =SUM(AB17:AI17) -> 9700 | AK17: =AJ17-Z17 -> 0
A18: החלטת ממשלה 2025 - חינוך סביבתי (תמיכה ביוזמות בית ספריות) | B18: נוספות | C18: נוספות - חינוך והסברה | D18: לא באיו"ש | E18: סיוע לישובי הדרום | F18: 0 | G18: - | H18: - | I18: - | J18: - | K18: - | L18: - | M18: - | N18: 110333 | O18: =VLOOKUP(A18,'[1]ינואר עד יוני 2016'!A:F,6,0) -> 687962 | P18: 1037035 | Q18: =SUM(G18:P18)/1000-O18/1000 -> 1147.368 | R18: 2597886 | S18: =R18/1000 -> 2597.886 | T18: =Q18+S18 -> 3745.254 | U18: =VLOOKUP(A18,'[1]16'!B:W,22,0) -> 3800 | V18: 0 | W18: =U18+V18 -> 3800 | X18: =W18-T18 -> 54.746 | Y18: 0 | Z18: =Y18+S18 -> 2597.886 | AB18: 2597.886 | AC18: =VLOOKUP(A18,'[1]16'!B:AL,30,0) -> 0 | AD18: =VLOOKUP(A18,'[1]16'!B:AK,31,1) -> 0 | AE18: =VLOOKUP(A18,'[1]16'!B:AK,32,1) -> 0 | AF18: =VLOOKUP(A18,'[1]16'!B:AL,33,1) -> 0 | AG18: 0 | AH18: 0 | AI18: 0 | AJ18: =SUM(AB18:AI18) -> 2597.886 | AK18: =AJ18-Z18 -> 0
A19: החלטת ממשלה 2025 - טיפול במפגעי פסולת בניין על ידי פינוי ומחזור בדרום | B19: פיתוח | C19: פיתוח - תמיכות | D19: לא באיו"ש | E19: סיוע לישובי הדרום | F19: 0 | G19: - | H19: - | I19: - | J19: - | K19: - | L19: - | M19: - | N19: - | O19: =VLOOKUP(A19,'[1]ינואר עד יוני 2016'!A:F,6,0) -> 458484 | P19: 4524125 | Q19: =SUM(G19:P19)/1000-O19/1000 -> 4524.125 | R19: 5465875 | S19: =R19/1000 -> 5465.875 | T19: =Q19+S19 -> 9990 | U19: =VLOOKUP(A19,'[1]16'!B:W,22,0) -> 10000 | V19: 0 | W19: =U19+V19 -> 10000 | X19: =W19-T19 -> 10 | Y19: 0 | Z19: =Y19+S19 -> 5465.875 | AB19: 5465.875 | AC19: =VLOOKUP(A19,'[1]16'!B:AL,30,0) -> 0 | AD19: =VLOOKUP(A19,'[1]16'!B:AK,31,1) -> 0 | AE19: =VLOOKUP(A19,'[1]16'!B:AK,32,1) -> 0 | AF19: =VLOOKUP(A19,'[1]16'!B:AL,33,1) -> 0 | AG19: 0 | AH19: 0 | AI19: 0 | AJ19: =SUM(AB19:AI19) -> 5465.875 | AK19: =AJ19-Z19 -> 0
A20: הטמעת שיח של ניהול חומרים מקיים | B20: פיתוח | C20: פיתוח - רכש | D20: לא באיו"ש | E20: פרוייקטים שונים | F20: 0 | G20: - | H20: - | I20: - | J20: - | K20: - | L20: 136789 | M20: - | N20: 274465.75 | P20: - | Q20: =SUM(G20:P20)/1000-O20/1000 -> 411.25475 | R20: 632655.25 | S20: =R20/1000 -> 632.65525 | T20: =Q20+S20 -> 1043.91 | U20: =VLOOKUP(A20,'[1]16'!B:W,22,0) -> 1050 | V20: 0 | W20: =U20+V20 -> 1050 | X20: =W20-T20 -> 6.09 | Y20: 0 | Z20: =Y20+S20 -> 632.65525 | AB20: 632.65525 | AC20: =VLOOKUP(A20,'[1]16'!B:AL,30,0) -> 0 | AD20: =VLOOKUP(A20,'[1]16'!B:AK,31,1) -> 0 | AE20: =VLOOKUP(A20,'[1]16'!B:AK,32,1) -> 0 | AF20: =VLOOKUP(A20,'[1]16'!B:AL,33,1) -> 0 | AG20: 0 | AH20: 0 | AI20: 0 | AJ20: =SUM(AB20:AI20) -> 632.65525 | AK20: =AJ20-Z20 -> 0
A21: הכנת תקן לחומרי בנייה | B21: פיתוח | C21: פיתוח - רכש | D21: לא באיו"ש | E21: פרוייקטים שונים | F21: 0 | G21: - | H21: - | I21: - | J21: - | K21: - | L21: 106470 | M21: 322199 | N21: - | P21: - | Q21: =SUM(G21:P21)/1000-O21/1000 -> 428.669 | R21: 0 | S21: 0 | T21: =Q21+S21 -> 428.669 | U21: =VLOOKUP(A21,'[1]16'!B:W,22,0) -> 428.67608 | V21: 0 | W21: =U21+V21 -> 428.67608 | X21: =W21-T21 -> 0.00708 | Y21: 0 | Z21: =Y21+S21 -> 0 | AB21: 0 | AC21: =VLOOKUP(A21,'[1]16'!B:AL,30,0) -> 0 | AD21: =VLOOKUP(A21,'[1]16'!B:AK,31,1) -> 0 | AE21: =VLOOKUP(A21,'[1]16'!B:AK,32,1) -> 0 | AF21: =VLOOKUP(A21,'[1]16'!B:AL,33,1) -> 0 | AG21: 0 | AH21: 0 | AI21: 0 | AJ21: =SUM(AB21:AI21) -> 0 | AK21: =AJ21-Z21 -> 0
A22: הסברה במגזר הערבי | B22: נוספות | C22: נוספות - חינוך והסברה | D22: לא באיו"ש | E22: הסברה | F22: 0 | G22: - | H22: - | I22: - | J22: - | K22: - | L22: - | M22: 7599.2 | N22: 165441.47 | P22: 101655.45 | Q22: =SUM(G22:P22)/1000-O22/1000 -> 274.69612 | R22: 725303.88 | S22: =R22/1000 -> 725.30388 | T22: =Q22+S22 -> 1000 | U22: =VLOOKUP(A22,'[1]16'!B:W,22,0) -> 1000 | V22: 0 | W22: =U22+V22 -> 1000 | X22: =W22-T22 -> 0 | Y22: 0 | Z22: =Y22+S22 -> 725.30388 | AB22: 725.30388 | AC22: =VLOOKUP(A22,'[1]16'!B:AL,30,0) -> 0 | AD22: =VLOOKUP(A22,'[1]16'!B:AK,31,1) -> 0 | AE22: =VLOOKUP(A22,'[1]16'!B:AK,32,1) -> 0 | AF22: =VLOOKUP(A22,'[1]16'!B:AL,33,1) -> 0 | AG22: 0 | AH22: 0 | AI22: 0 | AJ22: =SUM(AB22:AI22) -> 725.30388 | AK22: =AJ22-Z22 -> 0
A23: הסברה מפרץ חיפה | B23: נוספות | C23: נוספות - חינוך והסברה | D23: לא באיו"ש | E23: הסברה | F23: 0 | G23: - | H23: - | I23: - | J23: - | K23: - | L23: - | M23: - | N23: - | P23: 786125.11 | Q23: =SUM(G23:P23)/1000-O23/1000 -> 786.12511 | R23: 413874.89 | S23: =R23/1000 -> 413.87489 | T23: =Q23+S23 -> 1200 | U23: =VLOOKUP(A23,'[1]16'!B:W,22,0) -> 1200 | V23: 0 | W23: =U23+V23 -> 1200 | X23: =W23-T23 -> 0 | Y23: 0 | Z23: =Y23+S23 -> 413.87489 | AB23: 413.87489 | AC23: =VLOOKUP(A23,'[1]16'!B:AL,30,0) -> 0 | AD23: =VLOOKUP(A23,'[1]16'!B:AK,31,1) -> 0 | AE23: =VLOOKUP(A23,'[1]16'!B:AK,32,1) -> 0 | AF23: =VLOOKUP(A23,'[1]16'!B:AL,33,1) -> 0 | AG23: 0 | AH23: 0 | AI23: 0 | AJ23: =SUM(AB23:AI23) -> 413.87489 | AK23: =AJ23-Z23 -> 0
A24: הסדרת שוק הפסולת במגזר הבדואי | B24: נוספות | C24: נוספות - מגזרים מוחלשים | D24: לא באיו"ש | E24: בדואים | F24: 0 | G24: - | H24: - | I24: - | J24: - | K24: - | L24: - | M24: 3452495 | N24: 7601344.3 | O24: =VLOOKUP(A24,'[1]ינואר עד יוני 2016'!A:F,6,0) -> 2576949 | P24: 6877978 | Q24: =SUM(G24:P24)/1000-O24/1000 -> 17931.817 | R24: 22772725 | S24: =R24/1000 -> 22772.725 | T24: =Q24+S24 -> 40704.542 | U24: =VLOOKUP(A24,'[1]16'!B:W,22,0) -> 51415 | V24: 0 | W24: =U24+V24 -> 51415 | X24: =W24-T24 -> 10710.458 | Y24: 10710 | Z24: =Y24+S24 -> 33482.725 | AB24: 33482.725 | AC24: =VLOOKUP(A24,'[1]16'!B:AL,30,0) -> 0 | AD24: =VLOOKUP(A24,'[1]16'!B:AK,31,1) -> 0 | AE24: =VLOOKUP(A24,'[1]16'!B:AK,32,1) -> 0 | AF24: =VLOOKUP(A24,'[1]16'!B:AL,33,1) -> 0 | AG24: 0 | AH24: 0 | AI24: 0 | AJ24: =SUM(AB24:AI24) -> 33482.725 | AK24: =AJ24-Z24 -> 0
A25: הסוכה הירוקה בבית הנשיא | B25: פיתוח | C25: פיתוח - רכש | D25: לא באיו"ש | E25: חינוך | F25: 0 | G25: - | H25: - | I25: - | J25: - | K25: - | L25: - | M25: 326748.86 | N25: - | P25: - | Q25: =SUM(G25:P25)/1000-O25/1000 -> 326.74886 | R25: 5076.31 | S25: =R25/1000 -> 5.07631 | T25: =Q25+S25 -> 331.82517 | U25: =VLOOKUP(A25,'[1]16'!B:W,22,0) -> 300 | V25: 0 | W25: =U25+V25 -> 300 | X25: =W25-T25 -> -31.82517 | Y25: 0 | Z25: =Y25+S25 -> 5.07631 | AB25: 5.07631 | AC25: =VLOOKUP(A25,'[1]16'!B:AL,30,0) -> 0 | AD25: =VLOOKUP(A25,'[1]16'!B:AK,31,1) -> 0 | AE25: =VLOOKUP(A25,'[1]16'!B:AK,32,1) -> 0 | AF25: =VLOOKUP(A25,'[1]16'!B:AL,33,1) -> 0 | AG25: 0 | AH25: 0 | AI25: 0 | AJ25: =SUM(AB25:AI25) -> 5.07631 | AK25: =AJ25-Z25 -> 0
A26: הסמכת גני ילדים | B26: פיתוח | C26: פיתוח - רכש | D26: לא באיו"ש | E26: חינוך | F26: 0 | G26: - | H26: - | I26: - | J26: - | K26: - | L26: 10036.37 | M26: 48412.36 | N26: 1888 | O26: =VLOOKUP(A26,'[1]ינואר עד יוני 2016'!A:F,6,0) -> 2527.2 | P26: 2527.2 | Q26: =SUM(G26:P26)/1000-O26/1000 -> 62.86393 | R26: 3505.37 | S26: =R26/1000 -> 3.50537 | T26: =Q26+S26 -> 66.3693 | U26: =VLOOKUP(A26,'[1]16'!B:W,22,0) -> 1000 | V26: 0 | W26: =U26+V26 -> 1000 | X26: =W26-T26 -> 933.6307 | Y26: 0 | Z26: =Y26+S26 -> 3.50537 | AB26: 3.50537 | AC26: =VLOOKUP(A26,'[1]16'!B:AL,30,0) -> 0 | AD26: =VLOOKUP(A26,'[1]16'!B:AK,31,1) -> 0 | AE26: =VLOOKUP(A26,'[1]16'!B:AK,32,1) -> 0 | AF26: =VLOOKUP(A26,'[1]16'!B:AL,33,1) -> 0 | AG26: 0 | AH26: 0 | AI26: 0 | AJ26: =SUM(AB26:AI26) -> 3.50537 | AK26: =AJ26-Z26 -> 0
A27: הסמכת שבט/סניף/מעוז ירוק בתנועות נוער | B27: פיתוח | C27: פיתוח - רכש | D27: לא באיו"ש | E27: חינוך | F27: 0 | G27: - | H27: - | I27: - | J27: - | K27: - | L27: 500000 | M27: 505440 | N27: 1000000 | P27: - | Q27: =SUM(G27:P27)/1000-O27/1000 -> 2005.44 | R27: 0 | S27: 0 | T27: =Q27+S27 -> 2005.44 | U27: =VLOOKUP(A27,'[1]16'!B:W,22,0) -> 2000 | V27: 0 | W27: =U27+V27 -> 2000 | X27: =W27-T27 -> -5.44 | Y27: 0 | Z27: =Y27+S27 -> 0 | AB27: 0 | AC27: =VLOOKUP(A27,'[1]16'!B:AL,30,0) -> 0 | AD27: =VLOOKUP(A27,'[1]16'!B:AK,31,1) -> 0 | AE27: =VLOOKUP(A27,'[1]16'!B:AK,32,1) -> 0 | AF27: =VLOOKUP(A27,'[1]16'!B:AL,33,1) -> 0 | AG27: 0 | AH27: 0 | AI27: 0 | AJ27: =SUM(AB27:AI27) -> 0 | AK27: =AJ27-Z27 -> 0
A28: הסרת גגות אסבסט צמנט עוטף עזה | B28: נוספות | C28: נוספות - אסבסט | D28: לא באיו"ש | E28: טיפול באסבסט | F28: 0 | G28: - | H28: - | I28: - | J28: - | K28: - | L28: - | M28: - | N28: - | P28: 2640853.7 | Q28: =SUM(G28:P28)/1000-O28/1000 -> 2640.8537 | R28: 4859145.3 | S28: =R28/1000 -> 4859.1453 | T28: =Q28+S28 -> 7499.999 | U28: =VLOOKUP(A28,'[1]16'!B:W,22,0) -> 7500 | V28: 0 | W28: =U28+V28 -> 7500 | X28: =W28-T28 -> 0.001 | Y28: 0 | Z28: =Y28+S28 -> 4859.1453 | AB28: 4859 | AC28: =VLOOKUP(A28,'[1]16'!B:AL,30,0) -> 0 | AD28: =VLOOKUP(A28,'[1]16'!B:AK,31,1) -> 0 | AE28: =VLOOKUP(A28,'[1]16'!B:AK,32,1) -> 0 | AF28: =VLOOKUP(A28,'[1]16'!B:AL,33,1) -> 0 | AG28: 0 | AH28: 0 | AI28: 0 | AJ28: =SUM(AB28:AI28) -> 4859 | AK28: =AJ28-Z28 -> -0.14534
A29: העברה למשרד הביטחון - הסברה והצבת תשתיות למיחזור (כולל פרוייקטור) | B29: פיתוח | C29: פיתוח - רכש | D29: לא באיו"ש | E29: פרוייקטים שונים | F29: 0 | G29: - | H29: - | I29: - | J29: 250000 | K29: - | L29: - | M29: - | N29: - | P29: - | Q29: =SUM(G29:P29)/1000-O29/1000 -> 250 | R29: 0 | S29: 0 | T29: =Q29+S29 -> 250 | U29: =VLOOKUP(A29,'[1]16'!B:W,22,0) -> 250 | V29: 0 | W29: =U29+V29 -> 250 | X29: =W29-T29 -> 0 | Y29: 0 | Z29: =Y29+S29 -> 0 | AB29: 0 | AC29: =VLOOKUP(A29,'[1]16'!B:AL,30,0) -> 0 | AD29: =VLOOKUP(A29,'[1]16'!B:AK,31,1) -> 0 | AE29: =VLOOKUP(A29,'[1]16'!B:AK,32,1) -> 0 | AF29: =VLOOKUP(A29,'[1]16'!B:AL,33,1) -> 0 | AG29: 0 | AH29: 0 | AI29: 0 | AJ29: =SUM(AB29:AI29) -> 0 | AK29: =AJ29-Z29 -> 0
A30: העברה לרט"ג - הקמת מרכזי הפרדה ומיון בשמורות טבע וגנים לאומיים | B30: פיתוח | C30: פיתוח - רכש | D30: לא באיו"ש | E30: פרוייקטים שונים | F30: 0 | G30: - | H30: - | I30: - | J30: 934000 | K30: - | L30: - | M30: - | N30: - | P30: - | Q30: =SUM(G30:P30)/1000-O30/1000 -> 934 | R30: 0 | S30: 0 | T30: =Q30+S30 -> 934 | U30: =VLOOKUP(A30,'[1]16'!B:W,22,0) -> 934 | V30: 0 | W30: =U30+V30 -> 934 | X30: =W30-T30 -> 0 | Y30: 0 | Z30: =Y30+S30 -> 0 | AB30: 0 | AC30: =VLOOKUP(A30,'[1]16'!B:AL,30,0) -> 0 | AD30: =VLOOKUP(A30,'[1]16'!B:AK,31,1) -> 0 | AE30: =VLOOKUP(A30,'[1]16'!B:AK,32,1) -> 0 | AF30: =VLOOKUP(A30,'[1]16'!B:AL,33,1) -> 0 | AG30: 0 | AH30: 0 | AI30: 0 | AJ30: =SUM(AB30:AI30) -> 0 | AK30: =AJ30-Z30 -> 0
A31: העסקת מתנדבי/ות שירות לאומי | B31: נוספות | C31: נוספות - חינוך והסברה | D31: לא באיו"ש | E31: פרוייקטים שונים | F31: 0 | G31: - | H31: - | I31: - | J31: - | K31: 16613.73 | L31: 635448.08 | M31: 80323.08 | N31: - | P31: - | Q31: =SUM(G31:P31)/1000-O31/1000 -> 732.38489 | R31: 7005.96 | S31: =R31/1000 -> 7.00596 | T31: =Q31+S31 -> 739.39085 | U31: =VLOOKUP(A31,'[1]16'!B:W,22,0) -> 748.35045 | V31: 0 | W31: =U31+V31 -> 748.35045 | X31: =W31-T31 -> 8.9596 | Y31: 0 | Z31: =Y31+S31 -> 7.00596 | AB31: 7 | AC31: =VLOOKUP(A31,'[1]16'!B:AL,30,0) -> 0 | AD31: =VLOOKUP(A31,'[1]16'!B:AK,31,1) -> 0 | AE31: =VLOOKUP(A31,'[1]16'!B:AK,32,1) -> 0 | AF31: =VLOOKUP(A31,'[1]16'!B:AL,33,1) -> 0 | AG31: 0 | AH31: 0 | AI31: 0 | AJ31: =SUM(AB31:AI31) -> 7 | AK31: =AJ31-Z31 -> -0.00596
A32: הפקת מערכי שיעור בנושא הפרדה לשני זרמים | B32: פיתוח | C32: פיתוח - רכש | D32: לא באיו"ש | E32: חינוך | F32: 0 | G32: - | H32: - | I32: - | J32: - | K32: - | L32: - | M32: 3220 | N32: - | P32: - | Q32: =SUM(G32:P32)/1000-O32/1000 -> 3.22 | R32: 0 | S32: 0 | T32: =Q32+S32 -> 3.22 | U32: =VLOOKUP(A32,'[1]16'!B:W,22,0) -> 125 | V32: 0 | W32: =U32+V32 -> 125 | X32: =W32-T32 -> 121.78 | Y32: 0 | Z32: =Y32+S32 -> 0 | AB32: 0 | AC32: =VLOOKUP(A32,'[1]16'!B:AL,30,0) -> 0 | AD32: =VLOOKUP(A32,'[1]16'!B:AK,31,1) -> 0 | AE32: =VLOOKUP(A32,'[1]16'!B:AK,32,1) -> 0 | AF32: =VLOOKUP(A32,'[1]16'!B:AL,33,1) -> 0 | AG32: 0 | AH32: 0 | AI32: 0 | AJ32: =SUM(AB32:AI32) -> 0 | AK32: =AJ32-Z32 -> 0
A33: הפרדה במקור רשויות אחרות | B33: פיתוח | C33: פיתוח - תמיכות | D33: לא באיו"ש | E33: הפרדה במקור | F33: 0 | G33: - | H33: - | I33: - | J33: - | K33: - | L33: - | M33: 1185736 | N33: 6568694 | O33: =VLOOKUP(A33,'[1]ינואר עד יוני 2016'!A:F,6,0) -> 5283689 | P33: 11717992 | Q33: =SUM(G33:P33)/1000-O33/1000 -> 19472.422 | R33: 122778081 | S33: =R33/1000 -> 122778.08 | T33: =Q33+S33 -> 142250.5 | U33: =VLOOKUP(A33,'[1]16'!B:W,22,0) -> 145000 | V33: 0 | W33: =U33+V33 -> 145000 | X33: =W33-T33 -> 2749.497 | Y33: 0 | Z33: =Y33+S33 -> 122778.08 | AB33: 122778 | AC33: 0 | AD33: 0 | AE33: =VLOOKUP(A33,'[1]16'!B:AK,32,1) -> 0 | AF33: =VLOOKUP(A33,'[1]16'!B:AL,33,1) -> 0 | AG33: 0 | AH33: 0 | AI33: 0 | AJ33: =SUM(AB33:AI33) -> 122778 | AK33: =AJ33-Z33 -> -0.081
A34: הפרדה במקור רשויות אחרות - איו"ש | B34: כללי | C34: כללי - אמצעים חלופיים להטמנה | D34: באיו"ש | E34: הפרדה במקור | F34: 0 | G34: - | H34: - | I34: - | J34: - | K34: - | L34: - | M34: 60884 | N34: 460258 | P34: - | Q34: =SUM(G34:P34)/1000-O34/1000 -> 521.142 | R34: 12492126 | S34: =R34/1000 -> 12492.126 | T34: =Q34+S34 -> 13013.268 | U34: =VLOOKUP(A34,'[1]16'!B:W,22,0) -> 15000 | V34: 0 | W34: =U34+V34 -> 15000 | X34: =W34-T34 -> 1986.732 | Y34: 0 | Z34: =Y34+S34 -> 12492.126 | AB34: 12492 | AC34: 0 | AD34: 0 | AE34: =VLOOKUP(A34,'[1]16'!B:AK,32,1) -> 0 | AF34: =VLOOKUP(A34,'[1]16'!B:AL,33,1) -> 0 | AG34: 0 | AH34: 0 | AI34: 0 | AJ34: =SUM(AB34:AI34) -> 12492 | AK34: =AJ34-Z34 -> -0.126
A35: הפרדה במקור רשויות מיקוד | B35: פיתוח | C35: פיתוח - תמיכות | D35: לא באיו"ש | E35: הפרדה במקור | F35: 0 | G35: - | H35: - | I35: - | J35: - | K35: 13318411 | L35: 54773520 | M35: 45702261 | N35: 45448721 | O35: =VLOOKUP(A35,'[1]ינואר עד יוני 2016'!A:F,6,0) -> 29702885 | P35: 31639983 | Q35: =SUM(G35:P35)/1000-O35/1000 -> 190882.9 | R35: 142809065 | S35: =R35/1000 -> 142809.07 | T35: =Q35+S35 -> 333691.96 | U35: =VLOOKUP(A35,'[1]16'!B:W,22,0) -> 333692 | V35: 0 | W35: =U35+V35 -> 333692 | X35: =W35-T35 -> 0.043 | Y35: 0 | Z35: =Y35+S35 -> 142809.07 | AB35: 142809 | AC35: =VLOOKUP(A35,'[1]16'!B:AL,30,0) -> 0 | AD35: =VLOOKUP(A35,'[1]16'!B:AK,31,1) -> 0 | AE35: =VLOOKUP(A35,'[1]16'!B:AK,32,1) -> 0 | AF35: =VLOOKUP(A35,'[1]16'!B:AL,33,1) -> 0 | AG35: 0 | AH35: 0 | AI35: 0 | AJ35: =SUM(AB35:AI35) -> 142809 | AK35: =AJ35-Z35 -> -0.065
A36: הפרדה במקור רשיויות מיקוד - איו"ש | B36: כללי | C36: כללי - אמצעים חלופיים להטמנה | D36: באיו"ש | E36: הפרדה במקור | F36: 0 | G36: - | H36: - | I36: - | J36: - | K36: 133367 | L36: 782779 | M36: 939052 | N36: 255299 | P36: - | Q36: =SUM(G36:P36)/1000-O36/1000 -> 2110.497 | R36: 2179414 | S36: =R36/1000 -> 2179.414 | T36: =Q36+S36 -> 4289.911 | U36: =VLOOKUP(A36,'[1]16'!B:W,22,0) -> 4289.911 | V36: 0 | W36: =U36+V36 -> 4289.911 | X36: =W36-T36 -> 0 | Y36: 0 | Z36: =Y36+S36 -> 2179.414 | AB36: 2179 | AC36: =VLOOKUP(A36,'[1]16'!B:AL,30,0) -> 0 | AD36: =VLOOKUP(A36,'[1]16'!B:AK,31,1) -> 0 | AE36: =VLOOKUP(A36,'[1]16'!B:AK,32,1) -> 0 | AF36: =VLOOKUP(A36,'[1]16'!B:AL,33,1) -> 0 | AG36: 0 | AH36: 0 | AI36: 0 | AJ36: =SUM(AB36:AI36) -> 2179 | AK36: =AJ36-Z36 -> -0.414
A37: הקמת יחידת דוד לפיקוח על מעברי איו"ש | B37: כללי | C37: כללי - אכיפה ופיקוח | D37: באיו"ש | E37: פרוייקטים שונים | F37: 0 | G37: - | H37: - | I37: - | J37: - | K37: - | L37: - | M37: 5078027.8 | N37: 4161745.8 | O37: =VLOOKUP(A37,'[1]ינואר עד יוני 2016'!A:F,6,0) -> 924000 | P37: 3714339.8 | Q37: =SUM(G37:P37)/1000-O37/1000 -> 12954.113 | R37: 721198.6 | S37: =R37/1000 -> 721.1986 | T37: =Q37+S37 -> 13675.312 | U37: =VLOOKUP(A37,'[1]16'!B:W,22,0) -> 32200 | V37: 0 | W37: =U37+V37 -> 32200 | X37: =W37-T37 -> 18524.688 | Y37: =VLOOKUP(A37,'[1]16'!B:AK,25,0) -> 18543.028 | Z37: =Y37+S37 -> 19264.226 | AB37: =5500+3164 -> 8664 | AC37: 5300 | AD37: 5300 | AE37: =VLOOKUP(A37,'[1]16'!B:AK,32,1) -> 0 | AF37: =VLOOKUP(A37,'[1]16'!B:AL,33,1) -> 0 | AG37: 0 | AH37: 0 | AI37: 0 | AJ37: =SUM(AB37:AI37) -> 19264 | AK37: =AJ37-Z37 -> -0.22645
A38: הקמת מרכזי מחקר "פסולת למשאב" | B38: פיתוח | C38: פיתוח - רכש | D38: לא באיו"ש | E38: הקמת מרכז מחקר מפסולת למשאב | F38: 0 | G38: - | H38: - | I38: - | J38: - | K38: - | L38: - | M38: 2124 | N38: - | P38: - | Q38: =SUM(G38:P38)/1000-O38/1000 -> 2.124 | R38: 0 | S38: 0 | T38: =Q38+S38 -> 2.124 | U38: =VLOOKUP(A38,'[1]16'!B:W,22,0) -> 40000 | V38: 0 | W38: =U38+V38 -> 40000 | X38: =W38-T38 -> 39997.876 | Y38: =VLOOKUP(A38,'[1]16'!B:AK,25,0) -> 39997.876 | Z38: =Y38+S38 -> 39997.876 | AB38: 8000 | AC38: =VLOOKUP(A38,'[1]16'!B:AL,30,0) -> 8000 | AD38: =VLOOKUP(A38,'[1]16'!B:AK,31,1) -> 8000 | AE38: =VLOOKUP(A38,'[1]16'!B:AK,32,1) -> 8000 | AF38: 7998 | AG38: 0 | AH38: 0 | AI38: 0 | AJ38: =SUM(AB38:AI38) -> 39998 | AK38: =AJ38-Z38 -> 0.124
A39: הקמת מרכזי קיימות שכונתיים | B39: נוספות | C39: נוספות - חינוך והסברה | D39: לא באיו"ש | E39: חינוך | F39: 0 | G39: - | H39: - | I39: - | J39: - | K39: - | L39: 87000 | M39: 663000 | N39: 750000 | P39: - | Q39: =SUM(G39:P39)/1000-O39/1000 -> 1500 | R39: 0 | S39: 0 | T39: =Q39+S39 -> 1500 | U39: =VLOOKUP(A39,'[1]16'!B:W,22,0) -> 1500 | V39: 0 | W39: =U39+V39 -> 1500 | X39: =W39-T39 -> 0 | Y39: 0 | Z39: =Y39+S39 -> 0 | AB39: 0 | AC39: =VLOOKUP(A39,'[1]16'!B:AL,30,0) -> 0 | AD39: =VLOOKUP(A39,'[1]16'!B:AK,31,1) -> 0 | AE39: =VLOOKUP(A39,'[1]16'!B:AK,32,1) -> 0 | AF39: =VLOOKUP(A39,'[1]16'!B:AL,33,1) -> 0 | AG39: 0 | AH39: 0 | AI39: 0 | AJ39: =SUM(AB39:AI39) -> 0 | AK39: =AJ39-Z39 -> 0
A40: הקמת מתקני מיון ושדרוגם | B40: פיתוח | C40: פיתוח - תמיכות | D40: לא באיו"ש | E40: מתקני קצה | F40: 0 | G40: - | H40: - | I40: - | J40: - | K40: 252968 | L40: 4920978 | M40: 8800876 | N40: 5291123 | O40: =VLOOKUP(A40,'[1]ינואר עד יוני 2016'!A:F,6,0) -> 2617885.9 | P40: 2617885.9 | Q40: =SUM(G40:P40)/1000-O40/1000 -> 21883.831 | R40: 96546976 | S40: =R40/1000 -> 96546.977 | T40: =Q40+S40 -> 118430.81 | U40: =VLOOKUP(A40,'[1]16'!B:W,22,0) -> 145933.39 | V40: 0 | W40: =U40+V40 -> 145933.39 | X40: =W40-T40 -> 27502.584 | Y40: 0 | Z40: =Y40+S40 -> 96546.977 | AC40: =VLOOKUP(A40,'[1]16'!B:AL,30,0) -> 42634 | AD40: 39540 | AE40: =VLOOKUP(A40,'[1]16'!B:AK,32,1) -> 14373 | AF40: =VLOOKUP(A40,'[1]16'!B:AL,33,1) -> 0 | AG40: 0 | AH40: 0 | AI40: 0 | AJ40: =SUM(AB40:AI40) -> 96547 | AK40: =AJ40-Z40 -> 0.0235 | AL40: לא התקבל תזרים ממירב
A41: הקמת מתקני מיון ושדרוגם - איו"ש | B41: כללי | C41: כללי - אמצעים חלופיים להטמנה | D41: באיו"ש | E41: מתקני קצה | F41: 0 | G41: - | H41: - | I41: - | J41: - | K41: - | L41: - | M41: - | N41: - | P41: - | Q41: =SUM(G41:P41)/1000-O41/1000 -> 0 | R41: 3600000 | S41: =R41/1000 -> 3600 | T41: =Q41+S41 -> 3600 | U41: =VLOOKUP(A41,'[1]16'!B:W,22,0) -> 3600 | V41: 0 | W41: =U41+V41 -> 3600 | X41: =W41-T41 -> 0 | Y41: 0 | Z41: =Y41+S41 -> 3600 | AC41: =VLOOKUP(A41,'[1]16'!B:AL,30,0) -> 1800 | AD41: 1800 | AE41: =VLOOKUP(A41,'[1]16'!B:AK,32,1) -> 0 | AF41: =VLOOKUP(A41,'[1]16'!B:AL,33,1) -> 0 | AG41: 0 | AH41: 0 | AI41: 0 | AJ41: =SUM(AB41:AI41) -> 3600 | AK41: =AJ41-Z41 -> 0
A42: הקמת מתקני קצה ומיון קו"ק שני - 2012 | B42: פיתוח | C42: פיתוח - תמיכות | D42: לא באיו"ש | E42: מתקני קצה | F42: 0 | G42: - | H42: - | I42: - | J42: - | K42: - | L42: - | M42: 483810 | N42: 5942582 | P42: - | Q42: =SUM(G42:P42)/1000-O42/1000 -> 6426.392 | R42: 76119530 | S42: =R42/1000 -> 76119.53 | T42: =Q42+S42 -> 82545.922 | U42: =VLOOKUP(A42,'[1]16'!B:W,22,0) -> 82545.922 | V42: 0 | W42: =U42+V42 -> 82545.922 | X42: =W42-T42 -> 0 | Y42: 0 | Z42: =Y42+S42 -> 76119.53 | AC42: =VLOOKUP(A42,'[1]16'!B:AL,30,0) -> 21682 | AD42: 51121 | AE42: =VLOOKUP(A42,'[1]16'!B:AK,32,1) -> 3317 | AF42: =VLOOKUP(A42,'[1]16'!B:AL,33,1) -> 0 | AG42: 0 | AH42: 0 | AI42: 0 | AJ42: =SUM(AB42:AI42) -> 76120 | AK42: =AJ42-Z42 -> 0.47
...

Sheet פרוייקטי הקרן לשמירת הניקיון
B16: פרויקט | C16: סך תקציב הפרוייקט
A17: 1 | B17: הפרדה במקור | C17: 493245.64
A18: 2 | B18: פרוייקט PPP | C18: 432000
A19: 3 | B19: מודל תמרוץ | C19: 380000
A20: 4 | B20: מתקני קצה | C20: 377133.51
A21: 5 | B21: סביבה שווה | C21: 300722
A22: 6 | B22: פריפריה | C22: 250000
A23: 7 | B23: טיפול באסבסט | C23: 178672
A24: 8 | B24: חינוך | C24: 162914.97
A25: 9 | B25: פסולת בניין | C25: 109968
A26: 10 | B26: הסברה | C26: 66637.192
A27: 11 | B27: בדואים | C27: 57725.402
A28: 12 | B28: הקמת מרכז מחקר מפסולת למשאב | C28: 40000
... A31: 15 | B31: פרוייקטורים ויועצים | C31: 34729.534
A32: 16
A33: 17
A34: 18 | B34: פרוייקטים שונים | C34: 144344.53
A35: 19 | B35: תמיכות 2008-2009 | C35: 143490.69
A36: 20 | B36: ניקוי הקישון | C36: 36000
A37: 21 | B37: שיקום פארק אריאל שרון | C37: 24750
A38: 22 | B38: שכר | C38: 22380.389
A39: 23 | B39: מערכות מיחשוב תומכות | C39: 21758.408
A40: 24 | B40: שיקום אתר רתמים | C40: 21000
A41: 25 | B41: פסולת חקלאית | C41: 20000
A42: 26 | B42: רזרבה | C42: 20000
A43: 27 | B43: תמיכות שונות | C43: 14390.172
A44: 28 | B44: סקרים ומחקרים | C44: 14156.746
A45: 29 | B45: ניקוי גדות נחלים באמצעות מיחזור | C45: 10500
... A50: 34 | B50: נסיעות לחו"ל | C50: 122.24136
A51: 16 | B51: פרוייקטים נוספים | C51: =SUM(C34:C50) -> 508552.98
B53: סכום כולל | C53: =SUM(C17:C50) -> 3461201.6

Sheet 1
A1: 1 הפרדה במקור
B3: קול קורא | C3: שם הרשות | D3: סך התחיבויות | E3: תשלומים 2012-2015 | F3: תשלום ינואר - יוני 2016 | G3: תשלומים ינואר - דצמבר 2016
A4: 4 | B4: 30/10 | C4: באר שבע | D4: 66226057 | E4: 22469592 | F4: 994381 | G4: 994381
A5: 2 | B5: 30/10 | C5: אשדוד | D5: 54694821 | E5: 21452848 | F5: 18151993 | G5: 18151993
A6: 37 | B6: 34/12 | C6: פתח תקוה | D6: 36288364 | E6: 0 | F6: 0 | G6: 0
A7: 3 | B7: 30/10 | C7: אשקלון | D7: 28456295 | E7: 2859332 | F7: 0 | G7: 0
A8: 33 | B8: 34/12 | C8: בת-ים | D8: 23908125 | E8: 0 | F8: 0 | G8: 0
A9: 16 | B9: 30/10 | C9: רמלה | D9: 18152666 | E9: 12720086 | F9: 1243159 | G9: 1243159
A10: 7 | B10: 30/10 | C10: חדרה | D10: 17922525 | E10: 5087535 | F10: 853148 | G10: 853148
A11: 9 | B11: 30/10 | C11: כפר סבא | D11: 13391517 | E11: 10578810 | F11: 0 | G11: 668710
A12: 30 | B12: 30/10 | C12: מודיעין-מכבים-רעות | D12: 11567996 | E12: 5001991 | F12: 3315396 | G12: 3315396
A13: 43 | B13: 34/12 | C13: מ. א. מטה בנימין | D13: 11302974 | E13: 0 | F13: 0 | G13: 0
A14: 5 | B14: 34/12 | C14: דימונה | D14: 10581437 | E14: 5503101 | F14: 590828 | G14: 590828
A15: 32 | B15: 34/12 | C15: אילת | D15: 10264100 | E15: 0 | F15: 0 | G15: 0
... A56: 50 | B56: 34/12 | C56: מ. מ. הר-אדר | D56: 436728 | E56: 0 | F56: 0 | G56: 0
C58: סה"כ | D58: 493143908 | E58: 169628982 | F58: 34986574 | G58: 43357975

Sheet 4
A1: 4 מתקני קצה ומיון
A4: מחוז | B4: סוג המתקן | C4: ק"ק | D4: שם היזם | E4: מספר התחייבות | F4: סך ההתחייבות
A5: צפון | B5: קומפוסטציה פתוחה | C5: 31 | D5: ס.ד.מ לסביבה בע"מ | E5: 1000327292 | F5: 1775000
A6: צפון | B6: מתקן עיכול אנאירובי | C6: 31 | D6: עברון תממ מחזור זימון לשימוע לפני ביטול(ועדה 28.6.2016) | E6: 1000324349 | F6: 17200000
A7: מרכז | B7: מתקן עיכול אנאירובי | C7: 31 | D7: טמבור חפר | E7: 1000324510 | F7: 5336600
A8: מרכז | B8: מתקן עיכול אנאירובי | C8: 31 | D8: יוניברב פאוור - עמנואל זימון לשימוע לפני ביטול(ועדה 28.6.2016) | E8: 1000327033 | F8: 9960000
A9: דרום | B9: קומפוסטציה פתוחה | C9: 31 | D9: חיון אקולוגיה זימון לשימוע לפני ביטול(ועדה 28.6.2016) | E9: 1000327046 | F9: 1775000
A10: צפון | B10: מתקן עיכול אנאירובי | C10: 31 | D10: אקו אנרגיה גולן | E10: 1000396808 | F10: 6385350
A11: דרום | B11: מתקן עיכול אנאירובי | C11: 31 | D11: י.ר.א.ב שרותי נוי 1985 זימון לשימוע לפני ביטול(ועדה 18.1.16) | E11: 1000324511 | F11: 17200000
A12: דרום | B12: מתקן עיכול אנאירובי | C12: 31 | D12: עיריית אילת זימון לשימוע לפני ביטול | E12: 1000402682 | F12: 12818000
A13: מחוז | B13: סוג המתקן | C13: ק"ק | D13: שם היזם | E13: מספר התחייבות | F13: סך ההתחייבות
A14: צפון | B14: תחנת מיון | C14: 32 | D14: א.נ. מרכז מיחזור | E14: 1000327290 | F14: 5059350
A15: ירושלים | B15: תחנת מיון | C15: 32 | D15: גרין נט | E15: 1000325958 | F15: 17601750
A16: דרום | B16: תחנת מיון | C16: 32 | D16: מ.א. בני שמעון | E16: 1000326161 | F16: 29533000
A17: דרום | B17: תחנת מיון | C17: 32 | D17: עיריית אשדוד התראה לפני ביטול התחייבות אלא אם יפורסם מכרז עד ה1.4.16 (ועדה 18.1.16) | E17: 1000326162 | F17: 16081308
A18: צפון | B18: תחנת מיון | C18: 32 | D18: עיריית עפולה זימון לשימוע לפני ביטול | E18: 1000326160 | F18: 10689750
A19: צפון | B19: תחנת מיון | C19: 32 | D19: עברון תממ מחזור זימון לשימוע לפני ביטול(ועדה 28.6.2016) | E19: 1000326127 | F19: 20250000
A20: מרכז | B20: תחנת מיון | C20: 32 | D20: יוניברב פאוור - עמנואל זימון לשימוע לפני ביטול(ועדה 28.6.2016) | E20: 1000327279 | F20: 3600000
A21: דרום | B21: תחנת מיון | C21: 32 | D21: ש.י.א. אשקלון זימון לשימוע לפני ביטול(ועדה 28.6.2016) | E21: 1000326128 | F21: 13263750
A22: דרום | B22: תחנת מיון | C22: 32 | D22: עיריית אילת זימון לשימוע לפני ביטול | E22: 1000402814 | F22: 6000000
A23: מחוז | B23: סוג המתקן | C23: ק"ק | D23: שם היזם | E23: מספר התחייבות | F23: סך ההתחייבות | AM23: כמות (טון/יום)
A24: צפון | B24: מתקן עיכול אנאירובי | C24: 33 | D24: אתר טליה אחזקות זימון לשימוע לפני ביטול(ועדה 28.6.2016) | E24: 1000437477 | F24: 21260000 | AM24: 204
A25: מרכז | B25: מתקן עיכול אנאירובי | C25: 33 | D25: קומפוסטאור בע"מ זימון לשימוע לפני ביטול(ועדה 18.1.16) | E25: 1000443651 | F25: 20833440 | AM25: 200
A26: תל אביב | B26: מתקן עיכול אנאירובי | C26: 33 | D26: חץ אקולוגיה | E26: 1000439005 | F26: 7768522 | AM26: 201
A27: ירושלים | B27: מתקן עיכול אנאירובי | C27: 33 | D27: גרין נט תקשורת בע"מ זומנו לשימוע לפני ביטול | E27: 1000437107 | F27: 25000000 | AM27: 340
A28: ירושלים | B28: מתקן עיכול אנאירובי | C28: 33 | D28: מעלה אדומים, חברה לתכנון ופיתוח זימון לשימוע לפני ביטול(ועדה 28.6.2016) | E28: 1000443650 | F28: 25000000 | AM28: 202
A29: דרום | B29: מתקן עיכול אנאירובי | C29: 33 | D29: ש.י.א. אשקלון בע"מ זימון לשימוע לפני ביטול(ועדה 28.6.2016) | E29: 1000437106 | F29: 15248000 | AM29: 400

Sheet 5
A1: סביבה שווה- ניתוח תקציבי- התחייבויות 2016-2017 | K1: נכון לתאריך 28/5/17
A3: מס"ד | B3: שם מגיש הבקשה | C3: תיאור בקשה קצר | D3: סכום בקשה מאושר
A4: 1 | B4: עירית אום-אל-פחם | C4: הקמת תחנת מעבר ממיינת | D4: 12000000
C5: סה"כ פרק קידום ת"מ ממיינת באום אל פאחם | D5: 12000000
A6: 2 | B6: מ. מ. בוקעאתא | C6: עריכת תוכנית עבודה ייעודית ומכרזים, | D6: 400000
A7: 3 | B7: מ. מ. מזרעה | C7: עריכת תוכנית עבודה ייעודית ומכרזים, | D7: 480000
A8: 4 | B8: מ. מ. ינוח ג'ת | C8: עריכת תוכנית עבודה ייעודית ומכרזים, | D8: 560000
A9: 5 | B9: עירית טמרה | C9: עריכת תוכנית עבודה ייעודית ומכרזים, | D9: 560000
A10: 6 | B10: מ. מ. כאוכב אבו אלהיג'א | C10: עריכת תוכנית עבודה ייעודית ומכרזים, | D10: 720000
A11: 7 | B11: מ. מ. בסמת טבעון | C11: עריכת תוכנית עבודה ייעודית ומכרזים, | D11: 80000
A12: 8 | B12: מ. מ. סאג'ור | C12: עריכת תוכנית עבודה ייעודית ומכרזים, | D12: 80000
A13: 9 | B13: מ. מ. טובא-זנגריה | C13: עריכת תוכנית עבודה ייעודית ומכרזים, | D13: 80000
A14: 10 | B14: מ. מ. ג'יסר אל זרקא | C14: עריכת תוכנית עבודה ייעודית ומכרזים, | D14: 80000
A15: 11 | B15: מ. מ. בסמ"ה | C15: עריכת תוכנית עבודה ייעודית ומכרזים, | D15: 80000
A16: 12 | B16: מ. מ. ערערה | C16: עריכת תוכנית עבודה ייעודית ומכרזים, | D16: 80000
A17: 13 | B17: מ. מ. כפר קרע | C17: עריכת תוכנית עבודה ייעודית ומכרזים, | D17: 80000
... A19: 15 | B19: מ. מ. פוריידיס | C19: עריכת תוכנית עבודה ייעודית ומכרזים, | D19: 80000
C20: סה"כ פרק עריכת תוכנית עבודה ייעודית ומכרזים | D20: =SUM(D6:D19) -> 3440000
A21: 16 | B21: מ. מ. מג'אר | C21: ה.מ. 1496 משק הפסולת ערבי בדואי דרוזי | D21: 1641000
A22: 17 | B22: מ. מ. ביענה | C22: ה.מ. 1496 משק הפסולת ערבי בדואי דרוזי | D22: 696000
A23: 18 | B23: עירית אום-אל-פחם | C23: ה.מ. 1496 משק הפסולת בדואי ערבי דרוזי | D23: 3748000
A24: 19 | B24: מ.מ. באקה אל-גרבייה | C24: ה.מ. 1496 משק הפסולת בדואי ערבי דרוזי | D24: 2075000
A25: 20 | B25: עירית טייבה | C25: ה.מ. 1496 משק הפסולת בדואי ערבי דרוזי | D25: 2964000
A26: 21 | B26: עירית טמרה | C26: ה.מ. 1496 משק הפסולת בדואי ערבי דרוזי | D26: 2369000
A27: 22 | B27: עירית נצרת | C27: ה.מ. 1496 משק הפסולת בדואי ערבי דרוזי | D27: 5372000
A28: 23 | B28: עירית סח'נין | C28: ה.מ. 1496 משק הפסולת בדואי ערבי דרוזי | D28: 2152000
A29: 24 | B29: עירית שפרעם | C29: ה.מ. 1496 משק הפסולת בדואי ערבי דרוזי | D29: 2894000
A30: 25 | B30: מ. מ. אבו סנאן | C30: ה.מ. 1496 משק הפסולת בדואי ערבי דרוזי | D30: 1074000
A31: 26 | B31: מ. מ. איכסאל | C31: ה.מ. 1496 משק הפסולת בדואי ערבי דרוזי | D31: 1088000
A32: 27 | B32: מ. מ. איעבלין | C32: ה.מ. 1496 משק הפסולת בדואי ערבי דרוזי | D32: 1025000
... A91: 86 | B91: איגוד ערים המשולש הדרומי (איכות | C91: ה.מ. 1496 משק הפסולת בדואי ערבי דרוזי | D91: 6301000
C92: סה"כ פרק רכש כלי אצירה | D92: =SUM(D21:D91) -> 80893000
A93: 89 | B93: מ. א. בוסתאן אל-מרג' | C93: ה.מ. 1496 משק הפסולת בדואי ערבי דרוזי | D93: 1500000
A94: 90 | B94: מ. מ. ג'לג'וליה | C94: ה.מ. 1496 משק הפסולת בדואי ערבי דרוזי | D94: 1350000
A95: 91 | B95: מ. מ. זמר | C95: ה.מ. 1496 משק הפסולת בדואי ערבי דרוזי | D95: 1500000
A96: 92 | B96: מ. מ. איכסאל | C96: ה.מ. 1496 משק הפסולת בדואי ערבי דרוזי | D96: 1500000
A97: 93 | B97: מ. מ. איעבלין | C97: ה.מ. 1496 משק הפסולת בדואי ערבי דרוזי | D97: 1500000
A98: 94 | B98: מ. מ. כפר-ברא | C98: ה.מ. 1496 משק הפסולת בדואי ערבי דרוזי | D98: 1350000
A99: 95 | B99: מ. מ. אבו סנאן | C99: ה.מ. 1496 משק הפסולת בדואי ערבי דרוזי | D99: 1500000
A100: 96 | B100: מ. מ. בועיינה-נוג'יידאת | C100: ה.מ. 1496 משק הפסולת בדואי ערבי דרוזי | D100: 1500000
...

Sheet 6
A1: מצ"ב חלוקת התקציב לאשכולות
B3: קו"ק 1 | C3: קו"ק 2 | D3: סה"כ
A4: בית הכרם | B4: 15013422 | C4: =D4-B4 -> 34986578 | D4: =50000000 -> 50000000
A5: גליל מזרחי | B5: 34986578 | C5: =D5-B5 -> 15013422 | D5: =50000000 -> 50000000
A6: הגליל המערבי | B6: 0 | C6: =D6-B6 -> 50000000 | D6: =50000000 -> 50000000
A7: נגב המזרחי | B7: 50000000 | C7: =D7-B7 -> 0 | D7: =50000000 -> 50000000
A8: נגב המערבי | B8: 0 | C8: =D8-B8 -> 50000000 | D8: =50000000 -> 50000000
C9: סה"כ | D9: =SUM(D4:D8) -> 250000000
A12: מפת האשכולות במדינת ישראל כולל פירוט הרשויות מצ"ב כנספח

Sheet 7
B2: רב הכסף יצא בפרוייקט ניקוי הגליל המערבי מאסבסט, ו7.5 מלש"ח להחלפת גגות אסבסט בישובי עוטף עזה הרשויות שנהנו מהפרוייקט הינם:
B3: 1. נהריה
B4: 2. מטה אשר
B5: 3. מזרעה
B6: 4. מוא"ז אשכול
B7: 5. מוא"ז חוף אשקלון
B8: 6. מוא"ז שדות נגב
B9: 7. מוא"ז שער הנגב

Sheet 8
A1: 8 חינוך
A3: משימת תקציב | B3: ס"ה תקציב הפרוייט
A4: קול קורא רשויות (הטמעת אורח חיים מקיים) | B4: 31238.595
A5: מ. החינוך הטמעת קימות במוסדות חינוך | B5: 24904.82
A6: השתתפות במשרד החינוך | B6: 20888.091
A7: שיקום נחלים - תוכניות חינוכיות | B7: 17643
A8: פעולות אגף חינוך- העברה למשרד החינוך 2016 | B8: 9680
A9: פעולות אגף חינוך- קק רשויות מקומיות 2016 | B9: 8200
A10: תמיכות לרשויות חינוך קו"ק 2012 | B10: 7391.5904
A11: תמיכות לרשויות חינוך קו"ק עד 2011 | B11: 6167.5808
A12: פרוייקט כוכב הבית שלנו | B12: 5873.1112
A13: פעולות מקצועיות חינוך | B13: 5618.3346
A14: חינוך לקיימות מקומית | B14: 3588.6219
A15: מגזרים מוחלשים בתי ספר | B15: 2400
... A44: הפקת מערכי שיעור בנושא הפרדה לשני זרמים | B44: 3.22
B46: =SUM(B4:B45) -> 162914.97
A48: נספח התחייבוית שכבר נפתחו במערכת (ושולמו ברובם):
A49: ספק | B49: סכום
A50: 10000058 - משרד החינוך והתרבות,ראשי | B50: 64339091
A51: 41069442 - אל.סי.אי - חוויות משנות חיים בע"מ | B51: 2989110
A52: 40294654 - אור-פאן בע"מ | B52: 2884001.1
A53: 20000289 - רשות ניקוז ים המלח | B53: 1859970
A54: 20000351 - איגוד ערים איזור הגליל המערבי (א | B54: 1558487.4
A55: 40000195 - עמותת גוונים לפיתוח החינוך הקהילה ו | B55: 1500000
A56: 40000346 - החברה להגנת הטבע | B56: 1346915.1
A57: 10000021 - לשכת הפירסום הממשלתי | B57: 1267994.9
A58: 20000353 - איגוד ערים המשולש הדרומי (איכות | B58: 1260401.2
A59: 40001665 - מרכז השלטון המקומי בישראל | B59: 1155588.5
A60: 40001605 - טלדור מערכות מחשבים (1986) בע"מ | B60: 1149111.6
A61: 20000352 - איגוד ערים איזור אשדוד (איכות הס | B61: 1117344.3
... A522: (סה"כ) | B522: 1.4301016e+08
A524: Selection Status:
A525: נושא משימת תקציב: חינוך
B527: =B522/1000 -> 143010.16
A528: הוקצה ועדיין לא נפתחה התחייבות/בוצעה העברה | B528: =B527-B46 -> -19904.812

Sheet 9
A1: 11 פסולת בניין
A3: משימת תקציב | B3: ס"ה תקציב הפרוייט
A4: סיוע בהקמה ושדרוג - מתקני טיפול פסולת בניין | B4: 84660
A5: עידוד שימוש בחומרים ממוחזרים - פסולת בניין | B5: 12858.072
A6: שיקום מפגעי פסולת לרשויות בדירוג סוצ"א נמוך קו"ק שני | B6: 8727.277
A7: שיקום מפגעי פסולת לרשויות בדירוג סוצ"א נמוך קו"ק ראשון | B7: 3076.295
A8: טיפול בפסולת בניין | B8: 380
A9: שיקום מפגעי פסולת בנייה באמצעות מחזור ואכיפה | B9: 223.36
A10: יועץ לאיתור מתחמים להקמת תחנות מעבר לפסולת בניין | B10: 42.99999
B12: =SUM(B4:B11) -> 109968
A15: ספק | B15: סכום
A16: 40267198 - מגרסות יופי נוף בע"מ | B16: 5494220.1
A17: 20000247 - עירית ראשון לציון | B17: 4510000
A18: 40003256 - החברה הכלכלית לאשקלון בע"מ | B18: 4510000
A19: 40939683 - שפיה קליטה ומחזור פסולת בע"מ | B19: 4500000
A20: 41127801 - גרין קליטה ומיחזור בע"מ | B20: 4500000
A21: 41396964 - גלובל גרין גרופ (אך דוד) בע"מ | B21: 4500000
A22: 41397112 - טאהא זאהר | B22: 4500000
A23: 41397113 - מ.א. מרעי בע"מ | B23: 4500000
A24: 20000096 - עירית שדרות | B24: 4493000
A25: 40019616 - בני וצביקה בע"מ | B25: 3881961.8
A26: 40460362 - טורעאן קליטה ומיחזור בע"מ | B26: 3482000
A27: 41397401 - ב.ר.ש.ד פארק מחזור אשדוד בע"מ | B27: 3382500
... A74: (סה"כ) | B74: 83710215
A76: Selection Status:
A77: נושא משימת תקציב: פסולת בניין
A79: עדיין לא נפתחו התחייבויות | B79: =B74/1000-B12 -> -26257.789

Sheet 10
A1: 12 הסברה
A3: משימת תקציב | B3: נושא משימת תקציב | C3: 2008 | D3: 2009 | E3: 2010 | F3: 2011 | G3: 2012 | H3: 2013 | I3: 2014 | J3: 2015 | K3: חצי שנת 2016 | L3: דצמבר 2016 (מצטבר) | M3: ס"ה תקציב הפרוייט
A4: קמפיין להפחתת צריכה | B4: הסברה | C4: - | D4: - | E4: 1346.8094 | F4: 17120.302 | G4: 9165.3293 | H4: 19.90882 | I4: 2.535 | J4: - | K4: 0 | L4: - | M4: 27703.528
A5: אינטרנט | B5: הסברה | C5: - | D5: - | E5: 923.80132 | F5: 1952.0033 | G5: 1531.5736 | H5: 1859.6303 | I5: 1884.994 | J5: 925.79343 | K5: 124.56677 | L5: 181.82855 | M5: 10053.809
A6: קמפיין להקטנת השימוש בשקיות ניילון | B6: הסברה | C6: - | D6: - | E6: - | F6: - | G6: - | H6: - | I6: 2373.1744 | J6: 2180.0408 | K6: 0 | L6: 4.05 | M6: 5310.5211
A7: קמפיין שקיות | B7: הסברה | C7: - | D7: - | E7: - | F7: - | G7: - | H7: - | I7: - | J7: - | K7: 0 | L7: - | M7: 5000
A8: כנסים ואירועים | B8: הסברה | C8: - | D8: - | E8: - | F8: - | G8: - | H8: - | I8: 59.4182 | J8: 2797.5248 | K8: 1605.8245 | L8: 1673.1782 | M8: 4996.7721
A9: קו"ק כנסים ואירועים | B9: הסברה | C9: - | D9: - | E9: - | F9: - | G9: - | H9: 1921.467 | I9: 100 | J9: 100 | K9: 239.75 | L9: 239.75 | M9: 2361.217
A10: קמפיין הפרדת פסולת | B10: הסברה | C10: - | D10: - | E10: - | F10: - | G10: 1988.3601 | H10: 34.51705 | I10: - | J10: 0.15 | K10: 0 | L10: - | M10: 2050
A11: הרחבת מסע ההסברה לקניה באמצעות שקיות רב פעמיות | B11: הסברה | C11: - | D11: - | E11: - | F11: - | G11: - | H11: - | I11: 119.6982 | J11: 171.86328 | K11: 0 | L11: - | M11: 2000
A12: קמפיין שריפת פסולת במגזר הערבי | B12: הסברה | C12: - | D12: - | E12: - | F12: 447.6277 | G12: 659.57252 | H12: 339.74238 | I12: - | J12: - | K12: 0 | L12: - | M12: 1446.9426
A13: הסברה מפרץ חיפה | B13: הסברה | C13: - | D13: - | E13: - | F13: - | G13: - | H13: - | I13: - | J13: - | K13: 0 | L13: 786.12511 | M13: 1200
A14: קמפיין ממשלה ירוקה | B14: הסברה | C14: - | D14: - | E14: 115.5625 | F14: 867.4774 | G14: 36.47943 | H14: 49.21014 | I14: - | J14: - | K14: 0 | L14: - | M14: 1144
A15: הסברה במגזר הערבי | B15: הסברה | C15: - | D15: - | E15: - | F15: - | G15: - | H15: - | I15: 7.5992 | J15: 165.44147 | K15: 0 | L15: 101.65545 | M15: 1000
A16: אתר אינטרנט לילדים בשפה הערבית | B16: הסברה | C16: - | D16: - | E16: - | F16: - | G16: - | H16: - | I16: - | J16: - | K16: 0 | L16: - | M16: 500
A17: מיזם משותף עם הג'וינט בנושא שילוב גמלאים בנושאי מחזור | B17: הסברה | C17: - | D17: - | E17: - | F17: - | G17: - | H17: - | I17: - | J17: - | K17: 0 | L17: - | M17: 500
A18: תיעוד פרוייקט הפרדה במקור | B18: הסברה | C18: - | D18: - | E18: - | F18: - | G18: - | H18: 296.291 | I18: - | J18: - | K18: 0 | L18: - | M18: 300
A19: תערוכת אנשי הזבל בפארק אריאל שרון | B19: הסברה | C19: - | D19: - | E19: - | F19: - | G19: - | H19: - | I19: - | J19: 250 | K19: 0 | L19: - | M19: 250
A20: דרום אדום | B20: הסברה | C20: - | D20: - | E20: - | F20: - | G20: - | H20: - | I20: 100 | J20: 150 | K20: 0 | L20: - | M20: 250
A21: קמפיין פסולת אלקטרונית | B21: הסברה | C21: - | D21: - | E21: - | F21: - | G21: - | H21: - | I21: 7.56 | J21: 0.7434 | K21: 0 | L21: - | M21: 245
A22: כנס ראשי רשויות - "עיר בת קיימא" | B22: הסברה | C22: - | D22: - | E22: - | F22: - | G22: - | H22: - | I22: 149.57374 | J22: - | K22: 0 | L22: - | M22: 149.57374
A23: תערוכת מחזור - שנקר | B23: הסברה | C23: - | D23: - | E23: - | F23: - | G23: - | H23: - | I23: 70 | J23: - | K23: 0 | L23: 0 | M23: 70
A24: כנס ירושלים | B24: הסברה | C24: - | D24: - | E24: - | F24: - | G24: - | H24: - | I24: 50 | J24: - | K24: 0 | L24: - | M24: 50
A25: קמפיין רדיו ליום הניקיון | B25: הסברה | C25: - | D25: - | E25: - | F25: - | G25: - | H25: - | I25: 49.92338 | J25: - | K25: 0 | L25: - | M25: 49.92338
A26: רכש סלים לציבור כחלק מחוק שקיות ניילון | B26: הסברה | C26: - | D26: - | E26: - | F26: - | G26: - | H26: - | I26: 3.41904 | J26: 2.48538 | K26: 0 | L26: - | M26: 5.90442
M28: =SUM(M4:M27) -> 66637.192

Sheet 11
A1: 13 בדואים
A3: משימת תקציב | B3: ס"ה תקציב הפרוייט | C3: פירוט הרשויות
A4: הסדרת שוק הפסולת במגזר הבדואי | B4: 51414.542 | C4: פירוט הרשויות הינו כפי המופיע בהחלטת ממשלה 546.
A5: הסדרת פסולת הבדואים בצפון | B5: 5000 | C5: פירוט בהחלטת ממשלה בדואים צפון
A6: שרות לאומי מגזר הבדואי במחוז דרום | B6: 1060.8599 | C6: הרשויות זהות לאמור בהחלטת ממשלה 546
A7: תיעוד פרוייקט הבדואים | B7: 250 | C7: =C6 -> הרשויות זהות לאמור בהחלטת ממשלה 546
B8: =SUM(B4:B7) -> 57725.402
A11: ספק | B11: סכום
A12: 20000862 - מ.א. אל קסום | B12: 12965686
A13: 20000861 - מ.א. נווה מדבר | B13: 11065686
A14: 40001034 - רשות הגנים הלאומיים ושמורות הטבע | B14: 2167000
A15: 40000346 - החברה להגנת הטבע | B15: 1499999.3
A16: 40004137 - סוכנות היהודית | B16: 1499993.7
A17: 20000119 - מ. מ. חורה | B17: 1477027
A18: 20000099 - מ. מ. כסיפה | B18: 1475420
A19: 20000098 - מ. מ. תל שבע | B19: 1470600
A20: 20000106 - עירית רהט | B20: 1461612
A21: 20000298 - מ. מ. ערערה-בנגב | B21: 1448907
A22: 20000297 - מ. מ. לקיה | B22: 1416770
A23: 20000114 - מ. מ. שגב-שלום | B23: 1398291
... A26: 10000058 - משרד החינוך והתרבות,ראשי | B26: 304000
A27: (סה"כ) | B27: =SUM(B12:B26) -> 41484111
A29: Selection Status:
A30: נושא משימת תקציב: בדואים
A32: התחייבויות שיצאו עד כה | B32: =B27/1000 -> 41484.111
A33: ס"ה תוקצב | B33: =טבלה8[[#Totals],[ס"ה תקציב הפרוייט]] -> 57725.402
A34: צריך לצאת | B34: =B33-B32 -> 16241.291

Sheet 13
A1: 15 סיוע לישובי הדרום
A3: משימת תקציב | B3: ס"ה תקציב הפרוייט
A4: החלטת ממשלה 2025 - טיפול במפגעי פסולת בניין על ידי פינוי ומחזור בדרום | B4: 9990
A5: החלטת ממשלה 2025 - חינוך סביבתי (תמיכה ביוזמות בית ספריות) | B5: 3745.254
A6: החלטת ממשלה 2025 - הפרדה במקור (הפרדת פסולת ביתית - רשויות מקדימות) | B6: 9700
A7: החלטת ממשלה 1846 - סיוע להפחתת כמות הפסולת המועברת להטמנה בישובי הדרום | B7: 7280
B9: =SUM(B4:B8) -> 30715.254
A12: ספק | B12: משימת תקציב | C12: החלטת ממשלה 2025 - טיפול במפגעי פסולת בניין על ידי פינוי ומחזור בדרום | D12: החלטת ממשלה 1846 - סיוע להפחתת כמות הפסולת המועברת להטמנה בישובי הדרום | E12: החלטת ממשלה 2025 - חינוך סביבתי (תמיכה ביוזמות בית ספריות) | F12: החלטת ממשלה 2025 - הפרדה במקור (הפרדת פסולת ביתית - רשויות מקדימות)
A13: 20000106 - עירית רהט | C13: - | D13: - | E13: 276670 | F13: -
A14: 20000112 - מ. מ. להבים | C14: 240000 | D14: - | E14: 15000 | F14: -
A15: 20000099 - מ. מ. כסיפה | C15: 240000 | D15: - | E15: 99960 | F15: -
A16: 20000096 - עירית שדרות | C16: - | D16: 4000000 | E16: 44145 | F16: -
A17: 20000205 - מ. א. באר-טוביה | C17: 240000 | D17: - | E17: 74092 | F17: -
A18: 20000004 - עירית אופקים | C18: - | D18: - | E18: 85437 | F18: 365000
A19: 20000014 - עירית אשדוד | C19: 450000 | D19: - | E19: 681588 | F19: 3137150
A20: 20000208 - מ. א. חוף אשקלון | C20: 240000 | D20: 340000 | E20: 48051 | F20: -
A21: 20000082 - מ. מ. עומר | C21: 240000 | D21: - | E21: 30055 | F21: -
A22: 20000111 - מ. מ. מיתר | C22: 240000 | D22: - | E22: 29498 | F22: -
A23: 20000217 - מ. א. תמר | C23: 240000 | D23: - | E23: 20000 | F23: -
A24: 20000862 - מ.א. אל קסום | C24: 240000 | D24: - | E24: 113167 | F24: -
A25: 20000015 - מ. מ. מצפה רמון | C25: 240000 | D25: - | E25: 16709 | F25: -
A26: 20000026 - עירית נתיבות | C26: 240000 | D26: - | E26: 100395 | F26: -
A27: 20000097 - עירית קרית מלאכי | C27: 240000 | D27: - | E27: 68697 | F27: -
A28: 20000098 - מ. מ. תל שבע | C28: 240000 | D28: - | E28: 82910 | F28: -
A29: 20000119 - מ. מ. חורה | C29: 240000 | D29: - | E29: 88118 | F29: -
A30: 20000130 - עירית דימונה | C30: 240000 | D30: - | E30: 121029 | F30: 531200
A31: 20000150 - עירית קרית גת | C31: 240000 | D31: - | E31: 150538 | F31: -
A32: 20000207 - מ. א. יואב | C32: - | D32: - | E32: 29342 | F32: -
A33: 20000210 - מ. א. לכיש | C33: 240000 | D33: - | E33: 19000 | F33: -
A34: 20000212 - מ. א. אשכול | C34: - | D34: 1460000 | E34: 36395 | F34: -
A35: 20000213 - מ. א. שדות נגב | C35: - | D35: 620000 | E35: 39696 | F35: 37000
A36: 20000219 - מ. א. חבל אילות | C36: 240000 | D36: - | E36: 18000 | F36: -
A37: 20000220 - מ. א. הערבה התיכונה | C37: 240000 | D37: - | E37: 17000 | F37: -
A38: 20000229 - עירית אשקלון | C38: 450000 | D38: - | E38: 329436 | F38: 462250
A39: 20000254 - עירית באר שבע | C39: 450000 | D39: - | E39: 520583 | F39: 2950000
A40: 20000298 - מ. מ. ערערה-בנגב | C40: 240000 | D40: - | E40: 82786 | F40: -
A41: 20000354 - מ. מ. נאות חובב | C41: 240000 | D41: - | E41: - | F41: -
A42: 20000206 - מ. א. שפיר | C42: 240000 | D42: - | E42: 36829 | F42: -
A43: 20000144 - עירית ערד | C43: 240000 | D43: - | E43: 64691 | F43: -
A44: 20000114 - מ. מ. שגב-שלום | C44: 240000 | D44: - | E44: 74432 | F44: -
...

Sheet 14
A1: 16 בקרה
A3: משימת תקציב | B3: ס"ה תקציב הפרוייט
A4: חברה מלווה בדיקה חשבונאית והנדסית | B4: 0
A5: שירותי רואי חשבון - יעוץ שוטף ועריכת ביקורת לאגף אריזות | B5: 19300
A6: רוח מלווה לפרוייקט האסבסט | B6: 137.71415
A7: רו"ח לחוק הצמיגים | B7: 910.00791
A8: חברה מלווה בדיקה חשבונאית והנדסית | B8: 7562.3394
A9: בקרה חשבונאית | B9: 10275.322
B11: =SUM(B4:B10) -> 38185.384
A14: ספק | B14: משימת תקציב | C14: רו"ח לחוק הצמיגים | D14: שירותי רואי חשבון - יעוץ שוטף ועריכת ביקורת לאגף אריזות | E14: חברה מלווה בדיקה חשבונאית והנדסית | F14: בקרה חשבונאית
A15: 40010965 - קבוצת פארטו בע"מ | C15: - | D15: - | E15: 6742598.7 | F15: -
A16: 40164476 - אליאב אורי | C16: 212443.56 | D16: - | E16: - | F16: -
A17: 40009876 - פאהן קנה ניהול בקרה בע"מ | C17: - | D17: - | E17: - | F17: 2908937.5
A18: 10000021 - לשכת הפירסום הממשלתי | C18: - | D18: 2690.76 | E18: - | F18: -
A19: 40005659 - בן דוד שלוי קופ ושות' רואי חשבון (ב | C19: 185117.5 | D19: - | E19: - | F19: -
A20: 40005659 - ע. בן דוד ושות' רואי חשבון | C20: 512446.85 | D20: - | E20: - | F20: -
A21: 40276336 - אלקלעי מונרוב ושות' | C21: - | D21: - | E21: - | F21: 724269.78
A22: (סה"כ) | C22: 910007.91 | D22: 2690.76 | E22: 6742598.7 | F22: 3633207.2
A24: Selection Status:
A25: נושא משימת תקציב: בקרה

Sheet 15
A1: 18 פרוייקטורים ויועצים
A3: משימת תקציב | B3: ס"ה תקציב הפרוייט
A4: יועץ לאשכול שלטון מקומי | B4: 2250
A5: פרויקט PPP - הכנת תסקיר סביבתי | B5: 324
A6: פרויקט יועצים PPP | B6: 8261.5581
A7: פרוייקטורים למחוזות | B7: 2661.2746
A8: פעולות הערכות ליישום חוק האריזות | B8: 2161.1251
A9: ייעוץ משפטי לאגף אריזות | B9: 5211.8954
A10: ייעוץ כלכלי לאגף אריזות | B10: 13810.121
A11: ייעוץ ובקרה ליישום חוק הפסולת האלקטרונית | B11: 49.56
B12: =SUM(B4:B11) -> 34729.534
A14: ספק | B14: משימת תקציב | C14: פעולות הערכות ליישום חוק האריזות | D14: ייעוץ משפטי לאגף אריזות | E14: ייעוץ כלכלי לאגף אריזות | F14: ייעוץ ובקרה ליישום חוק הפסולת האלקטרונית | G14: פרוייקטורים למחוזות | H14: פרויקט יועצים PPP
A15: 40004710 - אירוח הר הכרמל (ניהול) בע"מ | C15: 5992.59 | D15: - | E15: - | F15: - | G15: - | H15: -
A16: 40225745 - גולדן קראון תיירות בע"מ | C16: 13119.6 | D16: - | E16: - | F16: - | G16: - | H16: -
A17: 40377322 - רתם עירית | C17: - | D17: - | E17: - | F17: - | G17: 844627.88 | H17: -
A18: 40276336 - אלקלעי מונרוב ושות' | C18: - | D18: - | E18: 127492.42 | F18: - | G18: - | H18: -
A19: 40225886 - גרוס קלינהנדלר חודק הל | C19: 729545.12 | D19: 1839677.7 | E19: - | F19: - | G19: - | H19: -
A20: 40158963 - קיבוץ כרמים | C20: 8932 | D20: - | E20: - | F20: - | G20: - | H20: -
A21: 40400611 - מיכאלה ודניאל פלודה | C21: - | D21: - | E21: - | F21: - | G21: 585286.48 | H21: -
A22: 40515447 - בארי ייעוץ כלכלי בע"מ | C22: - | D22: - | E22: - | F22: - | G22: - | H22: 224829.15
A23: 10000021 - לשכת הפירסום הממשלתי | C23: 237150.33 | D23: - | E23: - | F23: - | G23: - | H23: 7996.89
A24: 40407606 - קי.אמ.סי. טכנולוגיות בע"מ | C24: - | D24: - | E24: - | F24: - | G24: 5900 | H24: -
A25: 40165542 - שלהבת מערכות מידע בע"מ | C25: - | D25: - | E25: - | F25: - | G25: 503190.74 | H25: -
A26: 40442200 - שגן הילה | C26: 109009 | D26: - | E26: - | F26: - | G26: - | H26: -
A27: 40468904 - אנטרופי יועצים בע"מ | C27: 172448.45 | D27: - | E27: - | F27: - | G27: - | H27: -
A28: 40364536 - צבן צנובר בע"מ | C28: 418534.54 | D28: 409673 | E28: 115311.01 | F28: - | G28: - | H28: -
A29: 40006936 - דן אנד ברדסטריט (ישראל) בע"מ | C29: 17400 | D29: - | E29: - | F29: - | G29: - | H29: -
A30: 40009876 - פאהן קנה ניהול בקרה בע"מ | C30: - | D30: - | E30: 454872.6 | F30: - | G30: - | H30: -
A31: 40015656 - אביב - ניהול הנדסה ומערכות מידע בע" | C31: - | D31: - | E31: - | F31: - | G31: - | H31: 1391412
A32: 40012248 - מלון מעלה החמישה | C32: 6505.2 | D32: - | E32: - | F32: - | G32: - | H32: -
A33: 40001123 - מוסד שמואל נאמן למחקר מדיניות לאומי | C33: 99000 | D33: - | E33: - | F33: - | G33: - | H33: -
A34: 41056986 - אסכולה יעוץ כלכלי ומימוני בע"מ | C34: - | D34: - | E34: - | F34: 49560 | G34: - | H34: -
A35: 40242435 - גוטהלף תומר | C35: - | D35: - | E35: - | F35: - | G35: - | H35: 484307.69
A36: 40010874 - יוסי לוי ושות', עורכי-דין | C36: - | D36: - | E36: - | F36: - | G36: - | H36: 1710952.1
A37: 10000002 - החשב הכללי | C37: 243000 | D37: - | E37: - | F37: - | G37: - | H37: -
A38: 40001579 - חברת החשמל לישראל בעמ | C38: - | D38: - | E38: - | F38: - | G38: - | H38: 23600
A39: 40548162 - טריסקר אלונה | C39: 2940.6 | D39: - | E39: - | F39: - | G39: - | H39: -
A40: 40010590 - מועב שרותי מזון בע"מ | C40: 2150.12 | D40: - | E40: - | F40: - | G40: - | H40: -
A41: 40377960 - א.ח.י. ניהול פרוייקטים תשתיות ואיכו | C41: - | D41: - | E41: - | F41: - | G41: 722358.6 | H41: -
A42: 40010572 - אדן טכנולוגיה ויעוץ כלכלי בע"מ | C42: - | D42: - | E42: - | F42: - | G42: - | H42: 2827727.4
...

Sheet פרוייקטים נוספים
B16: פרויקט | C16: סך תקציב הפרוייקט
A17: 1.1 | B17: פרוייקטים שונים | C17: 144344.53
A18: 1.2 | B18: תמיכות 2008-2009 | C18: 143490.69
A19: 1.3 | B19: ניקוי הקישון | C19: 36000
A20: 1.4 | B20: שיקום פארק אריאל שרון | C20: 24750
A21: 1.5 | B21: שכר | C21: 22380.389
A22: 1.6 | B22: מערכות מיחשוב תומכות | C22: 21758.408
A23: 1.7 | B23: שיקום אתר רתמים | C23: 21000
A24: 1.8 | B24: פסולת חקלאית | C24: 20000
A25: 1.9 | B25: רזרבה | C25: 20000
A26: 1.1 | B26: תמיכות שונות | C26: 14390.172
A27: 1.11 | B27: סקרים ומחקרים | C27: 14156.746
A28: 1.12 | B28: ניקוי גדות נחלים באמצעות מיחזור | C28: 10500
... A33: 1.17 | B33: נסיעות לחו"ל | C33: 122.24136
B35: סכום כולל | C35: =SUM(C17:C33) -> 508552.98

Sheet 1.1
A1: 9 פרוייקטים שונים
A3: משימת תקציב | B3: ס"ה תקציב הפרוייט
A4: הקמת יחידת דוד לפיקוח על מעברי איו"ש | B4: 32218.34
A5: ק"ק שקיות | B5: 29249.68
A6: שינוע פסולת - רשויות מקומיות איו"ש | B6: 17297.052
A7: פרוייקטים (שלטון מקומי) | B7: 8740.7863
A8: מוזיאון הטבע | B8: 8490
A9: שינוע פסולת - עיריית אל בירה | B9: 6839.812
A10: בורות כילוי | B10: 6001.056
A11: מרכז מבקרים ברמת חובב | B11: 5726.5
A12: שיקום נחלים עוטף עזה | B12: 5000
A13: תוכנית רב שנתית לחיזוק קצרין | B13: 3000
A14: פעילות שוטפת אגף פסולת | B14: 2632.7897
A15: עבור עידוד הציבור לשימוש בשקיות רב פעמיות | B15: 2600
... A39: ה.מ 1652 תמיכה בקרית ארבע | B39: 0
B41: =SUM(B4:B40) -> 144344.53

Sheet 1.2
A1: ספק | B1: משימת תקציב | C1: תמיכות ישנות בוצה תעשייתית 2009-2010 | D1: תמיכות ישנות חינוך למיחזור | E1: תמיכות ישנות תוכניות אב ותוכניות מפורטות | F1: תמיכות ישנות חלק א (פסולת) | G1: תמיכות ישנות - פסולת בניין | H1: תמיכות ישנות חינוך למיחזור-איו"ש | I1: תמיכות ישנות תוכניות אב ותוכניות מפורטות - איו"ש | J1: תמיכות ישנות חלק א (פסולת)-איו"ש
A2: 20000186 - מ. א. לב השרון | C2: - | D2: 160781 | E2: 218648 | F2: 450453 | G2: - | H2: - | I2: - | J2: -
A3: 20000160 - מ. א. זבולון | C3: - | D3: - | E3: 128786 | F3: 236618 | G3: - | H3: - | I3: - | J3: -
A4: 40375757 - אקו אויל חץ וירומטל בע"מ | C4: 180225.9 | D4: - | E4: - | F4: - | G4: - | H4: - | I4: - | J4: -
A5: 20000112 - מ. מ. להבים | C5: - | D5: 119271 | E5: - | F5: 52511 | G5: - | H5: - | I5: - | J5: -
A6: 20000215 - מ. א. מרחבים | C6: - | D6: 73770 | E6: 125177 | F6: 165120 | G6: - | H6: - | I6: - | J6: -
A7: 20000020 - מ. מ. פרדסיה | C7: - | D7: - | E7: - | F7: 102995 | G7: - | H7: - | I7: - | J7: -
A8: 20000108 - מ. מ. כוכב יאיר | C8: - | D8: 74655 | E8: 48160 | F8: 120365 | G8: - | H8: - | I8: - | J8: -
A9: 20000258 - עירית יהוד-מונוסון | C9: - | D9: 160781 | E9: - | F9: 210122 | G9: - | H9: - | I9: - | J9: -
A10: 40001597 - החברה הכלכלית לפיתוח באר-שבע בערבון | C10: - | D10: - | E10: - | F10: 7317 | G10: - | H10: - | I10: - | J10: -
A11: 20000119 - מ. מ. חורה | C11: - | D11: 82433 | E11: 71572 | F11: 58154 | G11: - | H11: - | I11: - | J11: -
A12: 20000120 - מ. מ. שהם | C12: - | D12: 28392 | E12: 24360 | F12: 78335 | G12: - | H12: - | I12: - | J12: -
A13: 20000114 - מ. מ. שגב-שלום | C13: - | D13: - | E13: - | F13: 45000 | G13: - | H13: - | I13: - | J13: -
A14: 20000138 - עירית אור יהודה | C14: - | D14: 131618 | E14: 40758 | F14: 614763 | G14: - | H14: - | I14: - | J14: -
A15: 20000018 - מ. מ. גן יבנה | C15: - | D15: - | E15: 71978 | F15: 156144 | G15: - | H15: - | I15: - | J15: -
A16: 20000351 - איגוד ערים איזור הגליל המערבי (א | C16: - | D16: 1025668.3 | E16: 603128 | F16: 2392920 | G16: - | H16: - | I16: - | J16: -
A17: 20000240 - עירית עפולה | C17: - | D17: - | E17: 119348 | F17: 414355 | G17: - | H17: - | I17: - | J17: -
A18: 20000353 - איגוד ערים המשולש הדרומי (איכות | C18: - | D18: 426773 | E18: 321280 | F18: - | G18: - | H18: - | I18: - | J18: -
A19: 20000348 - איגוד ערים השרון הצפוני (תברואה) | C19: - | D19: 110976 | E19: - | F19: - | G19: - | H19: - | I19: - | J19: -
A20: 20000297 - מ. מ. לקיה | C20: - | D20: - | E20: 26426 | F20: 25035 | G20: - | H20: - | I20: - | J20: -
A21: 20000137 - מ. א. מגידו | C21: - | D21: 118389 | E21: 59012 | F21: 185362 | G21: - | H21: - | I21: - | J21: -
A22: 20000053 - מ. מ. כפר מנדא | C22: - | D22: 113754.6 | E22: - | F22: 179892 | G22: - | H22: - | I22: - | J22: -
A23: 20000015 - מ. מ. מצפה רמון | C23: - | D23: - | E23: 26123 | F23: 66229 | G23: - | H23: - | I23: - | J23: -
A24: 20000245 - עירית קרית מוצקין | C24: - | D24: 136191 | E24: 54377 | F24: - | G24: - | H24: - | I24: - | J24: -
A25: 20000244 - עירית צפת | C25: - | D25: 67380 | E25: - | F25: 398861 | G25: - | H25: - | I25: - | J25: -
A26: 20000254 - עירית באר שבע | C26: - | D26: - | E26: 299860 | F26: 2771017 | G26: - | H26: - | I26: - | J26: -
A27: 20000190 - מ. א. דרום השרון | C27: - | D27: 144898 | E27: - | F27: 182273 | G27: - | H27: - | I27: - | J27: -
