Workbook

Sheet פירוט המשימות
F3: להשלים | M3: שנת התשלום | Q3: תשלומים מצטבר באלפי ₪ | R3: יתרה בהתחייבויות | S3: יתרת התחייבויות אלפי ₪ | T3: ס"ה התחייבויות ותשלומים עד סוף 2016 | U3: סך תקציב מצטבר שאושר עד סוף 2015 | V3: הקצאות חדשות 2016 | W3: סך תקציב מצטבר שאושר עד סוף 2016 | X3: יתרות תקציב בלתי מחוייבות | Y3: יתרות תקציב בלתי מחוייבות מועברות (מתואמת) | Z3: סך היתרות המועברות (כולל בהתחייבויות) | AA3: חדש 2017 | AB3: צפי תשלומים 2017 | AC3: צפי תשלומים 2018 | AD3: צפי תשלומים 2019 | AE3: צפי תשלומים 2020 | AF3: צפי תשלומים 2021 | AG3: צפי תשלומים 2022 | AH3: צפי תשלומים 2023 | AI3: צפי תשלומים 2024 | AJ3: סך תשלומים צפוי
G4: 2008 | H4: 2009 | I4: 2010 | J4: 2011 | K4: 2012 | L4: 2013 | M4: 2014 | N4: 2015 | P4: 2016
A5: משימת תקציב | B5: סוג מטרות המשימה | C5: מטרות המשימה | D5: משימה באיו"ש | E5: נושא משימת תקציב | F5: ,תאריך אישור הבקשה | G5: סכום | H5: סכום | I5: סכום | J5: סכום | K5: סכום | L5: סכום | M5: סכום | N5: סכום | O5: 42522 | P5: דצמבר 2016 (מצטבר) | Y5: הסטות/התאמות
A6: אימוץ תקן RDF | B6: פיתוח | C6: פיתוח - רכש | D6: לא באיו"ש | E6: פרוייקטים שונים | F6: 0 | G6: - | H6: - | I6: - | J6: - | K6: - | L6: - | M6: - | N6: 48331.62 | O6: =VLOOKUP(A6,'[1]ינואר עד יוני 2016'!A:F,6,0) -> 15974.01 | P6: 15974.01 | Q6: =SUM(G6:P6)/1000-O6/1000 -> 64.30563 | R6: 0 | S6: 0 | T6: =Q6+S6 -> 64.30563 | U6: =VLOOKUP(A6,'[1]16'!B:W,22,0) -> 65 | V6: 0 | W6: =U6+V6 -> 65 | X6: =W6-T6 -> 0.69437 | Y6: 0 | Z6: =Y6+S6 -> 0 | AB6: 0 | AC6: =VLOOKUP(A6,'[1]16'!B:AL,30,0) -> 0 | AD6: 0 | AE6: 0 | AF6: 0 | AG6: 0 | AH6: 0 | AI6: 0 | AJ6: =SUM(AB6:AI6) -> 0 | AK6: =AJ6-Z6 -> 0
A7: אינטרנט | B7: נוספות | C7: נוספות - חינוך והסברה | D7: לא באיו"ש | E7: הסברה | F7: 0 | G7: - | H7: - | I7: 923801.32 | J7: 1952003.3 | K7: 1531573.6 | L7: 1859630.3 | M7: 1884994 | N7: 925793.43 | O7: =VLOOKUP(A7,'[1]ינואר עד יוני 2016'!A:F,6,0) -> 124566.77 | P7: 181828.55 | Q7: =SUM(G7:P7)/1000-O7/1000 -> 9259.6245 | R7: 794184.99 | S7: =R7/1000 -> 794.18499 | T7: =Q7+S7 -> 10053.809 | U7: =VLOOKUP(A7,'[1]16'!B:W,22,0) -> 10760.664 | V7: 0 | W7: =U7+V7 -> 10760.664 | X7: =W7-T7 -> 706.85439 | Z7: =Y7+S7 -> 794.18499 | AB7: 794 | AC7: =VLOOKUP(A7,'[1]16'!B:AL,30,0) -> 0 | AD7: 0 | AE7: 0 | AF7: 0 | AG7: 0 | AH7: 0 | AI7: 0 | AJ7: =SUM(AB7:AI7) -> 794 | AK7: =AJ7-Z7 -> -0.18499
A8: איסוף סוללות | B8: פיתוח | C8: פיתוח - רכש | D8: לא באיו"ש | E8: פרוייקטים שונים | F8: 0 | G8: - | H8: 36355.86 | I8: 231208.55 | J8: 108124.63 | K8: 248092.71 | L8: 264728.75 | M8: 91662.4 | N8: 104919.13 | P8: - | Q8: =SUM(G8:P8)/1000-O8/1000 -> 1085.092 | R8: 1316.25 | S8: =R8/1000 -> 1.31625 | T8: =Q8+S8 -> 1086.4083 | U8: =VLOOKUP(A8,'[1]16'!B:W,22,0) -> 2816.8754 | V8: 0 | W8: =U8+V8 -> 2816.8754 | X8: =W8-T8 -> 1730.4671 | Y8: =VLOOKUP(A8,'[1]16'!B:AK,25,0) -> 750 | Z8: =Y8+S8 -> 751.31625 | AB8: 250 | AC8: =VLOOKUP(A8,'[1]16'!B:AL,30,0) -> 250 | AD8: 251 | AE8: 0 | AF8: 0 | AG8: 0 | AH8: 0 | AI8: 0 | AJ8: =SUM(AB8:AI8) -> 751 | AK8: =AJ8-Z8 -> -0.31625
A9: אתר אינטרנט לילדים בשפה הערבית | B9: נוספות | C9: נוספות - חינוך והסברה | D9: לא באיו"ש | E9: הסברה | F9: 0 | G9: - | H9: - | I9: - | J9: - | K9: - | L9: - | M9: - | N9: - | P9: - | Q9: =SUM(G9:P9)/1000-O9/1000 -> 0 | R9: 500000 | S9: =R9/1000 -> 500 | T9: =Q9+S9 -> 500 | U9: =VLOOKUP(A9,'[1]16'!B:W,22,0) -> 500 | V9: 0 | W9: =U9+V9 -> 500 | X9: =W9-T9 -> 0 | Y9: 0 | Z9: =Y9+S9 -> 500 | AB9: 500 | AC9: =VLOOKUP(A9,'[1]16'!B:AL,30,0) -> 0 | AD9: =VLOOKUP(A9,'[1]16'!B:AK,31,1) -> 0 | AE9: =VLOOKUP(A9,'[1]16'!B:AK,32,1) -> 0 | AF9: =VLOOKUP(A9,'[1]16'!B:AL,33,1) -> 0 | AG9: 0 | AH9: 0 | AI9: 0 | AJ9: =SUM(AB9:AI9) -> 500 | AK9: =AJ9-Z9 -> 0
A10: בורות כילוי | B10: פיתוח | C10: פיתוח - רכש | D10: לא באיו"ש | E10: פרוייקטים שונים | F10: 0 | G10: - | H10: - | I10: 691056 | J10: 5310000 | K10: - | L10: - | M10: - | N10: - | P10: - | Q10: =SUM(G10:P10)/1000-O10/1000 -> 6001.056 | R10: 0 | S10: 0 | T10: =Q10+S10 -> 6001.056 | U10: =VLOOKUP(A10,'[1]16'!B:W,22,0) -> 6001 | V10: 0 | W10: =U10+V10 -> 6001 | X10: 0 | Y10: 0 | Z10: =Y10+S10 -> 0 | AB10: 0 | AC10: =VLOOKUP(A10,'[1]16'!B:AL,30,0) -> 0 | AD10: =VLOOKUP(A10,'[1]16'!B:AK,31,1) -> 0 | AE10: =VLOOKUP(A10,'[1]16'!B:AK,32,1) -> 0 | AF10: =VLOOKUP(A10,'[1]16'!B:AL,33,1) -> 0 | AG10: 0 | AH10: 0 | AI10: 0 | AJ10: =SUM(AB10:AI10) -> 0 | AK10: =AJ10-Z10 -> 0
A11: בניית תשתית אקדמית להטמעת אורח חיים מקיים במוסדות להשכלה גבוהה | B11: פיתוח | C11: פיתוח - רכש | D11: לא באיו"ש | E11: חינוך | F11: 0 | G11: - | H11: - | I11: - | J11: - | K11: - | L11: 1000000 | M11: - | N11: - | P11: - | Q11: =SUM(G11:P11)/1000-O11/1000 -> 1000 | R11: 0 | S11: 0 | T11: =Q11+S11 -> 1000 | U11: =VLOOKUP(A11,'[1]16'!B:W,22,0) -> 2000 | V11: 0 | W11: =U11+V11 -> 2000 | X11: =W11-T11 -> 1000 | Y11: 1000 | Z11: =Y11+S11 -> 1000 | AB11: 1000 | AC11: =VLOOKUP(A11,'[1]16'!B:AL,30,0) -> 0 | AD11: =VLOOKUP(A11,'[1]16'!B:AK,31,1) -> 0 | AE11: =VLOOKUP(A11,'[1]16'!B:AK,32,1) -> 0 | AF11: =VLOOKUP(A11,'[1]16'!B:AL,33,1) -> 0 | AG11: 0 | AH11: 0 | AI11: 0 | AJ11: =SUM(AB11:AI11) -> 1000 | AK11: =AJ11-Z11 -> 0
A12: בקרה חשבונאית | B12: פיתוח | C12: פיתוח - רכש | D12: לא באיו"ש | E12: בקרה | F12: 0 | G12: 135828 | H12: 592051.5 | I12: 217616 | J12: 183501.56 | K12: 1021079 | L12: 270474.59 | M12: 162397.5 | N12: 37440 | O12: =VLOOKUP(A12,'[1]ינואר עד יוני 2016'!A:F,6,0) -> 49140 | P12: 98280 | Q12: =SUM(G12:P12)/1000-O12/1000 -> 2718.6681 | R12: 1108654.3 | S12: =R12/1000 -> 1108.6543 | T12: =Q12+S12 -> 3827.3225 | U12: =VLOOKUP(A12,'[1]16'!B:W,22,0) -> 10676.899 | V12: 0 | W12: =U12+V12 -> 10676.899 | X12: =W12-T12 -> 6849.5763 | Y12: =VLOOKUP(A12,'[1]16'!B:AK,25,0) -> 6448 | Z12: =Y12+S12 -> 7556.6543 | AB12: 4501 | AC12: 2500 | AD12: 556 | AE12: =VLOOKUP(A12,'[1]16'!B:AK,32,1) -> 0 | AF12: =VLOOKUP(A12,'[1]16'!B:AL,33,1) -> 0 | AG12: 0 | AH12: 0 | AI12: 0 | AJ12: =SUM(AB12:AI12) -> 7557 | AK12: =AJ12-Z12 -> 0.34567
A13: דרום אדום | B13: נוספות | C13: נוספות - חינוך והסברה | D13: לא באיו"ש | E13: הסברה | F13: 0 | G13: - | H13: - | I13: - | J13: - | K13: - | L13: - | M13: 100000 | N13: 150000 | P13: - | Q13: =SUM(G13:P13)/1000-O13/1000 -> 250 | R13: 0 | S13: 0 | T13: =Q13+S13 -> 250 | U13: =VLOOKUP(A13,'[1]16'!B:W,22,0) -> 250 | V13: 0 | W13: =U13+V13 -> 250 | X13: =W13-T13 -> 0 | Y13: 0 | Z13: =Y13+S13 -> 0 | AB13: 0 | AC13: =VLOOKUP(A13,'[1]16'!B:AL,30,0) -> 0 | AD13: =VLOOKUP(A13,'[1]16'!B:AK,31,1) -> 0 | AE13: =VLOOKUP(A13,'[1]16'!B:AK,32,1) -> 0 | AF13: =VLOOKUP(A13,'[1]16'!B:AL,33,1) -> 0 | AG13: 0 | AH13: 0 | AI13: 0 | AJ13: =SUM(AB13:AI13) -> 0 | AK13: =AJ13-Z13 -> 0
A14: החלטת ממשלה 1496-מיעוטים משנית | B14: נוספות | C14: נוספות - מגזרים מוחלשים | D14: לא באיו"ש | E14: מיעוטים | G14: - | H14: - | I14: - | J14: - | K14: - | L14: - | M14: 195050 | N14: 878131 | O14: =VLOOKUP(A14,'[1]ינואר עד יוני 2016'!A:F,6,0) -> 1622570 | P14: 3908237 | Q14: =SUM(G14:P14)/1000-O14/1000 -> 4981.418 | R14: 30001672 | S14: =R14/1000 -> 30001.672 | T14: =Q14+S14 -> 34983.09 | U14: ='[2]ישיבות הנהלה'!$F$11 -> 201500 | V14: 98972 | W14: =U14+V14 -> 300472 | X14: =W14-T14-T15 -> 64345.91 | Y14: =X14+X15 -> 64345.91 | Z14: =[3]גיליון2!$G$24/1000-Q14 -> 118960.58 | AB14: 108634 | AC14: 10327 | AD14: =VLOOKUP(A14,'[1]16'!B:AK,31,1) -> 0 | AE14: =VLOOKUP(A14,'[1]16'!B:AK,32,1) -> 0 | AF14: =VLOOKUP(A14,'[1]16'!B:AL,33,1) -> 0 | AG14: 0 | AH14: 0 | AI14: 0 | AJ14: =SUM(AB14:AI14) -> 118961 | AK14: =AJ14-Z14 -> 0.418
A15: החלטת ממשלה 1496-מיעוטים ראשית | B15: פיתוח | C15: פיתוח - תמיכות | D15: לא באיו"ש | E15: מיעוטים | G15: - | H15: - | I15: - | J15: - | K15: - | L15: - | M15: - | N15: - | O15: =VLOOKUP(A15,'[1]ינואר עד יוני 2016'!A:F,6,0) -> 1436818 | P15: 10631691 | Q15: =SUM(G15:P15)/1000-O15/1000 -> 10631.691 | R15: 190511309 | S15: =R15/1000 -> 190511.31 | T15: =Q15+S15 -> 201143 | V15: 0 | W15: =U15+V15 -> 0 | Y15: 0 | Z15: =W14-Z14-Q14-Q15 -> 165898.31 | AB15: 119948 | AC15: 45950 | AD15: =VLOOKUP(A15,'[1]16'!B:AK,31,1) -> 0 | AE15: =VLOOKUP(A15,'[1]16'!B:AK,32,1) -> 0 | AF15: =VLOOKUP(A15,'[1]16'!B:AL,33,1) -> 0 | AG15: 0 | AH15: 0 | AI15: 0 | AJ15: =SUM(AB15:AI15) -> 165898 | AK15: =AJ15-Z15 -> -0.309
A16: החלטת ממשלה 1846 - סיוע להפחתת כמות הפסולת המועברת להטמנה בישובי הדרום | B16: פיתוח | C16: פיתוח - תמיכות | D16: לא באיו"ש | E16: סיוע לישובי הדרום | F16: 0 | G16: - | H16: - | I16: - | J16: - | K16: - | L16: - | M16: - | N16: 905777 | O16: =VLOOKUP(A16,'[1]ינואר עד יוני 2016'!A:F,6,0) -> 719387 | P16: 719387 | Q16: =SUM(G16:P16)/1000-O16/1000 -> 1625.164 | R16: 5654836 | S16: =R16/1000 -> 5654.836 | T16: =Q16+S16 -> 7280 | U16: =VLOOKUP(A16,'[1]16'!B:W,22,0) -> 7280 | V16: 0 | W16: =U16+V16 -> 7280 | X16: =W16-T16 -> 0 | Y16: 0 | Z16: =Y16+S16 -> 5654.836 | AB16: 5654.836 | AC16: =VLOOKUP(A16,'[1]16'!B:AL,30,0) -> 0 | AD16: =VLOOKUP(A16,'[1]16'!B:AK,31,1) -> 0 | AE16: =VLOOKUP(A16,'[1]16'!B:AK,32,1) -> 0 | AF16: =VLOOKUP(A16,'[1]16'!B:AL,33,1) -> 0 | AG16: 0 | AH16: 0 | AI16: 0 | AJ16: =SUM(AB16:AI16) -> 5654.836 | AK16: =AJ16-Z16 -> 0
A17: החלטת ממשלה 2025 - הפרדה במקור (הפרדת פסולת ביתית - רשויות מקדימות) | B17: פיתוח | C17: פיתוח - תמיכות | D17: לא באיו"ש | E17: סיוע לישובי הדרום | F17: 0 | G17: - | H17: - | I17: - | J17: - | K17: - | L17: - | M17: - | N17: - | P17: - | Q17: =SUM(G17:P17)/1000-O17/1000 -> 0 | R17: 7555600 | S17: =R17/1000 -> 7555.6 | T17: =Q17+S17 -> 7555.6 | U17: =VLOOKUP(A17,'[1]16'!B:W,22,0) -> 9700 | V17: 0 | W17: =U17+V17 -> 9700 | X17: =W17-T17 -> 2144.4 | Y17: =VLOOKUP(A17,'[1]16'!B:AK,25,0) -> 2144.4 | Z17: =Y17+S17 -> 9700 | AB17: 9700 | AC17: =VLOOKUP(A17,'[1]16'!B:AL,30,0) -> 0 | AD17: =VLOOKUP(A17,'[1]16'!B:AK,31,1) -> 0 | AE17: =VLOOKUP(A17,'[1]16'!B:AK,32,1) -> 0 | AF17: =VLOOKUP(A17,'[1]16'!B:AL,33,1) -> 0 | AG17: 0 | AH17: 0 | AI17: 0 | AJ17: =SUM(AB17:AI17) -> 9700 | AK17: =AJ17-Z17 -> 0
A18: החלטת ממשלה 2025 - חינוך סביבתי (תמיכה ביוזמות בית ספריות) | B18: נוספות | C18: נוספות - חינוך והסברה | D18: לא באיו"ש | E18: סיוע לישובי הדרום | F18: 0 | G18: - | H18: - | I18: - | J18: - | K18: - | L18: - | M18: - | N18: 110333 | O18: =VLOOKUP(A18,'[1]ינואר עד יוני 2016'!A:F,6,0) -> 687962 | P18: 1037035 | Q18: =SUM(G18:P18)/1000-O18/1000 -> 1147.368 | R18: 2597886 | S18: =R18/1000 -> 2597.886 | T18: =Q18+S18 -> 3745.254 | U18: =VLOOKUP(A18,'[1]16'!B:W,22,0) -> 3800 | V18: 0 | W18: =U18+V18 -> 3800 | X18: =W18-T18 -> 54.746 | Y18: 0 | Z18: =Y18+S18 -> 2597.886 | AB18: 2597.886 | AC18: =VLOOKUP(A18,'[1]16'!B:AL,30,0) -> 0 | AD18: =VLOOKUP(A18,'[1]16'!B:AK,31,1) -> 0 | AE18: =VLOOKUP(A18,'[1]16'!B:AK,32,1) -> 0 | AF18: =VLOOKUP(A18,'[1]16'!B:AL,33,1) -> 0 | AG18: 0 | AH18: 0 | AI18: 0 | AJ18: =SUM(AB18:AI18) -> 2597.886 | AK18: =AJ18-Z18 -> 0
A19: החלטת ממשלה 2025 - טיפול במפגעי פסולת בניין על ידי פינוי ומחזור בדרום | B19: פיתוח | C19: פיתוח - תמיכות | D19: לא באיו"ש | E19: סיוע לישובי הדרום | F19: 0 | G19: - | H19: - | I19: - | J19: - | K19: - | L19: - | M19: - | N19: - | O19: =VLOOKUP(A19,'[1]ינואר עד יוני 2016'!A:F,6,0) -> 458484 | P19: 4524125 | Q19: =SUM(G19:P19)/1000-O19/1000 -> 4524.125 | R19: 5465875 | S19: =R19/1000 -> 5465.875 | T19: =Q19+S19 -> 9990 | U19: =VLOOKUP(A19,'[1]16'!B:W,22,0) -> 10000 | V19: 0 | W19: =U19+V19 -> 10000 | X19: =W19-T19 -> 10 | Y19: 0 | Z19: =Y19+S19 -> 5465.875 | AB19: 5465.875 | AC19: =VLOOKUP(A19,'[1]16'!B:AL,30,0) -> 0 | AD19: =VLOOKUP(A19,'[1]16'!B:AK,31,1) -> 0 | AE19: =VLOOKUP(A19,'[1]16'!B:AK,32,1) -> 0 | AF19: =VLOOKUP(A19,'[1]16'!B:AL,33,1) -> 0 | AG19: 0 | AH19: 0 | AI19: 0 | AJ19: =SUM(AB19:AI19) -> 5465.875 | AK19: =AJ19-Z19 -> 0
A20: הטמעת שיח של ניהול חומרים מקיים | B20: פיתוח | C20: פיתוח - רכש | D20: לא באיו"ש | E20: פרוייקטים שונים | F20: 0 | G20: - | H20: - | I20: - | J20: - | K20: - | L20: 136789 | M20: - | N20: 274465.75 | P20: - | Q20: =SUM(G20:P20)/1000-O20/1000 -> 411.25475 | R20: 632655.25 | S20: =R20/1000 -> 632.65525 | T20: =Q20+S20 -> 1043.91 | U20: =VLOOKUP(A20,'[1]16'!B:W,22,0) -> 1050 | V20: 0 | W20: =U20+V20 -> 1050 | X20: =W20-T20 -> 6.09 | Y20: 0 | Z20: =Y20+S20 -> 632.65525 | AB20: 632.65525 | AC20: =VLOOKUP(A20,'[1]16'!B:AL,30,0) -> 0 | AD20: =VLOOKUP(A20,'[1]16'!B:AK,31,1) -> 0 | AE20: =VLOOKUP(A20,'[1]16'!B:AK,32,1) -> 0 | AF20: =VLOOKUP(A20,'[1]16'!B:AL,33,1) -> 0 | AG20: 0 | AH20: 0 | AI20: 0 | AJ20: =SUM(AB20:AI20) -> 632.65525 | AK20: =AJ20-Z20 -> 0
A21: הכנת תקן לחומרי בנייה | B21: פיתוח | C21: פיתוח - רכש | D21: לא באיו"ש | E21: פרוייקטים שונים | F21: 0 | G21: - | H21: - | I21: - | J21: - | K21: - | L21: 106470 | M21: 322199 | N21: - | P21: - | Q21: =SUM(G21:P21)/1000-O21/1000 -> 428.669 | R21: 0 | S21: 0 | T21: =Q21+S21 -> 428.669 | U21: =VLOOKUP(A21,'[1]16'!B:W,22,0) -> 428.67608 | V21: 0 | W21: =U21+V21 -> 428.67608 | X21: =W21-T21 -> 0.00708 | Y21: 0 | Z21: =Y21+S21 -> 0 | AB21: 0 | AC21: =VLOOKUP(A21,'[1]16'!B:AL,30,0) -> 0 | AD21: =VLOOKUP(A21,'[1]16'!B:AK,31,1) -> 0 | AE21: =VLOOKUP(A21,'[1]16'!B:AK,32,1) -> 0 | AF21: =VLOOKUP(A21,'[1]16'!B:AL,33,1) -> 0 | AG21: 0 | AH21: 0 | AI21: 0 | AJ21: =SUM(AB21:AI21) -> 0 | AK21: =AJ21-Z21 -> 0
A22: הסברה במגזר הערבי | B22: נוספות | C22: נוספות - חינוך והסברה | D22: לא באיו"ש | E22: הסברה | F22: 0 | G22: - | H22: - | I22: - | J22: - | K22: - | L22: - | M22: 7599.2 | N22: 165441.47 | P22: 101655.45 | Q22: =SUM(G22:P22)/1000-O22/1000 -> 274.69612 | R22: 725303.88 | S22: =R22/1000 -> 725.30388 | T22: =Q22+S22 -> 1000 | U22: =VLOOKUP(A22,'[1]16'!B:W,22,0) -> 1000 | V22: 0 | W22: =U22+V22 -> 1000 | X22: =W22-T22 -> 0 | Y22: 0 | Z22: =Y22+S22 -> 725.30388 | AB22: 725.30388 | AC22: =VLOOKUP(A22,'[1]16'!B:AL,30,0) -> 0 | AD22: =VLOOKUP(A22,'[1]16'!B:AK,31,1) -> 0 | AE22: =VLOOKUP(A22,'[1]16'!B:AK,32,1) -> 0 | AF22: =VLOOKUP(A22,'[1]16'!B:AL,33,1) -> 0 | AG22: 0 | AH22: 0 | AI22: 0 | AJ22: =SUM(AB22:AI22) -> 725.30388 | AK22: =AJ22-Z22 -> 0
A23: הסברה מפרץ חיפה | B23: נוספות | C23: נוספות - חינוך והסברה | D23: לא באיו"ש | E23: הסברה | F23: 0 | G23: - | H23: - | I23: - | J23: - | K23: - | L23: - | M23: - | N23: - | P23: 786125.11 | Q23: =SUM(G23:P23)/1000-O23/1000 -> 786.12511 | R23: 413874.89 | S23: =R23/1000 -> 413.87489 | T23: =Q23+S23 -> 1200 | U23: =VLOOKUP(A23,'[1]16'!B:W,22,0) -> 1200 | V23: 0 | W23: =U23+V23 -> 1200 | X23: =W23-T23 -> 0 | Y23: 0 | Z23: =Y23+S23 -> 413.87489 | AB23: 413.87489 | AC23: =VLOOKUP(A23,'[1]16'!B:AL,30,0) -> 0 | AD23: =VLOOKUP(A23,'[1]16'!B:AK,31,1) -> 0 | AE23: =VLOOKUP(A23,'[1]16'!B:AK,32,1) -> 0 | AF23: =VLOOKUP(A23,'[1]16'!B:AL,33,1) -> 0 | AG23: 0 | AH23: 0 | AI23: 0 | AJ23: =SUM(AB23:AI23) -> 413.87489 | AK23: =AJ23-Z23 -> 0
A24: הסדרת שוק הפסולת במגזר הבדואי | B24: נוספות | C24: נוספות - מגזרים מוחלשים | D24: לא באיו"ש | E24: בדואים | F24: 0 | G24: - | H24: - | I24: - | J24: - | K24: - | L24: - | M24: 3452495 | N24: 7601344.3 | O24: =VLOOKUP(A24,'[1]ינואר עד יוני 2016'!A:F,6,0) -> 2576949 | P24: 6877978 | Q24: =SUM(G24:P24)/1000-O24/1000 -> 17931.817 | R24: 22772725 | S24: =R24/1000 -> 22772.725 | T24: =Q24+S24 -> 40704.542 | U24: =VLOOKUP(A24,'[1]16'!B:W,22,0) -> 51415 | V24: 0 | W24: =U24+V24 -> 51415 | X24: =W24-T24 -> 10710.458 | Y24: 10710 | Z24: =Y24+S24 -> 33482.725 | AB24: 33482.725 | AC24: =VLOOKUP(A24,'[1]16'!B:AL,30,0) -> 0 | AD24: =VLOOKUP(A24,'[1]16'!B:AK,31,1) -> 0 | AE24: =VLOOKUP(A24,'[1]16'!B:AK,32,1) -> 0 | AF24: =VLOOKUP(A24,'[1]16'!B:AL,33,1) -> 0 | AG24: 0 | AH24: 0 | AI24: 0 | AJ24: =SUM(AB24:AI24) -> 33482.725 | AK24: =AJ24-Z24 -> 0
A25: הסוכה הירוקה בבית הנשיא | B25: פיתוח | C25: פיתוח - רכש | D25: לא באיו"ש | E25: חינוך | F25: 0 | G25: - | H25: - | I25: - | J25: - | K25: - | L25: - | M25: 326748.86 | N25: - | P25: - | Q25: =SUM(G25:P25)/1000-O25/1000 -> 326.74886 | R25: 5076.31 | S25: =R25/1000 -> 5.07631 | T25: =Q25+S25 -> 331.82517 | U25: =VLOOKUP(A25,'[1]16'!B:W,22,0) -> 300 | V25: 0 | W25: =U25+V25 -> 300 | X25: =W25-T25 -> -31.82517 | Y25: 0 | Z25: =Y25+S25 -> 5.07631 | AB25: 5.07631 | AC25: =VLOOKUP(A25,'[1]16'!B:AL,30,0) -> 0 | AD25: =VLOOKUP(A25,'[1]16'!B:AK,31,1) -> 0 | AE25: =VLOOKUP(A25,'[1]16'!B:AK,32,1) -> 0 | AF25: =VLOOKUP(A25,'[1]16'!B:AL,33,1) -> 0 | AG25: 0 | AH25: 0 | AI25: 0 | AJ25: =SUM(AB25:AI25) -> 5.07631 | AK25: =AJ25-Z25 -> 0
A26: הסמכת גני ילדים | B26: פיתוח | C26: פיתוח - רכש | D26: לא באיו"ש | E26: חינוך | F26: 0 | G26: - | H26: - | I26: - | J26: - | K26: - | L26: 10036.37 | M26: 48412.36 | N26: 1888 | O26: =VLOOKUP(A26,'[1]ינואר עד יוני 2016'!A:F,6,0) -> 2527.2 | P26: 2527.2 | Q26: =SUM(G26:P26)/1000-O26/1000 -> 62.86393 | R26: 3505.37 | S26: =R26/1000 -> 3.50537 | T26: =Q26+S26 -> 66.3693 | U26: =VLOOKUP(A26,'[1]16'!B:W,22,0) -> 1000 | V26: 0 | W26: =U26+V26 -> 1000 | X26: =W26-T26 -> 933.6307 | Y26: 0 | Z26: =Y26+S26 -> 3.50537 | AB26: 3.50537 | AC26: =VLOOKUP(A26,'[1]16'!B:AL,30,0) -> 0 | AD26: =VLOOKUP(A26,'[1]16'!B:AK,31,1) -> 0 | AE26: =VLOOKUP(A26,'[1]16'!B:AK,32,1) -> 0 | AF26: =VLOOKUP(A26,'[1]16'!B:AL,33,1) -> 0 | AG26: 0 | AH26: 0 | AI26: 0 | AJ26: =SUM(AB26:AI26) -> 3.50537 | AK26: =AJ26-Z26 -> 0
A27: הסמכת שבט/סניף/מעוז ירוק בתנועות נוער | B27: פיתוח | C27: פיתוח - רכש | D27: לא באיו"ש | E27: חינוך | F27: 0 | G27: - | H27: - | I27: - | J27: - | K27: - | L27: 500000 | M27: 505440 | N27: 1000000 | P27: - | Q27: =SUM(G27:P27)/1000-O27/1000 -> 2005.44 | R27: 0 | S27: 0 | T27: =Q27+S27 -> 2005.44 | U27: =VLOOKUP(A27,'[1]16'!B:W,22,0) -> 2000 | V27: 0 | W27: =U27+V27 -> 2000 | X27: =W27-T27 -> -5.44 | Y27: 0 | Z27: =Y27+S27 -> 0 | AB27: 0 | AC27: =VLOOKUP(A27,'[1]16'!B:AL,30,0) -> 0 | AD27: =VLOOKUP(A27,'[1]16'!B:AK,31,1) -> 0 | AE27: =VLOOKUP(A27,'[1]16'!B:AK,32,1) -> 0 | AF27: =VLOOKUP(A27,'[1]16'!B:AL,33,1) -> 0 | AG27: 0 | AH27: 0 | AI27: 0 | AJ27: =SUM(AB27:AI27) -> 0 | AK27: =AJ27-Z27 -> 0
A28: הסרת גגות אסבסט צמנט עוטף עזה | B28: נוספות | C28: נוספות - אסבסט | D28: לא באיו"ש | E28: טיפול באסבסט | F28: 0 | G28: - | H28: - | I28: - | J28: - | K28: - | L28: - | M28: - | N28: - | P28: 2640853.7 | Q28: =SUM(G28:P28)/1000-O28/1000 -> 2640.8537 | R28: 4859145.3 | S28: =R28/1000 -> 4859.1453 | T28: =Q28+S28 -> 7499.999 | U28: =VLOOKUP(A28,'[1]16'!B:W,22,0) -> 7500 | V28: 0 | W28: =U28+V28 -> 7500 | X28: =W28-T28 -> 0.001 | Y28: 0 | Z28: =Y28+S28 -> 4859.1453 | AB28: 4859 | AC28: =VLOOKUP(A28,'[1]16'!B:AL,30,0) -> 0 | AD28: =VLOOKUP(A28,'[1]16'!B:AK,31,1) -> 0 | AE28: =VLOOKUP(A28,'[1]16'!B:AK,32,1) -> 0 | AF28: =VLOOKUP(A28,'[1]16'!B:AL,33,1) -> 0 | AG28: 0 | AH28: 0 | AI28: 0 | AJ28: =SUM(AB28:AI28) -> 4859 | AK28: =AJ28-Z28 -> -0.14534
A29: העברה למשרד הביטחון - הסברה והצבת תשתיות למיחזור (כולל פרוייקטור) | B29: פיתוח | C29: פיתוח - רכש | D29: לא באיו"ש | E29: פרוייקטים שונים | F29: 0 | G29: - | H29: - | I29: - | J29: 250000 | K29: - | L29: - | M29: - | N29: - | P29: - | Q29: =SUM(G29:P29)/1000-O29/1000 -> 250 | R29: 0 | S29: 0 | T29: =Q29+S29 -> 250 | U29: =VLOOKUP(A29,'[1]16'!B:W,22,0) -> 250 | V29: 0 | W29: =U29+V29 -> 250 | X29: =W29-T29 -> 0 | Y29: 0 | Z29: =Y29+S29 -> 0 | AB29: 0 | AC29: =VLOOKUP(A29,'[1]16'!B:AL,30,0) -> 0 | AD29: =VLOOKUP(A29,'[1]16'!B:AK,31,1) -> 0 | AE29: =VLOOKUP(A29,'[1]16'!B:AK,32,1) -> 0 | AF29: =VLOOKUP(A29,'[1]16'!B:AL,33,1) -> 0 | AG29: 0 | AH29: 0 | AI29: 0 | AJ29: =SUM(AB29:AI29) -> 0 | AK29: =AJ29-Z29 -> 0
A30: העברה לרט"ג - הקמת מרכזי הפרדה ומיון בשמורות טבע וגנים לאומיים | B30: פיתוח | C30: פיתוח - רכש | D30: לא באיו"ש | E30: פרוייקטים שונים | F30: 0 | G30: - | H30: - | I30: - | J30: 934000 | K30: - | L30: - | M30: - | N30: - | P30: - | Q30: =SUM(G30:P30)/1000-O30/1000 -> 934 | R30: 0 | S30: 0 | T30: =Q30+S30 -> 934 | U30: =VLOOKUP(A30,'[1]16'!B:W,22,0) -> 934 | V30: 0 | W30: =U30+V30 -> 934 | X30: =W30-T30 -> 0 | Y30: 0 | Z30: =Y30+S30 -> 0 | AB30: 0 | AC30: =VLOOKUP(A30,'[1]16'!B:AL,30,0) -> 0 | AD30: =VLOOKUP(A30,'[1]16'!B:AK,31,1) -> 0 | AE30: =VLOOKUP(A30,'[1]16'!B:AK,32,1) -> 0 | AF30: =VLOOKUP(A30,'[1]16'!B:AL,33,1) -> 0 | AG30: 0 | AH30: 0 | AI30: 0 | AJ30: =SUM(AB30:AI30) -> 0 | AK30: =AJ30-Z30 -> 0
A31: העסקת מתנדבי/ות שירות לאומי | B31: נוספות | C31: נוספות - חינוך והסברה | D31: לא באיו"ש | E31: פרוייקטים שונים | F31: 0 | G31: - | H31: - | I31: - | J31: - | K31: 16613.73 | L31: 635448.08 | M31: 80323.08 | N31: - | P31: - | Q31: =SUM(G31:P31)/1000-O31/1000 -> 732.38489 | R31: 7005.96 | S31: =R31/1000 -> 7.00596 | T31: =Q31+S31 -> 739.39085 | U31: =VLOOKUP(A31,'[1]16'!B:W,22,0) -> 748.35045 | V31: 0 | W31: =U31+V31 -> 748.35045 | X31: =W31-T31 -> 8.9596 | Y31: 0 | Z31: =Y31+S31 -> 7.00596 | AB31: 7 | AC31: =VLOOKUP(A31,'[1]16'!B:AL,30,0) -> 0 | AD31: =VLOOKUP(A31,'[1]16'!B:AK,31,1) -> 0 | AE31: =VLOOKUP(A31,'[1]16'!B:AK,32,1) -> 0 | AF31: =VLOOKUP(A31,'[1]16'!B:AL,33,1) -> 0 | AG31: 0 | AH31: 0 | AI31: 0 | AJ31: =SUM(AB31:AI31) -> 7 | AK31: =AJ31-Z31 -> -0.00596
A32: הפקת מערכי שיעור בנושא הפרדה לשני זרמים | B32: פיתוח | C32: פיתוח - רכש | D32: לא באיו"ש | E32: חינוך | F32: 0 | G32: - | H32: - | I32: - | J32: - | K32: - | L32: - | M32: 3220 | N32: - | P32: - | Q32: =SUM(G32:P32)/1000-O32/1000 -> 3.22 | R32: 0 | S32: 0 | T32: =Q32+S32 -> 3.22 | U32: =VLOOKUP(A32,'[1]16'!B:W,22,0) -> 125 | V32: 0 | W32: =U32+V32 -> 125 | X32: =W32-T32 -> 121.78 | Y32: 0 | Z32: =Y32+S32 -> 0 | AB32: 0 | AC32: =VLOOKUP(A32,'[1]16'!B:AL,30,0) -> 0 | AD32: =VLOOKUP(A32,'[1]16'!B:AK,31,1) -> 0 | AE32: =VLOOKUP(A32,'[1]16'!B:AK,32,1) -> 0 | AF32: =VLOOKUP(A32,'[1]16'!B:AL,33,1) -> 0 | AG32: 0 | AH32: 0 | AI32: 0 | AJ32: =SUM(AB32:AI32) -> 0 | AK32: =AJ32-Z32 -> 0
A33: הפרדה במקור רשויות אחרות | B33: פיתוח | C33: פיתוח - תמיכות | D33: לא באיו"ש | E33: הפרדה במקור | F33: 0 | G33: - | H33: - | I33: - | J33: - | K33: - | L33: - | M33: 1185736 | N33: 6568694 | O33: =VLOOKUP(A33,'[1]ינואר עד יוני 2016'!A:F,6,0) -> 5283689 | P33: 11717992 | Q33: =SUM(G33:P33)/1000-O33/1000 -> 19472.422 | R33: 122778081 | S33: =R33/1000 -> 122778.08 | T33: =Q33+S33 -> 142250.5 | U33: =VLOOKUP(A33,'[1]16'!B:W,22,0) -> 145000 | V33: 0 | W33: =U33+V33 -> 145000 | X33: =W33-T33 -> 2749.497 | Y33: 0 | Z33: =Y33+S33 -> 122778.08 | AB33: 122778 | AC33: 0 | AD33: 0 | AE33: =VLOOKUP(A33,'[1]16'!B:AK,32,1) -> 0 | AF33: =VLOOKUP(A33,'[1]16'!B:AL,33,1) -> 0 | AG33: 0 | AH33: 0 | AI33: 0 | AJ33: =SUM(AB33:AI33) -> 122778 | AK33: =AJ33-Z33 -> -0.081
A34: הפרדה במקור רשויות אחרות - איו"ש | B34: כללי | C34: כללי - אמצעים חלופיים להטמנה | D34: באיו"ש | E34: הפרדה במקור | F34: 0 | G34: - | H34: - | I34: - | J34: - | K34: - | L34: - | M34: 60884 | N34: 460258 | P34: - | Q34: =SUM(G34:P34)/1000-O34/1000 -> 521.142 | R34: 12492126 | S34: =R34/1000 -> 12492.126 | T34: =Q34+S34 -> 13013.268 | U34: =VLOOKUP(A34,'[1]16'!B:W,22,0) -> 15000 | V34: 0 | W34: =U34+V34 -> 15000 | X34: =W34-T34 -> 1986.732 | Y34: 0 | Z34: =Y34+S34 -> 12492.126 | AB34: 12492 | AC34: 0 | AD34: 0 | AE34: =VLOOKUP(A34,'[1]16'!B:AK,32,1) -> 0 | AF34: =VLOOKUP(A34,'[1]16'!B:AL,33,1) -> 0 | AG34: 0 | AH34: 0 | AI34: 0 | AJ34: =SUM(AB34:AI34) -> 12492 | AK34: =AJ34-Z34 -> -0.126
A35: הפרדה במקור רשויות מיקוד | B35: פיתוח | C35: פיתוח - תמיכות | D35: לא באיו"ש | E35: הפרדה במקור | F35: 0 | G35: - | H35: - | I35: - | J35: - | K35: 13318411 | L35: 54773520 | M35: 45702261 | N35: 45448721 | O35: =VLOOKUP(A35,'[1]ינואר עד יוני 2016'!A:F,6,0) -> 29702885 | P35: 31639983 | Q35: =SUM(G35:P35)/1000-O35/1000 -> 190882.9 | R35: 142809065 | S35: =R35/1000 -> 142809.07 | T35: =Q35+S35 -> 333691.96 | U35: =VLOOKUP(A35,'[1]16'!B:W,22,0) -> 333692 | V35: 0 | W35: =U35+V35 -> 333692 | X35: =W35-T35 -> 0.043 | Y35: 0 | Z35: =Y35+S35 -> 142809.07 | AB35: 142809 | AC35: =VLOOKUP(A35,'[1]16'!B:AL,30,0) -> 0 | AD35: =VLOOKUP(A35,'[1]16'!B:AK,31,1) -> 0 | AE35: =VLOOKUP(A35,'[1]16'!B:AK,32,1) -> 0 | AF35: =VLOOKUP(A35,'[1]16'!B:AL,33,1) -> 0 | AG35: 0 | AH35: 0 | AI35: 0 | AJ35: =SUM(AB35:AI35) -> 142809 | AK35: =AJ35-Z35 -> -0.065
A36: הפרדה במקור רשיויות מיקוד - איו"ש | B36: כללי | C36: כללי - אמצעים חלופיים להטמנה | D36: באיו"ש | E36: הפרדה במקור | F36: 0 | G36: - | H36: - | I36: - | J36: - | K36: 133367 | L36: 782779 | M36: 939052 | N36: 255299 | P36: - | Q36: =SUM(G36:P36)/1000-O36/1000 -> 2110.497 | R36: 2179414 | S36: =R36/1000 -> 2179.414 | T36: =Q36+S36 -> 4289.911 | U36: =VLOOKUP(A36,'[1]16'!B:W,22,0) -> 4289.911 | V36: 0 | W36: =U36+V36 -> 4289.911 | X36: =W36-T36 -> 0 | Y36: 0 | Z36: =Y36+S36 -> 2179.414 | AB36: 2179 | AC36: =VLOOKUP(A36,'[1]16'!B:AL,30,0) -> 0 | AD36: =VLOOKUP(A36,'[1]16'!B:AK,31,1) -> 0 | AE36: =VLOOKUP(A36,'[1]16'!B:AK,32,1) -> 0 | AF36: =VLOOKUP(A36,'[1]16'!B:AL,33,1) -> 0 | AG36: 0 | AH36: 0 | AI36: 0 | AJ36: =SUM(AB36:AI36) -> 2179 | AK36: =AJ36-Z36 -> -0.414
A37: הקמת יחידת דוד לפיקוח על מעברי איו"ש | B37: כללי | C37: כללי - אכיפה ופיקוח | D37: באיו"ש | E37: פרוייקטים שונים | F37: 0 | G37: - | H37: - | I37: - | J37: - | K37: - | L37: - | M37: 5078027.8 | N37: 4161745.8 | O37: =VLOOKUP(A37,'[1]ינואר עד יוני 2016'!A:F,6,0) -> 924000 | P37: 3714339.8 | Q37: =SUM(G37:P37)/1000-O37/1000 -> 12954.113 | R37: 721198.6 | S37: =R37/1000 -> 721.1986 | T37: =Q37+S37 -> 13675.312 | U37: =VLOOKUP(A37,'[1]16'!B:W,22,0) -> 32200 | V37: 0 | W37: =U37+V37 -> 32200 | X37: =W37-T37 -> 18524.688 | Y37: =VLOOKUP(A37,'[1]16'!B:AK,25,0) -> 18543.028 | Z37: =Y37+S37 -> 19264.226 | AB37: =5500+3164 -> 8664 | AC37: 5300 | AD37: 5300 | AE37: =VLOOKUP(A37,'[1]16'!B:AK,32,1) -> 0 | AF37: =VLOOKUP(A37,'[1]16'!B:AL,33,1) -> 0 | AG37: 0 | AH37: 0 | AI37: 0 | AJ37: =SUM(AB37:AI37) -> 19264 | AK37: =AJ37-Z37 -> -0.22645
A38: הקמת מרכזי מחקר "פסולת למשאב" | B38: פיתוח | C38: פיתוח - רכש | D38: לא באיו"ש | E38: הקמת מרכז מחקר מפסולת למשאב | F38: 0 | G38: - | H38: - | I38: - | J38: - | K38: - | L38: - | M38: 2124 | N38: - | P38: - | Q38: =SUM(G38:P38)/1000-O38/1000 -> 2.124 | R38: 0 | S38: 0 | T38: =Q38+S38 -> 2.124 | U38: =VLOOKUP(A38,'[1]16'!B:W,22,0) -> 40000 | V38: 0 | W38: =U38+V38 -> 40000 | X38: =W38-T38 -> 39997.876 | Y38: =VLOOKUP(A38,'[1]16'!B:AK,25,0) -> 39997.876 | Z38: =Y38+S38 -> 39997.876 | AB38: 8000 | AC38: =VLOOKUP(A38,'[1]16'!B:AL,30,0) -> 8000 | AD38: =VLOOKUP(A38,'[1]16'!B:AK,31,1) -> 8000 | AE38: =VLOOKUP(A38,'[1]16'!B:AK,32,1) -> 8000 | AF38: 7998 | AG38: 0 | AH38: 0 | AI38: 0 | AJ38: =SUM(AB38:AI38) -> 39998 | AK38: =AJ38-Z38 -> 0.124
A39: הקמת מרכזי קיימות שכונתיים | B39: נוספות | C39: נוספות - חינוך והסברה | D39: לא באיו"ש | E39: חינוך | F39: 0 | G39: - | H39: - | I39: - | J39: - | K39: - | L39: 87000 | M39: 663000 | N39: 750000 | P39: - | Q39: =SUM(G39:P39)/1000-O39/1000 -> 1500 | R39: 0 | S39: 0 | T39: =Q39+S39 -> 1500 | U39: =VLOOKUP(A39,'[1]16'!B:W,22,0) -> 1500 | V39: 0 | W39: =U39+V39 -> 1500 | X39: =W39-T39 -> 0 | Y39: 0 | Z39: =Y39+S39 -> 0 | AB39: 0 | AC39: =VLOOKUP(A39,'[1]16'!B:AL,30,0) -> 0 | AD39: =VLOOKUP(A39,'[1]16'!B:AK,31,1) -> 0 | AE39: =VLOOKUP(A39,'[1]16'!B:AK,32,1) -> 0 | AF39: =VLOOKUP(A39,'[1]16'!B:AL,33,1) -> 0 | AG39: 0 | AH39: 0 | AI39: 0 | AJ39: =SUM(AB39:AI39) -> 0 | AK39: =AJ39-Z39 -> 0
A40: הקמת מתקני מיון ושדרוגם | B40: פיתוח | C40: פיתוח - תמיכות | D40: לא באיו"ש | E40: מתקני קצה | F40: 0 | G40: - | H40: - | I40: - | J40: - | K40: 252968 | L40: 4920978 | M40: 8800876 | N40: 5291123 | O40: =VLOOKUP(A40,'[1]ינואר עד יוני 2016'!A:F,6,0) -> 2617885.9 | P40: 2617885.9 | Q40: =SUM(G40:P40)/1000-O40/1000 -> 21883.831 | R40: 96546976 | S40: =R40/1000 -> 96546.977 | T40: =Q40+S40 -> 118430.81 | U40: =VLOOKUP(A40,'[1]16'!B:W,22,0) -> 145933.39 | V40: 0 | W40: =U40+V40 -> 145933.39 | X40: =W40-T40 -> 27502.584 | Y40: 0 | Z40: =Y40+S40 -> 96546.977 | AC40: =VLOOKUP(A40,'[1]16'!B:AL,30,0) -> 42634 | AD40: 39540 | AE40: =VLOOKUP(A40,'[1]16'!B:AK,32,1) -> 14373 | AF40: =VLOOKUP(A40,'[1]16'!B:AL,33,1) -> 0 | AG40: 0 | AH40: 0 | AI40: 0 | AJ40: =SUM(AB40:AI40) -> 96547 | AK40: =AJ40-Z40 -> 0.0235 | AL40: לא התקבל תזרים ממירב
A41: הקמת מתקני מיון ושדרוגם - איו"ש | B41: כללי | C41: כללי - אמצעים חלופיים להטמנה | D41: באיו"ש | E41: מתקני קצה | F41: 0 | G41: - | H41: - | I41: - | J41: - | K41: - | L41: - | M41: - | N41: - | P41: - | Q41: =SUM(G41:P41)/1000-O41/1000 -> 0 | R41: 3600000 | S41: =R41/1000 -> 3600 | T41: =Q41+S41 -> 3600 | U41: =VLOOKUP(A41,'[1]16'!B:W,22,0) -> 3600 | V41: 0 | W41: =U41+V41 -> 3600 | X41: =W41-T41 -> 0 | Y41: 0 | Z41: =Y41+S41 -> 3600 | AC41: =VLOOKUP(A41,'[1]16'!B:AL,30,0) -> 1800 | AD41: 1800 | AE41: =VLOOKUP(A41,'[1]16'!B:AK,32,1) -> 0 | AF41: =VLOOKUP(A41,'[1]16'!B:AL,33,1) -> 0 | AG41: 0 | AH41: 0 | AI41: 0 | AJ41: =SUM(AB41:AI41) -> 3600 | AK41: =AJ41-Z41 -> 0
A42: הקמת מתקני קצה ומיון קו"ק שני - 2012 | B42: פיתוח | C42: פיתוח - תמיכות | D42: לא באיו"ש | E42: מתקני קצה | F42: 0 | G42: - | H42: - | I42: - | J42: - | K42: - | L42: - | M42: 483810 | N42: 5942582 | P42: - | Q42: =SUM(G42:P42)/1000-O42/1000 -> 6426.392 | R42: 76119530 | S42: =R42/1000 -> 76119.53 | T42: =Q42+S42 -> 82545.922 | U42: =VLOOKUP(A42,'[1]16'!B:W,22,0) -> 82545.922 | V42: 0 | W42: =U42+V42 -> 82545.922 | X42: =W42-T42 -> 0 | Y42: 0 | Z42: =Y42+S42 -> 76119.53 | AC42: =VLOOKUP(A42,'[1]16'!B:AL,30,0) -> 21682 | AD42: 51121 | AE42: =VLOOKUP(A42,'[1]16'!B:AK,32,1) -> 3317 | AF42: =VLOOKUP(A42,'[1]16'!B:AL,33,1) -> 0 | AG42: 0 | AH42: 0 | AI42: 0 | AJ42: =SUM(AB42:AI42) -> 76120 | AK42: =AJ42-Z42 -> 0.47
A43: הקמת מתקני קצה ומיון קו"ק שני - 2012 - איו"ש | B43: כללי | C43: כללי - אמצעים חלופיים להטמנה | D43: באיו"ש | E43: מתקני קצה | F43: 0 | G43: - | H43: - | I43: - | J43: - | K43: - | L43: - | M43: - | N43: - | P43: - | Q43: =SUM(G43:P43)/1000-O43/1000 -> 0 | R43: 45833440 | S43: =R43/1000 -> 45833.44 | T43: =Q43+S43 -> 45833.44 | U43: =VLOOKUP(A43,'[1]16'!B:W,22,0) -> 45833.44 | V43: 0 | W43: =U43+V43 -> 45833.44 | X43: =W43-T43 -> 0 | Y43: 0 | Z43: =Y43+S43 -> 45833.44 | AC43: =VLOOKUP(A43,'[1]16'!B:AL,30,0) -> 22916 | AD43: 22917 | AE43: =VLOOKUP(A43,'[1]16'!B:AK,32,1) -> 0 | AF43: =VLOOKUP(A43,'[1]16'!B:AL,33,1) -> 0 | AG43: 0 | AH43: 0 | AI43: 0 | AJ43: =SUM(AB43:AI43) -> 45833 | AK43: =AJ43-Z43 -> -0.44
A44: הקמת מתקני קצה ושדרוגם | B44: פיתוח | C44: פיתוח - תמיכות | D44: לא באיו"ש | E44: מתקני קצה | F44: 0 | G44: - | H44: - | I44: - | J44: - | K44: 266830 | L44: - | M44: 408017.5 | N44: 4102682.5 | P44: - | Q44: =SUM(G44:P44)/1000-O44/1000 -> 4777.53 | R44: 82070217 | S44: =R44/1000 -> 82070.217 | T44: =Q44+S44 -> 86847.747 | U44: =VLOOKUP(A44,'[1]16'!B:W,22,0) -> 120676.67 | V44: 0 | W44: =U44+V44 -> 120676.67 | X44: =W44-T44 -> 33828.921 | Y44: 0 | Z44: =Y44+S44 -> 82070.217 | AC44: =VLOOKUP(A44,'[1]16'!B:AL,30,0) -> 38730 | AD44: 32328 | AE44: =VLOOKUP(A44,'[1]16'!B:AK,32,1) -> 11012 | AF44: =VLOOKUP(A44,'[1]16'!B:AL,33,1) -> 0 | AG44: 0 | AH44: 0 | AI44: 0 | AJ44: =SUM(AB44:AI44) -> 82070 | AK44: =AJ44-Z44 -> -0.21687
A45: הקמת מתקני קצה ושדרוגם - איו"ש | B45: כללי | C45: כללי - אמצעים חלופיים להטמנה | D45: באיו"ש | E45: מתקני קצה | F45: 0 | G45: - | H45: - | I45: - | J45: - | K45: - | L45: - | M45: - | N45: - | P45: - | Q45: =SUM(G45:P45)/1000-O45/1000 -> 0 | R45: 9875593.2 | S45: =R45/1000 -> 9875.5932 | T45: =Q45+S45 -> 9875.5932 | U45: =VLOOKUP(A45,'[1]16'!B:W,22,0) -> 9960 | V45: 0 | W45: =U45+V45 -> 9960 | X45: =W45-T45 -> 84.40678 | Y45: 0 | Z45: =Y45+S45 -> 9875.5932 | AC45: =VLOOKUP(A45,'[1]16'!B:AL,30,0) -> 2490 | AD45: 7386 | AE45: =VLOOKUP(A45,'[1]16'!B:AK,32,1) -> 0 | AF45: =VLOOKUP(A45,'[1]16'!B:AL,33,1) -> 0 | AG45: 0 | AH45: 0 | AI45: 0 | AJ45: =SUM(AB45:AI45) -> 9876 | AK45: =AJ45-Z45 -> 0.40678
A46: הרחבת מסע ההסברה לקניה באמצעות שקיות רב פעמיות | B46: פיתוח | C46: פיתוח - רכש | D46: לא באיו"ש | E46: הסברה | F46: 0 | G46: - | H46: - | I46: - | J46: - | K46: - | L46: - | M46: 119698.2 | N46: 171863.28 | P46: - | Q46: =SUM(G46:P46)/1000-O46/1000 -> 291.56148 | R46: 1708438.5 | S46: =R46/1000 -> 1708.4385 | T46: =Q46+S46 -> 2000 | U46: =VLOOKUP(A46,'[1]16'!B:W,22,0) -> 2000 | V46: 0 | W46: =U46+V46 -> 2000 | X46: =W46-T46 -> 0 | Y46: 0 | Z46: =Y46+S46 -> 1708.4385 | AB46: 1708 | AC46: =VLOOKUP(A46,'[1]16'!B:AL,30,0) -> 0 | AD46: =VLOOKUP(A46,'[1]16'!B:AK,31,1) -> 0 | AE46: =VLOOKUP(A46,'[1]16'!B:AK,32,1) -> 0 | AF46: =VLOOKUP(A46,'[1]16'!B:AL,33,1) -> 0 | AG46: 0 | AH46: 0 | AI46: 0 | AJ46: =SUM(AB46:AI46) -> 1708 | AK46: =AJ46-Z46 -> -0.43852
A47: השכלה גבוהה - הכשרת סטודנטים להוראה | B47: פיתוח | C47: פיתוח - רכש | D47: לא באיו"ש | E47: חינוך | F47: 0 | G47: - | H47: - | I47: - | J47: - | K47: - | L47: - | M47: 1000000 | N47: - | P47: - | Q47: =SUM(G47:P47)/1000-O47/1000 -> 1000 | R47: 0 | S47: 0 | T47: =Q47+S47 -> 1000 | U47: =VLOOKUP(A47,'[1]16'!B:W,22,0) -> 2000 | V47: 0 | W47: =U47+V47 -> 2000 | X47: =W47-T47 -> 1000 | Y47: 0 | Z47: =Y47+S47 -> 0 | AB47: 0 | AC47: =VLOOKUP(A47,'[1]16'!B:AL,30,0) -> 0 | AD47: =VLOOKUP(A47,'[1]16'!B:AK,31,1) -> 0 | AE47: =VLOOKUP(A47,'[1]16'!B:AK,32,1) -> 0 | AF47: =VLOOKUP(A47,'[1]16'!B:AL,33,1) -> 0 | AG47: 0 | AH47: 0 | AI47: 0 | AJ47: =SUM(AB47:AI47) -> 0 | AK47: =AJ47-Z47 -> 0
A48: השכלה גבוהה הכשרת סטודנטים במגזר החרדי | B48: פיתוח | C48: פיתוח - רכש | D48: לא באיו"ש | E48: חינוך | F48: 0 | G48: - | H48: - | I48: - | J48: - | K48: - | L48: - | M48: 503393.91 | N48: - | P48: - | Q48: =SUM(G48:P48)/1000-O48/1000 -> 503.39391 | R48: 0 | S48: 0 | T48: =Q48+S48 -> 503.39391 | U48: =VLOOKUP(A48,'[1]16'!B:W,22,0) -> 1000 | V48: 0 | W48: =U48+V48 -> 1000 | X48: =W48-T48 -> 496.60609 | Y48: 0 | Z48: =Y48+S48 -> 0 | AB48: 0 | AC48: =VLOOKUP(A48,'[1]16'!B:AL,30,0) -> 0 | AD48: =VLOOKUP(A48,'[1]16'!B:AK,31,1) -> 0 | AE48: =VLOOKUP(A48,'[1]16'!B:AK,32,1) -> 0 | AF48: =VLOOKUP(A48,'[1]16'!B:AL,33,1) -> 0 | AG48: 0 | AH48: 0 | AI48: 0 | AJ48: =SUM(AB48:AI48) -> 0 | AK48: =AJ48-Z48 -> 0
A49: השלמת תקציב פרוייקט קו התפר | B49: נוספות | C49: נוספות - מגזרים מוחלשים | D49: לא באיו"ש | E49: פרוייקטים שונים | F49: 17/4/2016 | G49: - | H49: - | I49: - | J49: - | K49: - | L49: - | M49: - | N49: - | P49: - | Q49: =SUM(G49:P49)/1000-O49/1000 -> 0 | R49: 1500000 | S49: =R49/1000 -> 1500 | T49: =Q49+S49 -> 1500 | U49: 0 | V49: 1500 | W49: =U49+V49 -> 1500 | X49: =W49-T49 -> 0 | Y49: 0 | Z49: =Y49+S49 -> 1500 | AB49: 1500 | AC49: =VLOOKUP(A49,'[1]16'!B:AL,30,0) -> 0 | AD49: =VLOOKUP(A49,'[1]16'!B:AK,31,1) -> 0 | AE49: =VLOOKUP(A49,'[1]16'!B:AK,32,1) -> 0 | AF49: =VLOOKUP(A49,'[1]16'!B:AL,33,1) -> 0 | AG49: 0 | AH49: 0 | AI49: 0 | AJ49: =SUM(AB49:AI49) -> 1500 | AK49: =AJ49-Z49 -> 0
A50: השתתפות במשרד החינוך | B50: נוספות | C50: נוספות - חינוך והסברה | D50: לא באיו"ש | E50: חינוך | F50: 0 | G50: - | H50: - | I50: 2649091 | J50: 9802000 | K50: 8437000 | L50: - | M50: - | N50: - | P50: - | Q50: =SUM(G50:P50)/1000-O50/1000 -> 20888.091 | R50: 0 | S50: 0 | T50: =Q50+S50 -> 20888.091 | U50: =VLOOKUP(A50,'[1]16'!B:W,22,0) -> 20888 | V50: 0 | W50: =U50+V50 -> 20888 | X50: =W50-T50 -> -0.091 | Y50: 0 | Z50: =Y50+S50 -> 0 | AB50: 0 | AC50: =VLOOKUP(A50,'[1]16'!B:AL,30,0) -> 0 | AD50: =VLOOKUP(A50,'[1]16'!B:AK,31,1) -> 0 | AE50: =VLOOKUP(A50,'[1]16'!B:AK,32,1) -> 0 | AF50: =VLOOKUP(A50,'[1]16'!B:AL,33,1) -> 0 | AG50: 0 | AH50: 0 | AI50: 0 | AJ50: =SUM(AB50:AI50) -> 0 | AK50: =AJ50-Z50 -> 0
A51: חברה מלווה בדיקה חשבונאית והנדסית | B51: פיתוח | C51: פיתוח - רכש | D51: לא באיו"ש | E51: בקרה | F51: 0 | G51: - | H51: - | I51: 218591.56 | J51: 2021555.2 | K51: 1724835.3 | L51: 572542.5 | M51: 855535.4 | N51: 543637.16 | O51: =VLOOKUP(A51,'[1]ינואר עד יוני 2016'!A:F,6,0) -> 453719.45 | P51: 453719.45 | Q51: =SUM(G51:P51)/1000-O51/1000 -> 6390.4166 | R51: 1171922.8 | S51: =R51/1000 -> 1171.9227 | T51: =Q51+S51 -> 7562.3394 | U51: =VLOOKUP(A51,'[1]16'!B:W,22,0) -> 17484.812 | V51: 0 | W51: =U51+V51 -> 17484.812 | X51: =W51-T51 -> 9922.4726 | Y51: 0 | Z51: =Y51+S51 -> 1171.9227 | AB51: 1172 | AF51: =VLOOKUP(A51,'[1]16'!B:AL,33,1) -> 0 | AG51: 0 | AH51: 0 | AI51: 0 | AJ51: =SUM(AB51:AI51) -> 1172 | AK51: =AJ51-Z51 -> 0.07725
A52: חברה מלווה לפרוייקט שקיות פלסטיק | B52: פיתוח | C52: פיתוח - רכש | D52: לא באיו"ש | E52: פרוייקטים שונים | F52: 0 | G52: - | H52: - | I52: - | J52: - | K52: - | L52: - | M52: 3880.83 | N52: 2552.16 | P52: - | Q52: =SUM(G52:P52)/1000-O52/1000 -> 6.43299 | R52: 0 | S52: 0 | T52: =Q52+S52 -> 6.43299 | U52: =VLOOKUP(A52,'[1]16'!B:W,22,0) -> 5000 | V52: 0 | W52: =U52+V52 -> 5000 | X52: =W52-T52 -> 4993.567 | Y52: 0 | Z52: =Y52+S52 -> 0 | AB52: 0 | AC52: =VLOOKUP(A52,'[1]16'!B:AL,30,0) -> 0 | AD52: =VLOOKUP(A52,'[1]16'!B:AK,31,1) -> 0 | AE52: =VLOOKUP(A52,'[1]16'!B:AK,32,1) -> 0 | AF52: =VLOOKUP(A52,'[1]16'!B:AL,33,1) -> 0 | AG52: 0 | AH52: 0 | AI52: 0 | AJ52: =SUM(AB52:AI52) -> 0 | AK52: =AJ52-Z52 -> 0
A53: חוף נקי - תוכניות חינוכיות | B53: נוספות | C53: נוספות - חינוך והסברה | D53: לא באיו"ש | E53: חינוך | F53: 0 | G53: - | H53: - | I53: - | J53: - | K53: - | L53: - | M53: 301646.2 | N53: 649673.9 | O53: =VLOOKUP(A53,'[1]ינואר עד יוני 2016'!A:F,6,0) -> 52502 | P53: 109151.03 | Q53: =SUM(G53:P53)/1000-O53/1000 -> 1060.4711 | R53: 5599.46 | S53: =R53/1000 -> 5.59946 | T53: =Q53+S53 -> 1066.0706 | U53: =VLOOKUP(A53,'[1]16'!B:W,22,0) -> 1300 | V53: 0 | W53: =U53+V53 -> 1300 | X53: =W53-T53 -> 233.92941 | Z53: =Y53+S53 -> 5.59946 | AB53: 6 | AC53: =VLOOKUP(A53,'[1]16'!B:AL,30,0) -> 0 | AD53: =VLOOKUP(A53,'[1]16'!B:AK,31,1) -> 0 | AE53: =VLOOKUP(A53,'[1]16'!B:AK,32,1) -> 0 | AF53: =VLOOKUP(A53,'[1]16'!B:AL,33,1) -> 0 | AG53: 0 | AH53: 0 | AI53: 0 | AJ53: =SUM(AB53:AI53) -> 6 | AK53: =AJ53-Z53 -> 0.40054
A54: חינוך לקיימות מקומית - איו"ש | B54: כללי | C54: כללי - חינוך והסברה | D54: באיו"ש | E54: חינוך | F54: 0 | G54: - | H54: - | I54: - | J54: 119088.04 | K54: - | L54: - | M54: - | N54: 66830.4 | P54: - | Q54: =SUM(G54:P54)/1000-O54/1000 -> 185.91844 | R54: 5169.6 | S54: =R54/1000 -> 5.1696 | T54: =Q54+S54 -> 191.08804 | U54: =VLOOKUP(A54,'[1]16'!B:W,22,0) -> 119.5 | V54: 0 | W54: =U54+V54 -> 119.5 | X54: =W54-T54 -> -71.58804 | Y54: 0 | Z54: =Y54+S54 -> 5.1696 | AB54: 5 | AC54: =VLOOKUP(A54,'[1]16'!B:AL,30,0) -> 0 | AD54: =VLOOKUP(A54,'[1]16'!B:AK,31,1) -> 0 | AE54: =VLOOKUP(A54,'[1]16'!B:AK,32,1) -> 0 | AF54: =VLOOKUP(A54,'[1]16'!B:AL,33,1) -> 0 | AG54: 0 | AH54: 0 | AI54: 0 | AJ54: =SUM(AB54:AI54) -> 5 | AK54: =AJ54-Z54 -> -0.1696
A55: טיפול בבוצת מט"שים | B55: פיתוח | C55: פיתוח - תמיכות | D55: לא באיו"ש | E55: תמיכות שונות | F55: 0 | G55: - | H55: - | I55: - | J55: - | K55: - | L55: - | M55: - | N55: 194000 | O55: =VLOOKUP(A55,'[1]ינואר עד יוני 2016'!A:F,6,0) -> 1455000 | P55: 1455000 | Q55: =SUM(G55:P55)/1000-O55/1000 -> 1649 | R55: 6350999 | S55: =R55/1000 -> 6350.999 | T55: =Q55+S55 -> 7999.999 | U55: =VLOOKUP(A55,'[1]16'!B:W,22,0) -> 10000 | V55: 0 | W55: =U55+V55 -> 10000 | X55: =W55-T55 -> 2000.001 | Y55: =VLOOKUP(A55,'[1]16'!B:AK,25,0) -> 2000.001 | Z55: =Y55+S55 -> 8351 | AB55: 5082 | AC55: 3269 | AD55: =VLOOKUP(A55,'[1]16'!B:AK,31,1) -> 0 | AE55: =VLOOKUP(A55,'[1]16'!B:AK,32,1) -> 0 | AF55: =VLOOKUP(A55,'[1]16'!B:AL,33,1) -> 0 | AG55: 0 | AH55: 0 | AI55: 0 | AJ55: =SUM(AB55:AI55) -> 8351 | AK55: =AJ55-Z55 -> 0
A56: טקסי הסמכה | B56: פיתוח | C56: פיתוח - רכש | D56: לא באיו"ש | E56: חינוך | F56: 0 | G56: - | H56: - | I56: - | J56: - | K56: 2481.6 | L56: 10738 | M56: 81351 | N56: 202486.62 | P56: 26979.95 | Q56: =SUM(G56:P56)/1000-O56/1000 -> 324.03717 | R56: 1072.41 | S56: =R56/1000 -> 1.07241 | T56: =Q56+S56 -> 325.10958 | U56: =VLOOKUP(A56,'[1]16'!B:W,22,0) -> 520 | V56: 0 | W56: =U56+V56 -> 520 | X56: =W56-T56 -> 194.89042 | Y56: 0 | Z56: =Y56+S56 -> 1.07241 | AB56: 1 | AC56: =VLOOKUP(A56,'[1]16'!B:AL,30,0) -> 0 | AD56: =VLOOKUP(A56,'[1]16'!B:AK,31,1) -> 0 | AE56: =VLOOKUP(A56,'[1]16'!B:AK,32,1) -> 0 | AF56: =VLOOKUP(A56,'[1]16'!B:AL,33,1) -> 0 | AG56: 0 | AH56: 0 | AI56: 0 | AJ56: =SUM(AB56:AI56) -> 1 | AK56: =AJ56-Z56 -> -0.07241
A57: יועץ לאיתור מתחמים להקמת תחנות מעבר לפסולת בניין | B57: פיתוח | C57: פיתוח - רכש | D57: לא באיו"ש | E57: פסולת בניין | F57: נוהל מקוצר 2016 | G57: - | H57: - | I57: - | J57: - | K57: - | L57: - | M57: - | N57: - | P57: - | Q57: =SUM(G57:P57)/1000-O57/1000 -> 0 | R57: 42999.99 | S57: =R57/1000 -> 42.99999 | T57: =Q57+S57 -> 42.99999 | U57: 0 | V57: 43 | W57: =U57+V57 -> 43 | X57: =W57-T57 -> 1e-05 | Y57: 0 | Z57: =Y57+S57 -> 42.99999 | AB57: 43 | AC57: 0 | AD57: =VLOOKUP(A57,'[1]16'!B:AK,31,1) -> 0 | AE57: =VLOOKUP(A57,'[1]16'!B:AK,32,1) -> 0 | AF57: =VLOOKUP(A57,'[1]16'!B:AL,33,1) -> 0 | AG57: 0 | AH57: 0 | AI57: 0 | AJ57: =SUM(AB57:AI57) -> 43 | AK57: =AJ57-Z57 -> 1e-05
A58: יועץ שיסייע ביישום החלטת הממשלה בנושא מגזרי המיעוטים | B58: נוספות | C58: נוספות - מגזרים מוחלשים | D58: לא באיו"ש | E58: מיעוטים | F58: 0 | G58: - | H58: - | I58: - | J58: - | K58: - | L58: - | M58: 37500 | N58: - | P58: - | Q58: =SUM(G58:P58)/1000-O58/1000 -> 37.5 | R58: 212500 | S58: =R58/1000 -> 212.5 | T58: =Q58+S58 -> 250 | U58: =VLOOKUP(A58,'[1]16'!B:W,22,0) -> 250 | V58: 0 | W58: =U58+V58 -> 250 | X58: =W58-T58 -> 0 | Y58: 0 | Z58: =Y58+S58 -> 212.5 | AB58: 213 | AC58: =VLOOKUP(A58,'[1]16'!B:AL,30,0) -> 0 | AD58: =VLOOKUP(A58,'[1]16'!B:AK,31,1) -> 0 | AE58: =VLOOKUP(A58,'[1]16'!B:AK,32,1) -> 0 | AF58: =VLOOKUP(A58,'[1]16'!B:AL,33,1) -> 0 | AG58: 0 | AH58: 0 | AI58: 0 | AJ58: =SUM(AB58:AI58) -> 213 | AK58: =AJ58-Z58 -> 0.5
A59: ייעוץ ובקרה ליישום חוק הפסולת האלקטרונית | B59: פיתוח | C59: פיתוח - רכש | D59: לא באיו"ש | E59: פרוייקטורים ויועצים | F59: 0 | G59: - | H59: - | I59: - | J59: - | K59: - | L59: - | M59: - | N59: 49560 | P59: - | Q59: =SUM(G59:P59)/1000-O59/1000 -> 49.56 | R59: 0 | S59: 0 | T59: =Q59+S59 -> 49.56 | U59: =VLOOKUP(A59,'[1]16'!B:W,22,0) -> 584 | V59: 0 | W59: =U59+V59 -> 584 | X59: =W59-T59 -> 534.44 | Y59: 0 | Z59: =Y59+S59 -> 0 | AB59: 0 | AC59: =VLOOKUP(A59,'[1]16'!B:AL,30,0) -> 0 | AD59: =VLOOKUP(A59,'[1]16'!B:AK,31,1) -> 0 | AE59: =VLOOKUP(A59,'[1]16'!B:AK,32,1) -> 0 | AF59: =VLOOKUP(A59,'[1]16'!B:AL,33,1) -> 0 | AG59: 0 | AH59: 0 | AI59: 0 | AJ59: =SUM(AB59:AI59) -> 0 | AK59: =AJ59-Z59 -> 0
A60: ייעוץ כלכלי לאגף אריזות | B60: פיתוח | C60: פיתוח - רכש | D60: לא באיו"ש | E60: פרוייקטורים ויועצים | F60: 0 | G60: - | H60: - | I60: - | J60: - | K60: - | L60: - | M60: - | N60: 68134.35 | O60: =VLOOKUP(A60,'[1]ינואר עד יוני 2016'!A:F,6,0) -> 86028.85 | P60: 246769.16 | Q60: =SUM(G60:P60)/1000-O60/1000 -> 314.90351 | R60: 2404421.2 | S60: =R60/1000 -> 2404.4212 | T60: =Q60+S60 -> 2719.3247 | U60: =VLOOKUP(A60,'[1]16'!B:W,22,0) -> 13800 | V60: 0 | W60: =U60+V60 -> 13800 | X60: =W60-T60 -> 11080.675 | Y60: =VLOOKUP(A60,'[1]16'!B:AK,25,0) -> 11090.796 | Z60: =Y60+S60 -> 13495.217 | AB60: 5256 | AC60: =VLOOKUP(A60,'[1]16'!B:AL,30,0) -> 2746.3731 | AD60: =VLOOKUP(A60,'[1]16'!B:AK,31,1) -> 2746.3731 | AE60: =VLOOKUP(A60,'[1]16'!B:AK,32,1) -> 2746.3731 | AF60: =VLOOKUP(A60,'[1]16'!B:AL,33,1) -> 0 | AG60: 0 | AH60: 0 | AI60: 0 | AJ60: =SUM(AB60:AI60) -> 13495.119 | AK60: =AJ60-Z60 -> -0.09777
A61: ייעוץ משפטי לאגף אריזות | B61: פיתוח | C61: פיתוח - רכש | D61: לא באיו"ש | E61: פרוייקטורים ויועצים | F61: 0 | G61: - | H61: - | I61: - | J61: - | K61: - | L61: - | M61: 243248.12 | N61: 628134.06 | O61: =VLOOKUP(A61,'[1]ינואר עד יוני 2016'!A:F,6,0) -> 17774.81 | P61: 44165.13 | Q61: =SUM(G61:P61)/1000-O61/1000 -> 915.54731 | R61: 1333779.8 | S61: =R61/1000 -> 1333.7798 | T61: =Q61+S61 -> 2249.3271 | U61: =VLOOKUP(A61,'[1]16'!B:W,22,0) -> 4400 | V61: 0 | W61: =U61+V61 -> 4400 | X61: =W61-T61 -> 2150.6729 | Y61: =VLOOKUP(A61,'[1]16'!B:AK,25,0) -> 2962.5683 | Z61: =Y61+S61 -> 4296.3481 | AB61: 2181 | AC61: =VLOOKUP(A61,'[1]16'!B:AL,30,0) -> 705 | AD61: =VLOOKUP(A61,'[1]16'!B:AK,31,1) -> 705 | AE61: =VLOOKUP(A61,'[1]16'!B:AK,32,1) -> 705 | AF61: =VLOOKUP(A61,'[1]16'!B:AL,33,1) -> 0 | AG61: 0 | AH61: 0 | AI61: 0 | AJ61: =SUM(AB61:AI61) -> 4296 | AK61: =AJ61-Z61 -> -0.34811
A62: כנס ירושלים | B62: נוספות | C62: נוספות - חינוך והסברה | D62: לא באיו"ש | E62: הסברה | F62: 0 | G62: - | H62: - | I62: - | J62: - | K62: - | L62: - | M62: 50000 | N62: - | P62: - | Q62: =SUM(G62:P62)/1000-O62/1000 -> 50 | R62: 0 | S62: 0 | T62: =Q62+S62 -> 50 | U62: =VLOOKUP(A62,'[1]16'!B:W,22,0) -> 50 | V62: 0 | W62: =U62+V62 -> 50 | X62: =W62-T62 -> 0 | Y62: 0 | Z62: =Y62+S62 -> 0 | AB62: 0 | AC62: =VLOOKUP(A62,'[1]16'!B:AL,30,0) -> 0 | AD62: =VLOOKUP(A62,'[1]16'!B:AK,31,1) -> 0 | AE62: =VLOOKUP(A62,'[1]16'!B:AK,32,1) -> 0 | AF62: =VLOOKUP(A62,'[1]16'!B:AL,33,1) -> 0 | AG62: 0 | AH62: 0 | AI62: 0 | AJ62: =SUM(AB62:AI62) -> 0 | AK62: =AJ62-Z62 -> 0
A63: כנס ראשי רשויות - "עיר בת קיימא" | B63: נוספות | C63: נוספות - חינוך והסברה | D63: לא באיו"ש | E63: הסברה | F63: 0 | G63: - | H63: - | I63: - | J63: - | K63: - | L63: - | M63: 149573.74 | N63: - | P63: - | Q63: =SUM(G63:P63)/1000-O63/1000 -> 149.57374 | R63: 0 | S63: 0 | T63: =Q63+S63 -> 149.57374 | U63: =VLOOKUP(A63,'[1]16'!B:W,22,0) -> 150 | V63: 0 | W63: =U63+V63 -> 150 | X63: =W63-T63 -> 0.42626 | Y63: 0 | Z63: =Y63+S63 -> 0 | AB63: 0 | AC63: =VLOOKUP(A63,'[1]16'!B:AL,30,0) -> 0 | AD63: =VLOOKUP(A63,'[1]16'!B:AK,31,1) -> 0 | AE63: =VLOOKUP(A63,'[1]16'!B:AK,32,1) -> 0 | AF63: =VLOOKUP(A63,'[1]16'!B:AL,33,1) -> 0 | AG63: 0 | AH63: 0 | AI63: 0 | AJ63: =SUM(AB63:AI63) -> 0 | AK63: =AJ63-Z63 -> 0
A64: כנסים ואירועים | B64: נוספות | C64: נוספות - חינוך והסברה | D64: לא באיו"ש | E64: הסברה | F64: 0 | G64: - | H64: - | I64: - | J64: - | K64: - | L64: - | M64: 59418.2 | N64: 2797524.8 | O64: =VLOOKUP(A64,'[1]ינואר עד יוני 2016'!A:F,6,0) -> 1605824.5 | P64: 1673178.2 | Q64: =SUM(G64:P64)/1000-O64/1000 -> 4530.1212 | R64: 466650.85 | S64: =R64/1000 -> 466.65085 | T64: =Q64+S64 -> 4996.7721 | U64: =VLOOKUP(A64,'[1]16'!B:W,22,0) -> 5100 | V64: 0 | W64: =U64+V64 -> 5100 | X64: =W64-T64 -> 103.22793 | Y64: 0 | Z64: =Y64+S64 -> 466.65085 | AB64: 467 | AC64: =VLOOKUP(A64,'[1]16'!B:AL,30,0) -> 0 | AD64: =VLOOKUP(A64,'[1]16'!B:AK,31,1) -> 0 | AE64: =VLOOKUP(A64,'[1]16'!B:AK,32,1) -> 0 | AF64: =VLOOKUP(A64,'[1]16'!B:AL,33,1) -> 0 | AG64: 0 | AH64: 0 | AI64: 0 | AJ64: =SUM(AB64:AI64) -> 467 | AK64: =AJ64-Z64 -> 0.34915
A65: כנסים מחוזיים - חינוך והסברה | B65: נוספות | C65: נוספות - חינוך והסברה | D65: לא באיו"ש | E65: חינוך | F65: 0 | G65: - | H65: - | I65: - | J65: - | K65: - | L65: 3027.48 | M65: 66559.14 | N65: 166681.8 | P65: 21418.02 | Q65: =SUM(G65:P65)/1000-O65/1000 -> 257.68644 | R65: 0 | S65: 0 | T65: =Q65+S65 -> 257.68644 | U65: =VLOOKUP(A65,'[1]16'!B:W,22,0) -> 300 | V65: 0 | W65: =U65+V65 -> 300 | X65: =W65-T65 -> 42.31356 | Y65: 0 | Z65: =Y65+S65 -> 0 | AB65: 0 | AC65: =VLOOKUP(A65,'[1]16'!B:AL,30,0) -> 0 | AD65: =VLOOKUP(A65,'[1]16'!B:AK,31,1) -> 0 | AE65: =VLOOKUP(A65,'[1]16'!B:AK,32,1) -> 0 | AF65: =VLOOKUP(A65,'[1]16'!B:AL,33,1) -> 0 | AG65: 0 | AH65: 0 | AI65: 0 | AJ65: =SUM(AB65:AI65) -> 0 | AK65: =AJ65-Z65 -> 0
A66: כנסים מחוזיים - רכש | B66: פיתוח | C66: פיתוח - רכש | D66: לא באיו"ש | E66: חינוך | F66: 0 | G66: - | H66: - | I66: - | J66: - | K66: - | L66: - | M66: - | N66: - | O66: =VLOOKUP(A66,'[1]ינואר עד יוני 2016'!A:F,6,0) -> 76040.93 | P66: 123464.81 | Q66: =SUM(G66:P66)/1000-O66/1000 -> 123.46481 | R66: 11492.96 | S66: =R66/1000 -> 11.49296 | T66: =Q66+S66 -> 134.95777 | U66: =VLOOKUP(A66,'[1]16'!B:W,22,0) -> 380 | V66: 0 | W66: =U66+V66 -> 380 | X66: =W66-T66 -> 245.04223 | Y66: 0 | Z66: =Y66+S66 -> 11.49296 | AB66: 11 | AC66: =VLOOKUP(A66,'[1]16'!B:AL,30,0) -> 0 | AD66: =VLOOKUP(A66,'[1]16'!B:AK,31,1) -> 0 | AE66: =VLOOKUP(A66,'[1]16'!B:AK,32,1) -> 0 | AF66: =VLOOKUP(A66,'[1]16'!B:AL,33,1) -> 0 | AG66: 0 | AH66: 0 | AI66: 0 | AJ66: =SUM(AB66:AI66) -> 11 | AK66: =AJ66-Z66 -> -0.49296
A67: ליווי רכש ירוק | B67: פיתוח | C67: פיתוח - רכש | D67: לא באיו"ש | E67: פרוייקטים שונים | F67: 0 | G67: - | H67: - | I67: - | J67: - | K67: - | L67: - | M67: - | N67: 11606.48 | O67: =VLOOKUP(A67,'[1]ינואר עד יוני 2016'!A:F,6,0) -> 13491.27 | P67: 13491.27 | Q67: =SUM(G67:P67)/1000-O67/1000 -> 25.09775 | R67: 124491.02 | S67: =R67/1000 -> 124.49102 | T67: =Q67+S67 -> 149.58877 | U67: =VLOOKUP(A67,'[1]16'!B:W,22,0) -> 225 | V67: 0 | W67: =U67+V67 -> 225 | X67: =W67-T67 -> 75.41123 | Y67: =VLOOKUP(A67,'[1]16'!B:AK,25,0) -> 75.5371 | Z67: =Y67+S67 -> 200.02812 | AB67: 200 | AC67: =VLOOKUP(A67,'[1]16'!B:AL,30,0) -> 0 | AD67: =VLOOKUP(A67,'[1]16'!B:AK,31,1) -> 0 | AE67: =VLOOKUP(A67,'[1]16'!B:AK,32,1) -> 0 | AF67: =VLOOKUP(A67,'[1]16'!B:AL,33,1) -> 0 | AG67: 0 | AH67: 0 | AI67: 0 | AJ67: =SUM(AB67:AI67) -> 200 | AK67: =AJ67-Z67 -> -0.02812
A68: למ"ס - סקר כמויות פסולת בתעשיה | B68: פיתוח | C68: פיתוח - רכש | D68: לא באיו"ש | E68: סקרים ומחקרים | F68: 0 | G68: - | H68: - | I68: - | J68: 674000 | K68: - | L68: - | M68: - | N68: - | P68: - | Q68: =SUM(G68:P68)/1000-O68/1000 -> 674 | R68: 0 | S68: 0 | T68: =Q68+S68 -> 674 | U68: =VLOOKUP(A68,'[1]16'!B:W,22,0) -> 946 | V68: 0 | W68: =U68+V68 -> 946 | X68: =W68-T68 -> 272 | Y68: 0 | Z68: =Y68+S68 -> 0 | AB68: 0 | AC68: =VLOOKUP(A68,'[1]16'!B:AL,30,0) -> 0 | AD68: =VLOOKUP(A68,'[1]16'!B:AK,31,1) -> 0 | AE68: =VLOOKUP(A68,'[1]16'!B:AK,32,1) -> 0 | AF68: =VLOOKUP(A68,'[1]16'!B:AL,33,1) -> 0 | AG68: 0 | AH68: 0 | AI68: 0 | AJ68: =SUM(AB68:AI68) -> 0 | AK68: =AJ68-Z68 -> 0
A69: מ. החינוך הטמעת קימות במוסדות חינוך | B69: פיתוח | C69: פיתוח - רכש | D69: לא באיו"ש | E69: חינוך | F69: 0 | G69: - | H69: - | I69: - | J69: - | K69: - | L69: 6963000 | M69: 10281820 | N69: 7660000 | P69: - | Q69: =SUM(G69:P69)/1000-O69/1000 -> 24904.82 | R69: 0 | S69: 0 | T69: =Q69+S69 -> 24904.82 | U69: =VLOOKUP(A69,'[1]16'!B:W,22,0) -> 24905 | V69: 0 | W69: =U69+V69 -> 24905 | X69: =W69-T69 -> 0.18 | Y69: 0 | Z69: =Y69+S69 -> 0 | AB69: 0 | AC69: =VLOOKUP(A69,'[1]16'!B:AL,30,0) -> 0 | AD69: =VLOOKUP(A69,'[1]16'!B:AK,31,1) -> 0 | AE69: =VLOOKUP(A69,'[1]16'!B:AK,32,1) -> 0 | AF69: =VLOOKUP(A69,'[1]16'!B:AL,33,1) -> 0 | AG69: 0 | AH69: 0 | AI69: 0 | AJ69: =SUM(AB69:AI69) -> 0 | AK69: =AJ69-Z69 -> 0
A70: מאגר מידע פסולת | B70: פיתוח | C70: פיתוח - רכש | D70: לא באיו"ש | E70: מערכות מיחשוב תומכות | F70: 7/7/2016 | G70: - | H70: - | I70: - | J70: - | K70: - | L70: - | M70: - | N70: - | P70: - | Q70: =SUM(G70:P70)/1000-O70/1000 -> 0 | R70: 499976.1 | S70: =R70/1000 -> 499.9761 | T70: =Q70+S70 -> 499.9761 | U70: =VLOOKUP(A70,'[1]16'!B:W,22,0) -> 0 | V70: 500 | W70: =U70+V70 -> 500 | X70: =W70-T70 -> 0.0239 | Y70: 0 | Z70: =Y70+S70 -> 499.9761 | AB70: 500 | AC70: =VLOOKUP(A70,'[1]16'!B:AL,30,0) -> 0 | AD70: =VLOOKUP(A70,'[1]16'!B:AK,31,1) -> 0 | AE70: =VLOOKUP(A70,'[1]16'!B:AK,32,1) -> 0 | AF70: =VLOOKUP(A70,'[1]16'!B:AL,33,1) -> 0 | AG70: 0 | AH70: 0 | AI70: 0 | AJ70: =SUM(AB70:AI70) -> 500 | AK70: =AJ70-Z70 -> 0.0239
A71: מגזרים מוחלשים בתי ספר | B71: פיתוח | C71: פיתוח - רכש | D71: לא באיו"ש | E71: חינוך | F71: 0 | G71: - | H71: - | I71: - | J71: - | K71: - | L71: 800000 | M71: 800000 | N71: 800000 | P71: - | Q71: =SUM(G71:P71)/1000-O71/1000 -> 2400 | R71: 0 | S71: 0 | T71: =Q71+S71 -> 2400 | U71: =VLOOKUP(A71,'[1]16'!B:W,22,0) -> 2400 | V71: 0 | W71: =U71+V71 -> 2400 | X71: =W71-T71 -> 0 | Y71: 0 | Z71: =Y71+S71 -> 0 | AB71: 0 | AC71: =VLOOKUP(A71,'[1]16'!B:AL,30,0) -> 0 | AD71: =VLOOKUP(A71,'[1]16'!B:AK,31,1) -> 0 | AE71: =VLOOKUP(A71,'[1]16'!B:AK,32,1) -> 0 | AF71: =VLOOKUP(A71,'[1]16'!B:AL,33,1) -> 0 | AG71: 0 | AH71: 0 | AI71: 0 | AJ71: =SUM(AB71:AI71) -> 0 | AK71: =AJ71-Z71 -> 0
A72: מוזיאון הטבע | B72: נוספות | C72: נוספות - חינוך והסברה | D72: לא באיו"ש | E72: פרוייקטים שונים | F72: 0 | G72: - | H72: 1250000 | I72: - | J72: 3750000 | K72: 975000 | L72: - | M72: - | N72: - | P72: 2515000 | Q72: =SUM(G72:P72)/1000-O72/1000 -> 8490 | R72: 0 | S72: 0 | T72: =Q72+S72 -> 8490 | U72: =VLOOKUP(A72,'[1]16'!B:W,22,0) -> 8750 | V72: 0 | W72: =U72+V72 -> 8750 | Z72: =Y72+S72 -> 0 | AB72: 0 | AC72: =VLOOKUP(A72,'[1]16'!B:AL,30,0) -> 0 | AD72: =VLOOKUP(A72,'[1]16'!B:AK,31,1) -> 0 | AE72: =VLOOKUP(A72,'[1]16'!B:AK,32,1) -> 0 | AF72: =VLOOKUP(A72,'[1]16'!B:AL,33,1) -> 0 | AG72: 0 | AH72: 0 | AI72: 0 | AJ72: =SUM(AB72:AI72) -> 0 | AK72: =AJ72-Z72 -> 0
A73: מחקרים הפקת אנרגיה מביומסה - איו"ש | B73: כללי | C73: כללי - אמצעים חלופיים להטמנה | D73: באיו"ש | E73: סקרים ומחקרים | F73: 0 | G73: - | H73: - | I73: - | J73: - | K73: 37500 | L73: 149276 | M73: 332148 | N73: 246839 | P73: 242982 | Q73: =SUM(G73:P73)/1000-O73/1000 -> 1008.745 | R73: 149913 | S73: =R73/1000 -> 149.913 | T73: =Q73+S73 -> 1158.658 | U73: =VLOOKUP(A73,'[1]16'!B:W,22,0) -> 1159 | V73: 0 | W73: =U73+V73 -> 1159 | X73: =W73-T73 -> 0.342 | Y73: 0 | Z73: =Y73+S73 -> 149.913 | AB73: 150 | AC73: =VLOOKUP(A73,'[1]16'!B:AL,30,0) -> 0 | AD73: =VLOOKUP(A73,'[1]16'!B:AK,31,1) -> 0 | AE73: =VLOOKUP(A73,'[1]16'!B:AK,32,1) -> 0 | AF73: =VLOOKUP(A73,'[1]16'!B:AL,33,1) -> 0 | AG73: 0 | AH73: 0 | AI73: 0 | AJ73: =SUM(AB73:AI73) -> 150 | AK73: =AJ73-Z73 -> 0.087
A74: מחקרים בנושא השבה ומיחזור | B74: פיתוח | C74: פיתוח - רכש | D74: לא באיו"ש | E74: סקרים ומחקרים | F74: 0 | G74: - | H74: - | I74: - | J74: 435080 | K74: - | L74: - | M74: - | N74: - | P74: - | Q74: =SUM(G74:P74)/1000-O74/1000 -> 435.08 | R74: 0 | S74: 0 | T74: =Q74+S74 -> 435.08 | U74: =VLOOKUP(A74,'[1]16'!B:W,22,0) -> 1174.92 | V74: 0 | W74: =U74+V74 -> 1174.92 | X74: =W74-T74 -> 739.84 | Y74: 0 | Z74: =Y74+S74 -> 0 | AB74: 0 | AC74: =VLOOKUP(A74,'[1]16'!B:AL,30,0) -> 0 | AD74: =VLOOKUP(A74,'[1]16'!B:AK,31,1) -> 0 | AE74: =VLOOKUP(A74,'[1]16'!B:AK,32,1) -> 0 | AF74: =VLOOKUP(A74,'[1]16'!B:AL,33,1) -> 0 | AG74: 0 | AH74: 0 | AI74: 0 | AJ74: =SUM(AB74:AI74) -> 0 | AK74: =AJ74-Z74 -> 0
A75: מחקרים הפקת אנרגיה מביומסה | B75: פיתוח | C75: פיתוח - רכש | D75: לא באיו"ש | E75: סקרים ומחקרים | F75: 0 | G75: - | H75: - | I75: - | J75: 98195.5 | K75: 1203575 | L75: 1491479 | M75: 1430458 | N75: 534381.5 | O75: =VLOOKUP(A75,'[1]ינואר עד יוני 2016'!A:F,6,0) -> 215867 | P75: 1149147 | Q75: =SUM(G75:P75)/1000-O75/1000 -> 5907.236 | R75: 2388016.7 | S75: =R75/1000 -> 2388.0167 | T75: =Q75+S75 -> 8295.2527 | U75: =VLOOKUP(A75,'[1]16'!B:W,22,0) -> 9220.0795 | V75: 0 | W75: =U75+V75 -> 9220.0795 | X75: =W75-T75 -> 924.82677 | Y75: 0 | Z75: =Y75+S75 -> 2388.0167 | AB75: 1200 | AC75: 1188 | AD75: =VLOOKUP(A75,'[1]16'!B:AK,31,1) -> 0 | AE75: =VLOOKUP(A75,'[1]16'!B:AK,32,1) -> 0 | AF75: =VLOOKUP(A75,'[1]16'!B:AL,33,1) -> 0 | AG75: 0 | AH75: 0 | AI75: 0 | AJ75: =SUM(AB75:AI75) -> 2388 | AK75: =AJ75-Z75 -> -0.0167
A76: מיזם משותף עם אט"ד יציאה לקהילה | B76: נוספות | C76: נוספות - חינוך והסברה | D76: לא באיו"ש | E76: פרוייקטים שונים | F76: 0 | G76: - | H76: - | I76: - | J76: - | K76: - | L76: 127819 | M76: 534497 | N76: 337684 | P76: - | Q76: =SUM(G76:P76)/1000-O76/1000 -> 1000 | R76: 0 | S76: 0 | T76: =Q76+S76 -> 1000 | U76: =VLOOKUP(A76,'[1]16'!B:W,22,0) -> 985.53952 | V76: 0 | W76: =U76+V76 -> 985.53952 | X76: =W76-T76 -> -14.46048 | Y76: 0 | Z76: =Y76+S76 -> 0 | AB76: 0 | AC76: =VLOOKUP(A76,'[1]16'!B:AL,30,0) -> 0 | AD76: =VLOOKUP(A76,'[1]16'!B:AK,31,1) -> 0 | AE76: =VLOOKUP(A76,'[1]16'!B:AK,32,1) -> 0 | AF76: =VLOOKUP(A76,'[1]16'!B:AL,33,1) -> 0 | AG76: 0 | AH76: 0 | AI76: 0 | AJ76: =SUM(AB76:AI76) -> 0 | AK76: =AJ76-Z76 -> 0
A77: מיזם משותף עם הג'וינט בנושא שילוב גמלאים בנושאי מחזור | B77: פיתוח | C77: פיתוח - תמיכות | D77: לא באיו"ש | E77: הסברה | F77: 0 | G77: - | H77: - | I77: - | J77: - | K77: - | L77: - | M77: - | N77: - | P77: - | Q77: =SUM(G77:P77)/1000-O77/1000 -> 0 | R77: 500000 | S77: =R77/1000 -> 500 | T77: =Q77+S77 -> 500 | U77: =VLOOKUP(A77,'[1]16'!B:W,22,0) -> 500 | V77: 0 | W77: =U77+V77 -> 500 | X77: =W77-T77 -> 0 | Y77: 0 | Z77: =Y77+S77 -> 500 | AB77: 500 | AC77: =VLOOKUP(A77,'[1]16'!B:AL,30,0) -> 0 | AD77: =VLOOKUP(A77,'[1]16'!B:AK,31,1) -> 0 | AE77: =VLOOKUP(A77,'[1]16'!B:AK,32,1) -> 0 | AF77: =VLOOKUP(A77,'[1]16'!B:AL,33,1) -> 0 | AG77: 0 | AH77: 0 | AI77: 0 | AJ77: =SUM(AB77:AI77) -> 500 | AK77: =AJ77-Z77 -> 0
A78: מיזם משותף עם הקרן החדשה לקולנוע ופארק אריאל שרון | B78: פיתוח | C78: פיתוח - רכש | D78: לא באיו"ש | E78: חינוך | F78: 0 | G78: - | H78: - | I78: - | J78: - | K78: - | L78: - | M78: - | N78: 58350 | P78: - | Q78: =SUM(G78:P78)/1000-O78/1000 -> 58.35 | R78: 141650 | S78: =R78/1000 -> 141.65 | T78: =Q78+S78 -> 200 | U78: =VLOOKUP(A78,'[1]16'!B:W,22,0) -> 200 | V78: 0 | W78: =U78+V78 -> 200 | X78: =W78-T78 -> 0 | Y78: 0 | Z78: =Y78+S78 -> 141.65 | AB78: 142 | AC78: =VLOOKUP(A78,'[1]16'!B:AL,30,0) -> 0 | AD78: =VLOOKUP(A78,'[1]16'!B:AK,31,1) -> 0 | AE78: =VLOOKUP(A78,'[1]16'!B:AK,32,1) -> 0 | AF78: =VLOOKUP(A78,'[1]16'!B:AL,33,1) -> 0 | AG78: 0 | AH78: 0 | AI78: 0 | AJ78: =SUM(AB78:AI78) -> 142 | AK78: =AJ78-Z78 -> 0.35
A79: מיזם משותף עם משרד הרווחה בנושא מיחזור פסולת על ידי עובדים עם צרכים מיוחדים | B79: פיתוח | C79: פיתוח - רכש | D79: לא באיו"ש | E79: פרוייקטים שונים | F79: 0 | G79: - | H79: - | I79: - | J79: - | K79: - | L79: - | M79: 100000 | N79: - | P79: - | Q79: =SUM(G79:P79)/1000-O79/1000 -> 100 | R79: 0 | S79: 0 | T79: =Q79+S79 -> 100 | U79: =VLOOKUP(A79,'[1]16'!B:W,22,0) -> 1000 | V79: 0 | W79: =U79+V79 -> 1000 | X79: =W79-T79 -> 900 | Y79: 0 | Z79: =Y79+S79 -> 0 | AB79: 0 | AC79: =VLOOKUP(A79,'[1]16'!B:AL,30,0) -> 0 | AD79: =VLOOKUP(A79,'[1]16'!B:AK,31,1) -> 0 | AE79: =VLOOKUP(A79,'[1]16'!B:AK,32,1) -> 0 | AF79: =VLOOKUP(A79,'[1]16'!B:AL,33,1) -> 0 | AG79: 0 | AH79: 0 | AI79: 0 | AJ79: =SUM(AB79:AI79) -> 0 | AK79: =AJ79-Z79 -> 0
A80: מיחשוב מערכת גביית היטל הטמנה | B80: פיתוח | C80: פיתוח - רכש | D80: לא באיו"ש | E80: מערכות מיחשוב תומכות | F80: 0 | G80: - | H80: - | I80: - | J80: 299733.85 | K80: 966366.34 | L80: 623183.81 | M80: 782292.03 | N80: 277928.72 | P80: - | Q80: =SUM(G80:P80)/1000-O80/1000 -> 2949.5048 | R80: 156921.58 | S80: =R80/1000 -> 156.92158 | T80: =Q80+S80 -> 3106.4263 | U80: =VLOOKUP(A80,'[1]16'!B:W,22,0) -> 8520.2585 | V80: 0 | W80: =U80+V80 -> 8520.2585 | X80: =W80-T80 -> 5413.8322 | Y80: =VLOOKUP(A80,'[1]16'!B:AK,25,0) -> 3500 | Z80: =Y80+S80 -> 3656.9216 | AB80: 1800 | AC80: 900 | AD80: 957 | AE80: =VLOOKUP(A80,'[1]16'!B:AK,32,1) -> 0 | AF80: =VLOOKUP(A80,'[1]16'!B:AL,33,1) -> 0 | AG80: 0 | AH80: 0 | AI80: 0 | AJ80: =SUM(AB80:AI80) -> 3657 | AK80: =AJ80-Z80 -> 0.07842
A81: מנוי למאגר מידע RPET | B81: פיתוח | C81: פיתוח - רכש | D81: לא באיו"ש | E81: מערכות מיחשוב תומכות | F81: נוהל מקוצר 2016 | G81: - | H81: - | I81: - | J81: - | K81: - | L81: - | M81: - | N81: - | P81: - | Q81: =SUM(G81:P81)/1000-O81/1000 -> 0 | R81: 19615.53 | S81: =R81/1000 -> 19.61553 | T81: =Q81+S81 -> 19.61553 | U81: 0 | V81: 20 | W81: =U81+V81 -> 20 | X81: =W81-T81 -> 0.38447 | Y81: 0 | Z81: =Y81+S81 -> 19.61553 | AB81: 20 | AC81: 0 | AD81: 0 | AE81: =VLOOKUP(A81,'[1]16'!B:AK,32,1) -> 0 | AF81: =VLOOKUP(A81,'[1]16'!B:AL,33,1) -> 0 | AG81: 0 | AH81: 0 | AI81: 0 | AJ81: =SUM(AB81:AI81) -> 20 | AK81: =AJ81-Z81 -> 0.38447
A82: מערכת ממוחשבת ליישום חוק האריזות | B82: פיתוח | C82: פיתוח - רכש | D82: לא באיו"ש | E82: מערכות מיחשוב תומכות | F82: 0 | G82: - | H82: - | I82: - | J82: 352005.99 | K82: 2543320.6 | L82: 1364343.1 | M82: 915878.08 | N82: 301969.77 | O82: =VLOOKUP(A82,'[1]ינואר עד יוני 2016'!A:F,6,0) -> 149821.73 | P82: 333277.74 | Q82: =SUM(G82:P82)/1000-O82/1000 -> 5810.7953 | R82: 1021595.2 | S82: =R82/1000 -> 1021.5951 | T82: =Q82+S82 -> 6832.3905 | U82: =VLOOKUP(A82,'[1]16'!B:W,22,0) -> 11033.701 | V82: 0 | W82: =U82+V82 -> 11033.701 | X82: =W82-T82 -> 4201.3108 | Y82: =VLOOKUP(A82,'[1]16'!B:AK,25,0) -> 4000 | Z82: =Y82+S82 -> 5021.5952 | AB82: 2121 | AC82: =VLOOKUP(A82,'[1]16'!B:AL,30,0) -> 1000 | AD82: =VLOOKUP(A82,'[1]16'!B:AK,31,1) -> 1000 | AE82: =VLOOKUP(A82,'[1]16'!B:AK,32,1) -> 901 | AF82: =VLOOKUP(A82,'[1]16'!B:AL,33,1) -> 0 | AG82: 0 | AH82: 0 | AI82: 0 | AJ82: =SUM(AB82:AI82) -> 5022 | AK82: =AJ82-Z82 -> 0.40485
A83: מרכז מבקרים ברמת חובב | B83: נוספות | C83: נוספות - חינוך והסברה | D83: לא באיו"ש | E83: פרוייקטים שונים | F83: 0 | G83: - | H83: - | I83: - | J83: - | K83: - | L83: - | M83: - | N83: - | P83: - | Q83: =SUM(G83:P83)/1000-O83/1000 -> 0 | R83: 5726500 | S83: =R83/1000 -> 5726.5 | T83: =Q83+S83 -> 5726.5 | U83: =VLOOKUP(A83,'[1]16'!B:W,22,0) -> 5750 | V83: 0 | W83: =U83+V83 -> 5750 | X83: =W83-T83 -> 23.5 | Y83: 0 | Z83: =Y83+S83 -> 5726.5 | AB83: 3076 | AC83: =VLOOKUP(A83,'[1]16'!B:AL,30,0) -> 750 | AD83: =VLOOKUP(A83,'[1]16'!B:AK,31,1) -> 1000 | AE83: =VLOOKUP(A83,'[1]16'!B:AK,32,1) -> 901 | AF83: =VLOOKUP(A83,'[1]16'!B:AL,33,1) -> 0 | AG83: 0 | AH83: 0 | AI83: 0 | AJ83: =SUM(AB83:AI83) -> 5727 | AK83: =AJ83-Z83 -> 0.5
A84: מרסקות גזם בחקלאות | B84: פיתוח | C84: פיתוח - תמיכות | D84: לא באיו"ש | E84: תמיכות שונות | F84: 0 | G84: - | H84: - | I84: - | J84: 500000 | K84: 3721.84 | L84: 546000 | M84: - | N84: - | P84: - | Q84: =SUM(G84:P84)/1000-O84/1000 -> 1049.7218 | R84: 0 | S84: 0 | T84: =Q84+S84 -> 1049.7218 | U84: =VLOOKUP(A84,'[1]16'!B:W,22,0) -> 1049.7218 | V84: 0 | W84: =U84+V84 -> 1049.7218 | X84: =W84-T84 -> 0 | Y84: 0 | Z84: =Y84+S84 -> 0 | AB84: 0 | AC84: =VLOOKUP(A84,'[1]16'!B:AL,30,0) -> 0 | AD84: =VLOOKUP(A84,'[1]16'!B:AK,31,1) -> 0 | AE84: =VLOOKUP(A84,'[1]16'!B:AK,32,1) -> 0 | AF84: =VLOOKUP(A84,'[1]16'!B:AL,33,1) -> 0 | AG84: 0 | AH84: 0 | AI84: 0 | AJ84: =SUM(AB84:AI84) -> 0 | AK84: =AJ84-Z84 -> 0
A85: נסיעות לחו"ל | B85: פיתוח | C85: פיתוח - רכש | D85: לא באיו"ש | E85: נסיעות לחו"ל | F85: 0 | G85: - | H85: - | I85: - | J85: 4705.96 | K85: 115682.18 | L85: 380.11 | M85: 304.19 | N85: - | P85: - | Q85: =SUM(G85:P85)/1000-O85/1000 -> 121.07244 | R85: 1168.92 | S85: =R85/1000 -> 1.16892 | T85: =Q85+S85 -> 122.24136 | U85: =VLOOKUP(A85,'[1]16'!B:W,22,0) -> 351.70596 | V85: 0 | W85: =U85+V85 -> 351.70596 | X85: =W85-T85 -> 229.4646 | Y85: 0 | Z85: =Y85+S85 -> 1.16892 | AB85: 1 | AC85: =VLOOKUP(A85,'[1]16'!B:AL,30,0) -> 0 | AD85: =VLOOKUP(A85,'[1]16'!B:AK,31,1) -> 0 | AE85: =VLOOKUP(A85,'[1]16'!B:AK,32,1) -> 0 | AF85: =VLOOKUP(A85,'[1]16'!B:AL,33,1) -> 0 | AG85: 0 | AH85: 0 | AI85: 0 | AJ85: =SUM(AB85:AI85) -> 1 | AK85: =AJ85-Z85 -> -0.16892
A86: סבסוד קליטת חומר אורגני מופרד במקור | B86: פיתוח | C86: פיתוח - תמיכות | D86: לא באיו"ש | E86: סבסוד קליטת חומר אורגני מופרד במקור | F86: 0 | G86: - | H86: - | I86: - | J86: - | K86: - | L86: - | M86: - | N86: 433773 | O86: =VLOOKUP(A86,'[1]ינואר עד יוני 2016'!A:F,6,0) -> 506483 | P86: 1215174 | Q86: =SUM(G86:P86)/1000-O86/1000 -> 1648.947 | R86: 7102846.7 | S86: =R86/1000 -> 7102.8467 | T86: =Q86+S86 -> 8751.7937 | U86: =VLOOKUP(A86,'[1]16'!B:W,22,0) -> 9000 | V86: 0 | W86: =U86+V86 -> 9000 | X86: =W86-T86 -> 248.20631 | Y86: 0 | Z86: =Y86+S86 -> 7102.8467 | AB86: 4785 | AC86: =VLOOKUP(A86,'[1]16'!B:AL,30,0) -> 2318 | AD86: =VLOOKUP(A86,'[1]16'!B:AK,31,1) -> 0 | AE86: =VLOOKUP(A86,'[1]16'!B:AK,32,1) -> 0 | AF86: =VLOOKUP(A86,'[1]16'!B:AL,33,1) -> 0 | AG86: 0 | AH86: 0 | AI86: 0 | AJ86: =SUM(AB86:AI86) -> 7103 | AK86: =AJ86-Z86 -> 0.15331
A87: סיוע בהקמה ושדרוג - מתקני טיפול פסולת בניין | B87: פיתוח | C87: פיתוח - תמיכות | D87: לא באיו"ש | E87: פסולת בניין | F87: 7///2016 + 2014 | G87: - | H87: - | I87: - | J87: - | K87: - | L87: - | M87: - | N87: - | P87: - | Q87: =SUM(G87:P87)/1000-O87/1000 -> 0 | R87: 79556056 | S87: =R87/1000 -> 79556.056 | T87: =Q87+S87 -> 79556.056 | U87: =VLOOKUP(A87,'[1]16'!B:W,22,0) -> 50000 | V87: 34660 | W87: =U87+V87 -> 84660 | X87: =W87-T87 -> 5103.944 | Y87: =X87 -> 5103.944 | Z87: =Y87+S87 -> 84660 | AB87: 64660 | AC87: =VLOOKUP(A87,'[1]16'!B:AL,30,0)+'[1]16'!AE189 -> 20000 | AD87: =VLOOKUP(A87,'[1]16'!B:AK,31,1) -> 0 | AE87: =VLOOKUP(A87,'[1]16'!B:AK,32,1) -> 0 | AF87: =VLOOKUP(A87,'[1]16'!B:AL,33,1) -> 0 | AG87: 0 | AH87: 0 | AI87: 0 | AJ87: =SUM(AB87:AI87) -> 84660 | AK87: =AJ87-Z87 -> 0 | AL87: לבדוק לעומק לא ברור אם לא נדחפו התחייבויות לא מאושרות.
A88: סילוק מפגעי אסבסט למעוטי יכולת | B88: נוספות | C88: נוספות - אסבסט | D88: לא באיו"ש | E88: טיפול באסבסט | F88: 0 | G88: - | H88: - | I88: - | J88: - | K88: - | L88: - | M88: 240720 | N88: 22297.28 | P88: - | Q88: =SUM(G88:P88)/1000-O88/1000 -> 263.01728 | R88: 736981.6 | S88: =R88/1000 -> 736.9816 | T88: =Q88+S88 -> 999.99888 | U88: =VLOOKUP(A88,'[1]16'!B:W,22,0) -> 1033.7911 | V88: 0 | W88: =U88+V88 -> 1033.7911 | X88: =W88-T88 -> 33.79226 | Y88: 0 | Z88: =Y88+S88 -> 736.9816 | AB88: 737 | AC88: =VLOOKUP(A88,'[1]16'!B:AL,30,0) -> 0 | AD88: =VLOOKUP(A88,'[1]16'!B:AK,31,1) -> 0 | AE88: =VLOOKUP(A88,'[1]16'!B:AK,32,1) -> 0 | AF88: =VLOOKUP(A88,'[1]16'!B:AL,33,1) -> 0 | AG88: 0 | AH88: 0 | AI88: 0 | AJ88: =SUM(AB88:AI88) -> 737 | AK88: =AJ88-Z88 -> 0.0184
A89: סקר הרכב פסולת | B89: פיתוח | C89: פיתוח - רכש | D89: לא באיו"ש | E89: סקרים ומחקרים | F89: 0 | G89: - | H89: - | I89: - | J89: - | K89: - | L89: 1092432.2 | M89: 819323.56 | N89: - | P89: 122000 | Q89: =SUM(G89:P89)/1000-O89/1000 -> 2033.7558 | R89: 0 | S89: 0 | T89: =Q89+S89 -> 2033.7558 | U89: =VLOOKUP(A89,'[1]16'!B:W,22,0) -> 1900 | V89: 0 | W89: =U89+V89 -> 1900 | X89: =W89-T89 -> -133.75576 | Y89: 0 | Z89: =Y89+S89 -> 0 | AB89: 0 | AC89: =VLOOKUP(A89,'[1]16'!B:AL,30,0) -> 0 | AD89: =VLOOKUP(A89,'[1]16'!B:AK,31,1) -> 0 | AE89: =VLOOKUP(A89,'[1]16'!B:AK,32,1) -> 0 | AF89: =VLOOKUP(A89,'[1]16'!B:AL,33,1) -> 0 | AG89: 0 | AH89: 0 | AI89: 0 | AJ89: =SUM(AB89:AI89) -> 0 | AK89: =AJ89-Z89 -> 0
A90: עידוד המחזור והטיפול בפסולת בפריפריה לשנים 2016-2018 | B90: פיתוח | C90: פיתוח - תמיכות | D90: לא באיו"ש | E90: אשכולות | F90: 7/7/2016 + 31/1/2016 | G90: - | H90: - | I90: - | J90: - | K90: - | L90: - | M90: - | N90: - | P90: - | Q90: =SUM(G90:P90)/1000-O90/1000 -> 0 | R90: 100000000 | S90: =R90/1000 -> 100000 | T90: =Q90+S90 -> 100000 | U90: =VLOOKUP(A90,'[1]16'!B:W,22,0) -> 0 | V90: 250000 | W90: =U90+V90 -> 250000 | X90: =W90-T90 -> 150000 | Y90: 150000 | Z90: =Y90+S90 -> 250000 | AB90: 142000 | AC90: =75000+33000 -> 108000 | AD90: =VLOOKUP(A90,'[1]16'!B:AK,31,1) -> 0 | AE90: =VLOOKUP(A90,'[1]16'!B:AK,32,1) -> 0 | AF90: =VLOOKUP(A90,'[1]16'!B:AL,33,1) -> 0 | AG90: 0 | AH90: 0 | AI90: 0 | AJ90: =SUM(AB90:AI90) -> 250000 | AK90: =AJ90-Z90 -> 0
A91: עידוד שימוש בחומרים ממוחזרים - פסולת בניין | B91: פיתוח | C91: פיתוח - תמיכות | D91: לא באיו"ש | E91: פסולת בניין | F91: 0 | G91: - | H91: - | I91: - | J91: - | K91: - | L91: - | M91: - | N91: 2641726 | O91: =VLOOKUP(A91,'[1]ינואר עד יוני 2016'!A:F,6,0) -> 510286 | P91: 2141242.1 | Q91: =SUM(G91:P91)/1000-O91/1000 -> 4782.9681 | R91: 8075104 | S91: =R91/1000 -> 8075.104 | T91: =Q91+S91 -> 12858.072 | U91: =VLOOKUP(A91,'[1]16'!B:W,22,0) -> 8000 | V91: 0 | W91: =U91+V91 -> 8000 | X91: =W91-T91 -> -4858.0721 | Y91: 0 | Z91: =Y91+S91 -> 8075.104 | AB91: 8075.104 | AC91: =VLOOKUP(A91,'[1]16'!B:AL,30,0) -> 0 | AD91: =VLOOKUP(A91,'[1]16'!B:AK,31,1) -> 0 | AE91: =VLOOKUP(A91,'[1]16'!B:AK,32,1) -> 0 | AF91: =VLOOKUP(A91,'[1]16'!B:AL,33,1) -> 0 | AG91: 0 | AH91: 0 | AI91: 0 | AJ91: =SUM(AB91:AI91) -> 8075.104 | AK91: =AJ91-Z91 -> 0
A92: עידכון מדיניות הטיפול בפסולת מוצקה | B92: פיתוח | C92: פיתוח - רכש | D92: לא באיו"ש | E92: פרוייקטים שונים | F92: 0 | G92: - | H92: - | I92: - | J92: - | K92: - | L92: 40950 | M92: - | N92: - | P92: - | Q92: =SUM(G92:P92)/1000-O92/1000 -> 40.95 | R92: 465587.07 | S92: =R92/1000 -> 465.58707 | T92: =Q92+S92 -> 506.53707 | U92: =VLOOKUP(A92,'[1]16'!B:W,22,0) -> 250 | V92: 0 | W92: =U92+V92 -> 250 | X92: =W92-T92 -> -256.53707 | Y92: 0 | Z92: =Y92+S92 -> 465.58707 | AB92: 465.58707 | AC92: =VLOOKUP(A92,'[1]16'!B:AL,30,0) -> 0 | AD92: =VLOOKUP(A92,'[1]16'!B:AK,31,1) -> 0 | AE92: =VLOOKUP(A92,'[1]16'!B:AK,32,1) -> 0 | AF92: =VLOOKUP(A92,'[1]16'!B:AL,33,1) -> 0 | AG92: 0 | AH92: 0 | AI92: 0 | AJ92: =SUM(AB92:AI92) -> 465.58707 | AK92: =AJ92-Z92 -> 0
A93: פעולות אגף חינוך 2016 | B93: נוספות | C93: נוספות - חינוך והסברה | D93: לא באיו"ש | E93: חינוך | F93: 0 | G93: - | H93: - | I93: - | J93: - | K93: - | L93: - | M93: - | N93: - | P93: =9680000-9680000 -> 0 | Q93: =SUM(G93:P93)/1000-O93/1000 -> 0 | R93: 44734.7 | S93: =R93/1000 -> 44.7347 | T93: =Q93+S93 -> 44.7347 | U93: =VLOOKUP(A93,'[1]16'!B:W,22,0) -> 0 | V93: 3120 | W93: =U93+V93 -> 3120 | X93: =W93-T93 -> 3075.2653 | Y93: 0 | Z93: =Y93+S93 -> 44.7347 | AB93: 44.7347 | AC93: =VLOOKUP(A93,'[1]16'!B:AL,30,0) -> 0 | AD93: =VLOOKUP(A93,'[1]16'!B:AK,31,1) -> 0 | AE93: =VLOOKUP(A93,'[1]16'!B:AK,32,1) -> 0 | AF93: =VLOOKUP(A93,'[1]16'!B:AL,33,1) -> 0 | AG93: 0 | AH93: 0 | AI93: 0 | AJ93: =SUM(AB93:AI93) -> 44.7347 | AK93: =AJ93-Z93 -> 0
A94: פעולות הערכות ליישום חוק האריזות | B94: פיתוח | C94: פיתוח - רכש | D94: לא באיו"ש | E94: פרוייקטורים ויועצים | F94: 0 | G94: - | H94: - | I94: 99000 | J94: 11842 | K94: 236830.39 | L94: 840960.44 | M94: 599501.87 | N94: 220222.8 | P94: 50120.05 | Q94: =SUM(G94:P94)/1000-O94/1000 -> 2058.4775 | R94: 102647.51 | S94: =R94/1000 -> 102.64751 | T94: =Q94+S94 -> 2161.1251 | U94: =VLOOKUP(A94,'[1]16'!B:W,22,0) -> 12315.812 | V94: 0 | W94: =U94+V94 -> 12315.812 | X94: =W94-T94 -> 10154.687 | Y94: 0 | Z94: =Y94+S94 -> 102.64751 | AB94: 102.64751 | AC94: =VLOOKUP(A94,'[1]16'!B:AL,30,0) -> 0 | AD94: =VLOOKUP(A94,'[1]16'!B:AK,31,1) -> 0 | AE94: =VLOOKUP(A94,'[1]16'!B:AK,32,1) -> 0 | AF94: =VLOOKUP(A94,'[1]16'!B:AL,33,1) -> 0 | AG94: 0 | AH94: 0 | AI94: 0 | AJ94: =SUM(AB94:AI94) -> 102.64751 | AK94: =AJ94-Z94 -> 0
A95: פעולות מקצועיות חינוך | B95: נוספות | C95: נוספות - חינוך והסברה | D95: לא באיו"ש | E95: חינוך | F95: 0 | G95: - | H95: 527555.87 | I95: 930780.83 | J95: 1777699.1 | K95: 1048962.3 | L95: 994395.02 | M95: 237287.36 | N95: 77024.36 | P95: 17195.58 | Q95: =SUM(G95:P95)/1000-O95/1000 -> 5610.9005 | R95: 7434.18 | S95: =R95/1000 -> 7.43418 | T95: =Q95+S95 -> 5618.3346 | U95: =VLOOKUP(A95,'[1]16'!B:W,22,0) -> 5604.188 | V95: 0 | W95: =U95+V95 -> 5604.188 | X95: =W95-T95 -> -14.14663 | Y95: 0 | Z95: =Y95+S95 -> 7.43418 | AB95: 7.43418 | AC95: =VLOOKUP(A95,'[1]16'!B:AL,30,0) -> 0 | AD95: =VLOOKUP(A95,'[1]16'!B:AK,31,1) -> 0 | AE95: =VLOOKUP(A95,'[1]16'!B:AK,32,1) -> 0 | AF95: =VLOOKUP(A95,'[1]16'!B:AL,33,1) -> 0 | AG95: 0 | AH95: 0 | AI95: 0 | AJ95: =SUM(AB95:AI95) -> 7.43418 | AK95: =AJ95-Z95 -> 0
A96: פעילות שוטפת אגף פסולת | B96: פיתוח | C96: פיתוח - רכש | D96: לא באיו"ש | E96: פרוייקטים שונים | F96: 0 | G96: - | H96: 189901.41 | I96: 137065.81 | J96: 472849.59 | K96: 266463.74 | L96: 177193.01 | M96: 3159.81 | N96: 43840.02 | P96: 1308036.1 | Q96: =SUM(G96:P96)/1000-O96/1000 -> 2598.5095 | R96: 34280.15 | S96: =R96/1000 -> 34.28015 | T96: =Q96+S96 -> 2632.7897 | U96: =VLOOKUP(A96,'[1]16'!B:W,22,0) -> 3688.8979 | V96: 0 | W96: =U96+V96 -> 3688.8979 | X96: =W96-T96 -> 1056.1082 | Y96: 0 | Z96: =Y96+S96 -> 34.28015 | AB96: 34 | AC96: 0 | AD96: 0 | AE96: 0 | AF96: =VLOOKUP(A96,'[1]16'!B:AL,33,1) -> 0 | AG96: 0 | AH96: 0 | AI96: 0 | AJ96: =SUM(AB96:AI96) -> 34 | AK96: =AJ96-Z96 -> -0.28015
A97: פרוייקט כוכב הבית שלנו | B97: נוספות | C97: נוספות - חינוך והסברה | D97: לא באיו"ש | E97: חינוך | F97: 0 | G97: - | H97: - | I97: - | J97: - | K97: 396100 | L97: 1589401.5 | M97: 1322119.7 | N97: 1498216 | O97: =VLOOKUP(A97,'[1]ינואר עד יוני 2016'!A:F,6,0) -> 631800 | P97: 1067274 | Q97: =SUM(G97:P97)/1000-O97/1000 -> 5873.1112 | R97: 0 | S97: 0 | T97: =Q97+S97 -> 5873.1112 | U97: =VLOOKUP(A97,'[1]16'!B:W,22,0) -> 5884.0012 | V97: 0 | W97: =U97+V97 -> 5884.0012 | X97: =W97-T97 -> 10.89 | Y97: 0 | Z97: =Y97+S97 -> 0 | AB97: 0 | AC97: =VLOOKUP(A97,'[1]16'!B:AL,30,0) -> 0 | AD97: =VLOOKUP(A97,'[1]16'!B:AK,31,1) -> 0 | AE97: =VLOOKUP(A97,'[1]16'!B:AK,32,1) -> 0 | AF97: =VLOOKUP(A97,'[1]16'!B:AL,33,1) -> 0 | AG97: 0 | AH97: 0 | AI97: 0 | AJ97: =SUM(AB97:AI97) -> 0 | AK97: =AJ97-Z97 -> 0
A98: פרוייקט מיחשוב אבו דיס | B98: פיתוח | C98: פיתוח - רכש | D98: לא באיו"ש | E98: פרוייקטים שונים | F98: 0 | G98: - | H98: - | I98: - | J98: 18287 | K98: 69196.6 | L98: - | M98: - | N98: - | P98: - | Q98: =SUM(G98:P98)/1000-O98/1000 -> 87.4836 | R98: 0 | S98: 0 | T98: =Q98+S98 -> 87.4836 | U98: =VLOOKUP(A98,'[1]16'!B:W,22,0) -> 87.1966 | V98: 0 | W98: =U98+V98 -> 87.1966 | X98: =W98-T98 -> -0.287 | Y98: 0 | Z98: =Y98+S98 -> 0 | AB98: 0 | AC98: =VLOOKUP(A98,'[1]16'!B:AL,30,0) -> 0 | AD98: =VLOOKUP(A98,'[1]16'!B:AK,31,1) -> 0 | AE98: =VLOOKUP(A98,'[1]16'!B:AK,32,1) -> 0 | AF98: =VLOOKUP(A98,'[1]16'!B:AL,33,1) -> 0 | AG98: 0 | AH98: 0 | AI98: 0 | AJ98: =SUM(AB98:AI98) -> 0 | AK98: =AJ98-Z98 -> 0
A99: פרוייקט ניקוי אסבסט בגליל | B99: נוספות | C99: נוספות - אסבסט | D99: לא באיו"ש | E99: טיפול באסבסט | F99: 0 | J99: 28535000 | K99: 24016784 | L99: 27848297 | M99: 26564421 | N99: 14094000 | O99: =VLOOKUP(A99,'[1]ינואר עד יוני 2016'!A:F,6,0) -> 19048412 | P99: =[1]איתנית!H11*1000 -> 52039000 | Q99: =SUM(G99:P99)/1000-O99/1000 -> 173097.5 | R99: =[1]איתנית!K30 -> 7667576 | S99: =R99/1000 -> 7667.576 | T99: =Q99+S99 -> 180765.08 | U99: =VLOOKUP(A99,'[1]16'!B:W,22,0) -> 150000 | V99: 20000 | W99: =U99+V99 -> 170000 | X99: =W99-T99 -> -10765.078 | Y99: 0 | Z99: =AB99 -> -3097.5025 | AB99: =W99-Q99 -> -3097.5025 | AC99: =VLOOKUP(A99,'[1]16'!B:AL,30,0) -> 0 | AD99: =VLOOKUP(A99,'[1]16'!B:AK,31,1) -> 0 | AE99: =VLOOKUP(A99,'[1]16'!B:AK,32,1) -> 0 | AF99: =VLOOKUP(A99,'[1]16'!B:AL,33,1) -> 0 | AG99: 0 | AH99: 0 | AI99: 0 | AJ99: =SUM(AB99:AI99) -> -3097.5025 | AK99: =AJ99-Z99 -> 0 | AL99: ע"ח איתנית
A100: פרוייקטורים למחוזות | B100: פיתוח | C100: פיתוח - רכש | D100: לא באיו"ש | E100: פרוייקטורים ויועצים | F100: 0 | G100: - | H100: - | I100: 295783.76 | J100: 367555.84 | K100: 515902.84 | L100: 682298.56 | M100: 539518.42 | N100: 244914.9 | P100: - | Q100: =SUM(G100:P100)/1000-O100/1000 -> 2645.9743 | R100: 15300.3 | S100: =R100/1000 -> 15.3003 | T100: =Q100+S100 -> 2661.2746 | U100: =VLOOKUP(A100,'[1]16'!B:W,22,0) -> 4629.2017 | V100: 0 | W100: =U100+V100 -> 4629.2017 | X100: =W100-T100 -> 1967.9271 | Y100: 0 | Z100: =Y100+S100 -> 15.3003 | AB100: 15 | AC100: 0 | AD100: =VLOOKUP(A100,'[1]16'!B:AK,31,1) -> 0 | AE100: =VLOOKUP(A100,'[1]16'!B:AK,32,1) -> 0 | AF100: =VLOOKUP(A100,'[1]16'!B:AL,33,1) -> 0 | AG100: 0 | AH100: 0 | AI100: 0 | AJ100: =SUM(AB100:AI100) -> 15 | AK100: =AJ100-Z100 -> -0.3003
A101: פרוייקטים (שלטון מקומי) | B101: נוספות | C101: נוספות - חינוך והסברה | D101: לא באיו"ש | E101: פרוייקטים שונים | F101: 0 | G101: - | H101: 5417.25 | I101: 10706.86 | J101: 5353756.8 | K101: 2446106.1 | L101: 884488.8 | M101: - | N101: - | P101: - | Q101: =SUM(G101:P101)/1000-O101/1000 -> 8700.4758 | R101: 40310.57 | S101: =R101/1000 -> 40.31057 | T101: =Q101+S101 -> 8740.7863 | U101: =VLOOKUP(A101,'[1]16'!B:W,22,0) -> 9115.066 | V101: 0 | W101: =U101+V101 -> 9115.066 | X101: =W101-T101 -> 374.27965 | Y101: 0 | Z101: =Y101+S101 -> 40.31057 | AB101: 40 | AC101: =VLOOKUP(A101,'[1]16'!B:AL,30,0) -> 0 | AD101: =VLOOKUP(A101,'[1]16'!B:AK,31,1) -> 0 | AE101: =VLOOKUP(A101,'[1]16'!B:AK,32,1) -> 0 | AF101: =VLOOKUP(A101,'[1]16'!B:AL,33,1) -> 0 | AG101: 0 | AH101: 0 | AI101: 0 | AJ101: =SUM(AB101:AI101) -> 40 | AK101: =AJ101-Z101 -> -0.31057
A102: פרויקט הפצת זרעים לגני ילדים | B102: פיתוח | C102: פיתוח - רכש | D102: לא באיו"ש | E102: חינוך | F102: 0 | G102: - | H102: - | I102: - | J102: - | K102: - | L102: 47082 | M102: 49560 | N102: - | P102: - | Q102: =SUM(G102:P102)/1000-O102/1000 -> 96.642 | R102: 0 | S102: 0 | T102: =Q102+S102 -> 96.642 | U102: =VLOOKUP(A102,'[1]16'!B:W,22,0) -> 100 | V102: 0 | W102: =U102+V102 -> 100 | X102: =W102-T102 -> 3.358 | Y102: 0 | Z102: =Y102+S102 -> 0 | AB102: 0 | AC102: =VLOOKUP(A102,'[1]16'!B:AL,30,0) -> 0 | AD102: =VLOOKUP(A102,'[1]16'!B:AK,31,1) -> 0 | AE102: =VLOOKUP(A102,'[1]16'!B:AK,32,1) -> 0 | AF102: =VLOOKUP(A102,'[1]16'!B:AL,33,1) -> 0 | AG102: 0 | AH102: 0 | AI102: 0 | AJ102: =SUM(AB102:AI102) -> 0 | AK102: =AJ102-Z102 -> 0
...

Sheet פרוייקטי הקרן לשמירת הניקיון
B16: פרויקט | C16: סך תקציב הפרוייקט
A17: 1 | B17: הפרדה במקור | C17: 493245.64
A18: 2 | B18: פרוייקט PPP | C18: 432000
A19: 3 | B19: מודל תמרוץ | C19: 380000
A20: 4 | B20: מתקני קצה | C20: 377133.51
A21: 5 | B21: סביבה שווה | C21: 300722
A22: 6 | B22: פריפריה | C22: 250000
A23: 7 | B23: טיפול באסבסט | C23: 178672
A24: 8 | B24: חינוך | C24: 162914.97
A25: 9 | B25: פסולת בניין | C25: 109968
A26: 10 | B26: הסברה | C26: 66637.192
A27: 11 | B27: בדואים | C27: 57725.402
A28: 12 | B28: הקמת מרכז מחקר מפסולת למשאב | C28: 40000
... A31: 15 | B31: פרוייקטורים ויועצים | C31: 34729.534
A32: 16
A33: 17
A34: 18 | B34: פרוייקטים שונים | C34: 144344.53
A35: 19 | B35: תמיכות 2008-2009 | C35: 143490.69
A36: 20 | B36: ניקוי הקישון | C36: 36000
A37: 21 | B37: שיקום פארק אריאל שרון | C37: 24750
A38: 22 | B38: שכר | C38: 22380.389
A39: 23 | B39: מערכות מיחשוב תומכות | C39: 21758.408
A40: 24 | B40: שיקום אתר רתמים | C40: 21000
A41: 25 | B41: פסולת חקלאית | C41: 20000
A42: 26 | B42: רזרבה | C42: 20000
A43: 27 | B43: תמיכות שונות | C43: 14390.172
A44: 28 | B44: סקרים ומחקרים | C44: 14156.746
A45: 29 | B45: ניקוי גדות נחלים באמצעות מיחזור | C45: 10500
... A50: 34 | B50: נסיעות לחו"ל | C50: 122.24136
A51: 16 | B51: פרוייקטים נוספים | C51: =SUM(C34:C50) -> 508552.98
B53: סכום כולל | C53: =SUM(C17:C50) -> 3461201.6

Sheet 1
A1: 1 הפרדה במקור
B3: קול קורא | C3: שם הרשות | D3: סך התחיבויות | E3: תשלומים 2012-2015 | F3: תשלום ינואר - יוני 2016 | G3: תשלומים ינואר - דצמבר 2016
A4: 4 | B4: 30/10 | C4: באר שבע | D4: 66226057 | E4: 22469592 | F4: 994381 | G4: 994381
A5: 2 | B5: 30/10 | C5: אשדוד | D5: 54694821 | E5: 21452848 | F5: 18151993 | G5: 18151993
A6: 37 | B6: 34/12 | C6: פתח תקוה | D6: 36288364 | E6: 0 | F6: 0 | G6: 0
A7: 3 | B7: 30/10 | C7: אשקלון | D7: 28456295 | E7: 2859332 | F7: 0 | G7: 0
A8: 33 | B8: 34/12 | C8: בת-ים | D8: 23908125 | E8: 0 | F8: 0 | G8: 0
A9: 16 | B9: 30/10 | C9: רמלה | D9: 18152666 | E9: 12720086 | F9: 1243159 | G9: 1243159
A10: 7 | B10: 30/10 | C10: חדרה | D10: 17922525 | E10: 5087535 | F10: 853148 | G10: 853148
A11: 9 | B11: 30/10 | C11: כפר סבא | D11: 13391517 | E11: 10578810 | F11: 0 | G11: 668710
A12: 30 | B12: 30/10 | C12: מודיעין-מכבים-רעות | D12: 11567996 | E12: 5001991 | F12: 3315396 | G12: 3315396
A13: 43 | B13: 34/12 | C13: מ. א. מטה בנימין | D13: 11302974 | E13: 0 | F13: 0 | G13: 0
A14: 5 | B14: 34/12 | C14: דימונה | D14: 10581437 | E14: 5503101 | F14: 590828 | G14: 590828
A15: 32 | B15: 34/12 | C15: אילת | D15: 10264100 | E15: 0 | F15: 0 | G15: 0
... A56: 50 | B56: 34/12 | C56: מ. מ. הר-אדר | D56: 436728 | E56: 0 | F56: 0 | G56: 0
C58: סה"כ | D58: 493143908 | E58: 169628982 | F58: 34986574 | G58: 43357975

Sheet 4
A1: 4 מתקני קצה ומיון
A4: מחוז | B4: סוג המתקן | C4: ק"ק | D4: שם היזם | E4: מספר התחייבות | F4: סך ההתחייבות
A5: צפון | B5: קומפוסטציה פתוחה | C5: 31 | D5: ס.ד.מ לסביבה בע"מ | E5: 1000327292 | F5: 1775000
A6: צפון | B6: מתקן עיכול אנאירובי | C6: 31 | D6: עברון תממ מחזור זימון לשימוע לפני ביטול(ועדה 28.6.2016) | E6: 1000324349 | F6: 17200000
A7: מרכז | B7: מתקן עיכול אנאירובי | C7: 31 | D7: טמבור חפר | E7: 1000324510 | F7: 5336600
A8: מרכז | B8: מתקן עיכול אנאירובי | C8: 31 | D8: יוניברב פאוור - עמנואל זימון לשימוע לפני ביטול(ועדה 28.6.2016) | E8: 1000327033 | F8: 9960000
A9: דרום | B9: קומפוסטציה פתוחה | C9: 31 | D9: חיון אקולוגיה זימון לשימוע לפני ביטול(ועדה 28.6.2016) | E9: 1000327046 | F9: 1775000
A10: צפון | B10: מתקן עיכול אנאירובי | C10: 31 | D10: אקו אנרגיה גולן | E10: 1000396808 | F10: 6385350
A11: דרום | B11: מתקן עיכול אנאירובי | C11: 31 | D11: י.ר.א.ב שרותי נוי 1985 זימון לשימוע לפני ביטול(ועדה 18.1.16) | E11: 1000324511 | F11: 17200000
A12: דרום | B12: מתקן עיכול אנאירובי | C12: 31 | D12: עיריית אילת זימון לשימוע לפני ביטול | E12: 1000402682 | F12: 12818000
A13: מחוז | B13: סוג המתקן | C13: ק"ק | D13: שם היזם | E13: מספר התחייבות | F13: סך ההתחייבות
A14: צפון | B14: תחנת מיון | C14: 32 | D14: א.נ. מרכז מיחזור | E14: 1000327290 | F14: 5059350
A15: ירושלים | B15: תחנת מיון | C15: 32 | D15: גרין נט | E15: 1000325958 | F15: 17601750
A16: דרום | B16: תחנת מיון | C16: 32 | D16: מ.א. בני שמעון | E16: 1000326161 | F16: 29533000
A17: דרום | B17: תחנת מיון | C17: 32 | D17: עיריית אשדוד התראה לפני ביטול התחייבות אלא אם יפורסם מכרז עד ה1.4.16 (ועדה 18.1.16) | E17: 1000326162 | F17: 16081308
A18: צפון | B18: תחנת מיון | C18: 32 | D18: עיריית עפולה זימון לשימוע לפני ביטול | E18: 1000326160 | F18: 10689750
A19: צפון | B19: תחנת מיון | C19: 32 | D19: עברון תממ מחזור זימון לשימוע לפני ביטול(ועדה 28.6.2016) | E19: 1000326127 | F19: 20250000
A20: מרכז | B20: תחנת מיון | C20: 32 | D20: יוניברב פאוור - עמנואל זימון לשימוע לפני ביטול(ועדה 28.6.2016) | E20: 1000327279 | F20: 3600000
A21: דרום | B21: תחנת מיון | C21: 32 | D21: ש.י.א. אשקלון זימון לשימוע לפני ביטול(ועדה 28.6.2016) | E21: 1000326128 | F21: 13263750
A22: דרום | B22: תחנת מיון | C22: 32 | D22: עיריית אילת זימון לשימוע לפני ביטול | E22: 1000402814 | F22: 6000000
A23: מחוז | B23: סוג המתקן | C23: ק"ק | D23: שם היזם | E23: מספר התחייבות | F23: סך ההתחייבות | AM23: כמות (טון/יום)
A24: צפון | B24: מתקן עיכול אנאירובי | C24: 33 | D24: אתר טליה אחזקות זימון לשימוע לפני ביטול(ועדה 28.6.2016) | E24: 1000437477 | F24: 21260000 | AM24: 204
A25: מרכז | B25: מתקן עיכול אנאירובי | C25: 33 | D25: קומפוסטאור בע"מ זימון לשימוע לפני ביטול(ועדה 18.1.16) | E25: 1000443651 | F25: 20833440 | AM25: 200
A26: תל אביב | B26: מתקן עיכול אנאירובי | C26: 33 | D26: חץ אקולוגיה | E26: 1000439005 | F26: 7768522 | AM26: 201
A27: ירושלים | B27: מתקן עיכול אנאירובי | C27: 33 | D27: גרין נט תקשורת בע"מ זומנו לשימוע לפני ביטול | E27: 1000437107 | F27: 25000000 | AM27: 340
A28: ירושלים | B28: מתקן עיכול אנאירובי | C28: 33 | D28: מעלה אדומים, חברה לתכנון ופיתוח זימון לשימוע לפני ביטול(ועדה 28.6.2016) | E28: 1000443650 | F28: 25000000 | AM28: 202
A29: דרום | B29: מתקן עיכול אנאירובי | C29: 33 | D29: ש.י.א. אשקלון בע"מ זימון לשימוע לפני ביטול(ועדה 28.6.2016) | E29: 1000437106 | F29: 15248000 | AM29: 400

Sheet 5
A1: סביבה שווה- ניתוח תקציבי- התחייבויות 2016-2017 | K1: נכון לתאריך 28/5/17
A3: מס"ד | B3: שם מגיש הבקשה | C3: תיאור בקשה קצר | D3: סכום בקשה מאושר
A4: 1 | B4: עירית אום-אל-פחם | C4: הקמת תחנת מעבר ממיינת | D4: 12000000
C5: סה"כ פרק קידום ת"מ ממיינת באום אל פאחם | D5: 12000000
A6: 2 | B6: מ. מ. בוקעאתא | C6: עריכת תוכנית עבודה ייעודית ומכרזים, | D6: 400000
A7: 3 | B7: מ. מ. מזרעה | C7: עריכת תוכנית עבודה ייעודית ומכרזים, | D7: 480000
A8: 4 | B8: מ. מ. ינוח ג'ת | C8: עריכת תוכנית עבודה ייעודית ומכרזים, | D8: 560000
A9: 5 | B9: עירית טמרה | C9: עריכת תוכנית עבודה ייעודית ומכרזים, | D9: 560000
A10: 6 | B10: מ. מ. כאוכב אבו אלהיג'א | C10: עריכת תוכנית עבודה ייעודית ומכרזים, | D10: 720000
A11: 7 | B11: מ. מ. בסמת טבעון | C11: עריכת תוכנית עבודה ייעודית ומכרזים, | D11: 80000
A12: 8 | B12: מ. מ. סאג'ור | C12: עריכת תוכנית עבודה ייעודית ומכרזים, | D12: 80000
A13: 9 | B13: מ. מ. טובא-זנגריה | C13: עריכת תוכנית עבודה ייעודית ומכרזים, | D13: 80000
A14: 10 | B14: מ. מ. ג'יסר אל זרקא | C14: עריכת תוכנית עבודה ייעודית ומכרזים, | D14: 80000
A15: 11 | B15: מ. מ. בסמ"ה | C15: עריכת תוכנית עבודה ייעודית ומכרזים, | D15: 80000
A16: 12 | B16: מ. מ. ערערה | C16: עריכת תוכנית עבודה ייעודית ומכרזים, | D16: 80000
A17: 13 | B17: מ. מ. כפר קרע | C17: עריכת תוכנית עבודה ייעודית ומכרזים, | D17: 80000
... A19: 15 | B19: מ. מ. פוריידיס | C19: עריכת תוכנית עבודה ייעודית ומכרזים, | D19: 80000
C20: סה"כ פרק עריכת תוכנית עבודה ייעודית ומכרזים | D20: =SUM(D6:D19) -> 3440000
A21: 16 | B21: מ. מ. מג'אר | C21: ה.מ. 1496 משק הפסולת ערבי בדואי דרוזי | D21: 1641000
A22: 17 | B22: מ. מ. ביענה | C22: ה.מ. 1496 משק הפסולת ערבי בדואי דרוזי | D22: 696000
A23: 18 | B23: עירית אום-אל-פחם | C23: ה.מ. 1496 משק הפסולת בדואי ערבי דרוזי | D23: 3748000
A24: 19 | B24: מ.מ. באקה אל-גרבייה | C24: ה.מ. 1496 משק הפסולת בדואי ערבי דרוזי | D24: 2075000
A25: 20 | B25: עירית טייבה | C25: ה.מ. 1496 משק הפסולת בדואי ערבי דרוזי | D25: 2964000
A26: 21 | B26: עירית טמרה | C26: ה.מ. 1496 משק הפסולת בדואי ערבי דרוזי | D26: 2369000
A27: 22 | B27: עירית נצרת | C27: ה.מ. 1496 משק הפסולת בדואי ערבי דרוזי | D27: 5372000
A28: 23 | B28: עירית סח'נין | C28: ה.מ. 1496 משק הפסולת בדואי ערבי דרוזי | D28: 2152000
A29: 24 | B29: עירית שפרעם | C29: ה.מ. 1496 משק הפסולת בדואי ערבי דרוזי | D29: 2894000
A30: 25 | B30: מ. מ. אבו סנאן | C30: ה.מ. 1496 משק הפסולת בדואי ערבי דרוזי | D30: 1074000
A31: 26 | B31: מ. מ. איכסאל | C31: ה.מ. 1496 משק הפסולת בדואי ערבי דרוזי | D31: 1088000
A32: 27 | B32: מ. מ. איעבלין | C32: ה.מ. 1496 משק הפסולת בדואי ערבי דרוזי | D32: 1025000
... A91: 86 | B91: איגוד ערים המשולש הדרומי (איכות | C91: ה.מ. 1496 משק הפסולת בדואי ערבי דרוזי | D91: 6301000
C92: סה"כ פרק רכש כלי אצירה | D92: =SUM(D21:D91) -> 80893000
A93: 89 | B93: מ. א. בוסתאן אל-מרג' | C93: ה.מ. 1496 משק הפסולת בדואי ערבי דרוזי | D93: 1500000
A94: 90 | B94: מ. מ. ג'לג'וליה | C94: ה.מ. 1496 משק הפסולת בדואי ערבי דרוזי | D94: 1350000
A95: 91 | B95: מ. מ. זמר | C95: ה.מ. 1496 משק הפסולת בדואי ערבי דרוזי | D95: 1500000
A96: 92 | B96: מ. מ. איכסאל | C96: ה.מ. 1496 משק הפסולת בדואי ערבי דרוזי | D96: 1500000
A97: 93 | B97: מ. מ. איעבלין | C97: ה.מ. 1496 משק הפסולת בדואי ערבי דרוזי | D97: 1500000
A98: 94 | B98: מ. מ. כפר-ברא | C98: ה.מ. 1496 משק הפסולת בדואי ערבי דרוזי | D98: 1350000
A99: 95 | B99: מ. מ. אבו סנאן | C99: ה.מ. 1496 משק הפסולת בדואי ערבי דרוזי | D99: 1500000
A100: 96 | B100: מ. מ. בועיינה-נוג'יידאת | C100: ה.מ. 1496 משק הפסולת בדואי ערבי דרוזי | D100: 1500000
A101: 97 | B101: מ. מ. בוקעאתא | C101: ה.מ. 1496 משק הפסולת בדואי ערבי דרוזי | D101: 1500000
A102: 98 | B102: מ. מ. ביר אל-מכסור | C102: ה.מ. 1496 משק הפסולת בדואי ערבי דרוזי | D102: 1500000
A103: 99 | B103: מ. מ. בית-ג'ן | C103: ה.מ. 1496 משק הפסולת בדואי ערבי דרוזי | D103: 1500000
A104: 100 | B104: מ. מ. בסמת טבעון | C104: ה.מ. 1496 משק הפסולת בדואי ערבי דרוזי | D104: 1500000
... A162: 158 | B162: אשכול יישובי בית הכרם בע"מ | C162: ה.מ. 1496 משק הפסולת הערבי,דרוזי,בדואיי | D162: 1500000
C163: סה"כ פרק שיקום מפגעים וקידום פרוייקטים סביבתיים | D163: =SUM(D93:D162) -> 107500000
A164: 159 | B164: עירית אום-אל-פחם | C164: ה.מ. 1496 הסדרת משק הפסולת -סיוע לאכיפה | D164: 1140000
A165: 160 | B165: איגוד ערים חדרה (איכות הסביבה) | C165: ה.מ. 1496 הסדרת משק הפסולת -סיוע לאכיפה | D165: 1140000
A166: 161 | B166: איגוד ערים איזור הגליל המערבי (א | C166: ה.מ. 1496 הסדרת משק הפסולת -סיוע לאכיפה | D166: 1140000
A167: 162 | B167: מ. מ. פקיעין | C167: ה.מ. 1496 הסדרת משק הפסולת -סיוע לאכיפה | D167: 1140000
A168: 163 | B168: עירית טמרה | C168: ה.מ. 1496 הסדרת משק הפסולת -סיוע לאכיפה | D168: 1140000
A169: 164 | B169: מ. א. גולן | C169: ה.מ. 1496 הסדרת משק הפסולת -סיוע לאכיפה | D169: 1140000
A170: 165 | B170: עירית אום-אל-פחם | C170: ה.מ. 1496 הסדרת משק הפסולת -סיוע לאכיפה | D170: 127000
A171: 166 | B171: איגוד ערים אגן בית נטופה (סביבה) | C171: ה.מ. 1496 הסדרת משק הפסולת -סיוע לאכיפה | D171: 127000
A172: 87 | B172: איגוד ערים המשולש הדרומי (איכות | C172: ה.מ. 1496 הסדרת משק הפסולת -סיוע לאכיפה | D172: 2460000
A173: 88 | B173: עירית טייבה | C173: ה.מ. 1496 הסדרת משק הפסולת -סיוע לאכיפה | D173: 1140000
B174: עירית אום-אל-פחם | C174: ה.מ. 1496 הסדרת משק הפסולת -סיוע לאכיפה | D174: 127000
B175: איגוד ערים אגן בית נטופה (סביבה) | C175: ה.מ. 1496 הסדרת משק הפסולת -סיוע לאכיפה | D175: 127000
C176: סה"כ פרק שיקום סיוע לאכיפה | D176: =SUM(D164:D175) -> 10948000
C177: סה"כ התחייבויות 2016-2017 | D177: =D5+D20+D92+D163+D176 -> 214781000
A181: סביבה שווה- ניתוח תקציבי-2014
A183: מס"ד | B183: שם מגיש הבקשה | C183: תיאור בקשה קצר | D183: סכום בקשה מאושר
A184: 1 | B184: איגוד ערים המשולש הדרומי (איכות | C184: כתיבת תוכנית אב ויעוץ במגזר הלא יהודי | D184: 250000
A185: 2 | B185: עירית טייבה | C185: כתיבת תוכנית אב ויעוץ במגזר הלא יהודי | D185: 100000
A186: 3 | B186: מ. מ. איכסאל | C186: כתיבת תוכנית אב ויעוץ במגזר הלא יהודי | D186: 500000
A187: 4 | B187: מ. מ. נחף | C187: כתיבת תוכנית אב ויעוץ במגזר הלא יהודי | D187: 100000
A188: 5 | B188: מ.מ. באקה אל-גרבייה | C188: כתיבת תוכנית אב ויעוץ במגזר הלא יהודי | D188: 100000
A189: 6 | B189: עירית אום-אל-פחם | C189: כתיבת תוכנית אב ויעוץ במגזר הלא יהודי | D189: 80000
A190: 7 | B190: מ. מ. מעלה עירון | C190: כתיבת תוכנית אב ויעוץ במגזר הלא יהודי | D190: 100000
A191: 8 | B191: מ. מ. דלית אל כרמל | C191: כתיבת תוכנית אב ויעוץ במגזר הלא יהודי | D191: 80000
A192: 9 | B192: מ. מ. עוספייא | C192: כתיבת תוכנית אב ויעוץ במגזר הלא יהודי | D192: 100000
B193: סה"כ פרק כתיבת תוכנית אב ויעוץ במגזר הלא יהודי | D193: =SUM(D184:D192) -> 1410000
A194: 10 | B194: מ. מ. כפר-כנא | C194: סיוע העצמת הרשות במגזר הלא יהודי 2014 | D194: 800000
A195: 11 | B195: מ. מ. עילוט | C195: סיוע העצמת הרשות במגזר הלא יהודי 2014 | D195: 800000
A196: 12 | B196: מ. מ. ריינה | C196: סיוע העצמת הרשות במגזר הלא יהודי 2014 | D196: 800000
A197: 13 | B197: מ. מ. עין מאה'ל | C197: סיוע העצמת הרשות במגזר הלא יהודי 2014 | D197: 800000
A198: 14 | B198: מ. מ. יפיע | C198: סיוע העצמת הרשות במגזר הלא יהודי 2014 | D198: 800000
A199: 15 | B199: מ. מ. משהד | C199: סיוע העצמת הרשות במגזר הלא יהודי 2014 | D199: 800000
A200: 16 | B200: מ. א. בוסתאן אל-מרג' | C200: סיוע העצמת הרשות במגזר הלא יהודי 2014 | D200: 800000
A201: 17 | B201: עירית נצרת | C201: סיוע העצמת הרשות במגזר הלא יהודי 2014 | D201: 800000
A202: 18 | B202: מ. מ. דבורייה | C202: סיוע העצמת הרשות במגזר הלא יהודי 2014 | D202: 800000
A203: 19 | B203: מ. מ. איכסאל | C203: סיוע העצמת הרשות במגזר הלא יהודי 2014 | D203: 800000
A204: 20 | B204: מ. מ. שבלי | C204: סיוע העצמת הרשות במגזר הלא יהודי 2014 | D204: 800000
A205: 21 | B205: מ. מ. זרזיר | C205: סיוע העצמת הרשות במגזר הלא יהודי 2014 | D205: 800000
... A211: 27 | B211: מ. מ. מג'ד אל-כרום | C211: סיוע העצמת הרשות במגזר הלא יהודי 2014 | D211: 400000
B212: סה"כ פרק סיוע העצמת הרשות במגזר הלא יהודי 2014 | D212: =SUM(D194:D211) -> 12400000
A213: 28 | B213: מ. מ. איכסאל | C213: סיוע לאכיפה במגזר הלא יהודי 2014 | D213: 160000
B214: סה"כ פרק קורס אכיפה מחוז צפון | D214: 160000
A215: 29 | B215: איגוד ערים אגן בית נטופה (סביבה) | C215: סיוע לאכיפה במגזר הלא יהודי 2014 | D215: 2000000
B216: סה"כ פרק סיוע לאכיפה במגזר הלא יהודי 2014 | D216: 2000000
B217: סה"כ התחייבויות 2014 | D217: =D193+D212+D214+D216 -> 15970000
D219: =D217+D177 -> 230751000
B221: נושא | D221: הקצאה תקציבית מתוכננת
B222: סיוע לשידרוג מנגנוני אכיפה אזוריים (כח אדם, כלי רכב) | D222: 6679000 | E222: הקצאה זו מיועדת ל: הקמת איגוד ערים "עמקים" (חדש) אשר ישרת את ישובי המגזר הלא יהודי שעוטפים את נצרת לדוג' נצרת,דבוריה,איכסאל וכו',סיוע לאיגוד ערים חיפה עבור הרשויות-עוספיא ודלית אל כרמל
B223: שידרוג אתרים לטיפול בפסולת מעורבת | D223: 15000000 | E223: הקצאה זו מיועדת לשדרוג 2 ת"מ ממיינות לטיפול בפסולת מעורבת איזוריות אשר ממוקמות במגזר הלא יהודי ואשר משרתות מקבץ רשויות,בימים אלו אנו מגבשים את האיתורים לסיוע
B224: הקמת פתרונות קצה לטיפול בפסולת גזם וגושית | D224: 45000000 | E224: הקצאה זו מיועדת להקמת 3-4 ת"מ מטפלות בגזם וגורטאות איזוריות אשר ישרתו מקבץ רשויות,הקצאה הראשונה מתוך סכום מיועדת לא.ע משולש דרומי ע"ס 10 מלש"ח (ממתין להחלטת הוועדה הבינמשרדית שתתכנס בתאריך 18/7) שתשרת 5 רשויות מקומיות (טירה,גלוגליה,כפר ברא,כפר קאסם,קלנסוואה)
B225: טיפול בפסדי"ם | D225: 3292000 | E225: הקצאה זו מיועדת לשדרוג חלקי ואיזורי של הטיפול בפסדי"ם,טרם הוחלט על החלוקה
B226: סה"כ תקציב להמשך תוכנית סביבה שווה | D226: =SUM(D222:D225) -> 69971000

Sheet 6
A1: מצ"ב חלוקת התקציב לאשכולות
B3: קו"ק 1 | C3: קו"ק 2 | D3: סה"כ
A4: בית הכרם | B4: 15013422 | C4: =D4-B4 -> 34986578 | D4: =50000000 -> 50000000
A5: גליל מזרחי | B5: 34986578 | C5: =D5-B5 -> 15013422 | D5: =50000000 -> 50000000
A6: הגליל המערבי | B6: 0 | C6: =D6-B6 -> 50000000 | D6: =50000000 -> 50000000
A7: נגב המזרחי | B7: 50000000 | C7: =D7-B7 -> 0 | D7: =50000000 -> 50000000
A8: נגב המערבי | B8: 0 | C8: =D8-B8 -> 50000000 | D8: =50000000 -> 50000000
C9: סה"כ | D9: =SUM(D4:D8) -> 250000000
A12: מפת האשכולות במדינת ישראל כולל פירוט הרשויות מצ"ב כנספח

Sheet 7
B2: רב הכסף יצא בפרוייקט ניקוי הגליל המערבי מאסבסט, ו7.5 מלש"ח להחלפת גגות אסבסט בישובי עוטף עזה הרשויות שנהנו מהפרוייקט הינם:
B3: 1. נהריה
B4: 2. מטה אשר
B5: 3. מזרעה
B6: 4. מוא"ז אשכול
B7: 5. מוא"ז חוף אשקלון
B8: 6. מוא"ז שדות נגב
B9: 7. מוא"ז שער הנגב

Sheet 8
A1: 8 חינוך
A3: משימת תקציב | B3: ס"ה תקציב הפרוייט
A4: קול קורא רשויות (הטמעת אורח חיים מקיים) | B4: 31238.595
A5: מ. החינוך הטמעת קימות במוסדות חינוך | B5: 24904.82
A6: השתתפות במשרד החינוך | B6: 20888.091
A7: שיקום נחלים - תוכניות חינוכיות | B7: 17643
A8: פעולות אגף חינוך- העברה למשרד החינוך 2016 | B8: 9680
A9: פעולות אגף חינוך- קק רשויות מקומיות 2016 | B9: 8200
A10: תמיכות לרשויות חינוך קו"ק 2012 | B10: 7391.5904
A11: תמיכות לרשויות חינוך קו"ק עד 2011 | B11: 6167.5808
A12: פרוייקט כוכב הבית שלנו | B12: 5873.1112
A13: פעולות מקצועיות חינוך | B13: 5618.3346
A14: חינוך לקיימות מקומית | B14: 3588.6219
A15: מגזרים מוחלשים בתי ספר | B15: 2400
... A44: הפקת מערכי שיעור בנושא הפרדה לשני זרמים | B44: 3.22
B46: =SUM(B4:B45) -> 162914.97
A48: נספח התחייבוית שכבר נפתחו במערכת (ושולמו ברובם):
A49: ספק | B49: סכום
A50: 10000058 - משרד החינוך והתרבות,ראשי | B50: 64339091
A51: 41069442 - אל.סי.אי - חוויות משנות חיים בע"מ | B51: 2989110
A52: 40294654 - אור-פאן בע"מ | B52: 2884001.1
A53: 20000289 - רשות ניקוז ים המלח | B53: 1859970
A54: 20000351 - איגוד ערים איזור הגליל המערבי (א | B54: 1558487.4
A55: 40000195 - עמותת גוונים לפיתוח החינוך הקהילה ו | B55: 1500000
A56: 40000346 - החברה להגנת הטבע | B56: 1346915.1
A57: 10000021 - לשכת הפירסום הממשלתי | B57: 1267994.9
A58: 20000353 - איגוד ערים המשולש הדרומי (איכות | B58: 1260401.2
A59: 40001665 - מרכז השלטון המקומי בישראל | B59: 1155588.5
A60: 40001605 - טלדור מערכות מחשבים (1986) בע"מ | B60: 1149111.6
A61: 20000352 - איגוד ערים איזור אשדוד (איכות הס | B61: 1117344.3
... A522: (סה"כ) | B522: 1.4301016e+08
A524: Selection Status:
A525: נושא משימת תקציב: חינוך
B527: =B522/1000 -> 143010.16
A528: הוקצה ועדיין לא נפתחה התחייבות/בוצעה העברה | B528: =B527-B46 -> -19904.812

Sheet 9
A1: 11 פסולת בניין
A3: משימת תקציב | B3: ס"ה תקציב הפרוייט
A4: סיוע בהקמה ושדרוג - מתקני טיפול פסולת בניין | B4: 84660
A5: עידוד שימוש בחומרים ממוחזרים - פסולת בניין | B5: 12858.072
A6: שיקום מפגעי פסולת לרשויות בדירוג סוצ"א נמוך קו"ק שני | B6: 8727.277
A7: שיקום מפגעי פסולת לרשויות בדירוג סוצ"א נמוך קו"ק ראשון | B7: 3076.295
A8: טיפול בפסולת בניין | B8: 380
A9: שיקום מפגעי פסולת בנייה באמצעות מחזור ואכיפה | B9: 223.36
A10: יועץ לאיתור מתחמים להקמת תחנות מעבר לפסולת בניין | B10: 42.99999
B12: =SUM(B4:B11) -> 109968
A15: ספק | B15: סכום
A16: 40267198 - מגרסות יופי נוף בע"מ | B16: 5494220.1
A17: 20000247 - עירית ראשון לציון | B17: 4510000
A18: 40003256 - החברה הכלכלית לאשקלון בע"מ | B18: 4510000
A19: 40939683 - שפיה קליטה ומחזור פסולת בע"מ | B19: 4500000
A20: 41127801 - גרין קליטה ומיחזור בע"מ | B20: 4500000
A21: 41396964 - גלובל גרין גרופ (אך דוד) בע"מ | B21: 4500000
A22: 41397112 - טאהא זאהר | B22: 4500000
A23: 41397113 - מ.א. מרעי בע"מ | B23: 4500000
A24: 20000096 - עירית שדרות | B24: 4493000
A25: 40019616 - בני וצביקה בע"מ | B25: 3881961.8
A26: 40460362 - טורעאן קליטה ומיחזור בע"מ | B26: 3482000
A27: 41397401 - ב.ר.ש.ד פארק מחזור אשדוד בע"מ | B27: 3382500
... A74: (סה"כ) | B74: 83710215
A76: Selection Status:
A77: נושא משימת תקציב: פסולת בניין
A79: עדיין לא נפתחו התחייבויות | B79: =B74/1000-B12 -> -26257.789

Sheet 10
A1: 12 הסברה
A3: משימת תקציב | B3: נושא משימת תקציב | C3: 2008 | D3: 2009 | E3: 2010 | F3: 2011 | G3: 2012 | H3: 2013 | I3: 2014 | J3: 2015 | K3: חצי שנת 2016 | L3: דצמבר 2016 (מצטבר) | M3: ס"ה תקציב הפרוייט
A4: קמפיין להפחתת צריכה | B4: הסברה | C4: - | D4: - | E4: 1346.8094 | F4: 17120.302 | G4: 9165.3293 | H4: 19.90882 | I4: 2.535 | J4: - | K4: 0 | L4: - | M4: 27703.528
A5: אינטרנט | B5: הסברה | C5: - | D5: - | E5: 923.80132 | F5: 1952.0033 | G5: 1531.5736 | H5: 1859.6303 | I5: 1884.994 | J5: 925.79343 | K5: 124.56677 | L5: 181.82855 | M5: 10053.809
A6: קמפיין להקטנת השימוש בשקיות ניילון | B6: הסברה | C6: - | D6: - | E6: - | F6: - | G6: - | H6: - | I6: 2373.1744 | J6: 2180.0408 | K6: 0 | L6: 4.05 | M6: 5310.5211
A7: קמפיין שקיות | B7: הסברה | C7: - | D7: - | E7: - | F7: - | G7: - | H7: - | I7: - | J7: - | K7: 0 | L7: - | M7: 5000
A8: כנסים ואירועים | B8: הסברה | C8: - | D8: - | E8: - | F8: - | G8: - | H8: - | I8: 59.4182 | J8: 2797.5248 | K8: 1605.8245 | L8: 1673.1782 | M8: 4996.7721
A9: קו"ק כנסים ואירועים | B9: הסברה | C9: - | D9: - | E9: - | F9: - | G9: - | H9: 1921.467 | I9: 100 | J9: 100 | K9: 239.75 | L9: 239.75 | M9: 2361.217
A10: קמפיין הפרדת פסולת | B10: הסברה | C10: - | D10: - | E10: - | F10: - | G10: 1988.3601 | H10: 34.51705 | I10: - | J10: 0.15 | K10: 0 | L10: - | M10: 2050
A11: הרחבת מסע ההסברה לקניה באמצעות שקיות רב פעמיות | B11: הסברה | C11: - | D11: - | E11: - | F11: - | G11: - | H11: - | I11: 119.6982 | J11: 171.86328 | K11: 0 | L11: - | M11: 2000
A12: קמפיין שריפת פסולת במגזר הערבי | B12: הסברה | C12: - | D12: - | E12: - | F12: 447.6277 | G12: 659.57252 | H12: 339.74238 | I12: - | J12: - | K12: 0 | L12: - | M12: 1446.9426
A13: הסברה מפרץ חיפה | B13: הסברה | C13: - | D13: - | E13: - | F13: - | G13: - | H13: - | I13: - | J13: - | K13: 0 | L13: 786.12511 | M13: 1200
A14: קמפיין ממשלה ירוקה | B14: הסברה | C14: - | D14: - | E14: 115.5625 | F14: 867.4774 | G14: 36.47943 | H14: 49.21014 | I14: - | J14: - | K14: 0 | L14: - | M14: 1144
A15: הסברה במגזר הערבי | B15: הסברה | C15: - | D15: - | E15: - | F15: - | G15: - | H15: - | I15: 7.5992 | J15: 165.44147 | K15: 0 | L15: 101.65545 | M15: 1000
A16: אתר אינטרנט לילדים בשפה הערבית | B16: הסברה | C16: - | D16: - | E16: - | F16: - | G16: - | H16: - | I16: - | J16: - | K16: 0 | L16: - | M16: 500
A17: מיזם משותף עם הג'וינט בנושא שילוב גמלאים בנושאי מחזור | B17: הסברה | C17: - | D17: - | E17: - | F17: - | G17: - | H17: - | I17: - | J17: - | K17: 0 | L17: - | M17: 500
A18: תיעוד פרוייקט הפרדה במקור | B18: הסברה | C18: - | D18: - | E18: - | F18: - | G18: - | H18: 296.291 | I18: - | J18: - | K18: 0 | L18: - | M18: 300
A19: תערוכת אנשי הזבל בפארק אריאל שרון | B19: הסברה | C19: - | D19: - | E19: - | F19: - | G19: - | H19: - | I19: - | J19: 250 | K19: 0 | L19: - | M19: 250
A20: דרום אדום | B20: הסברה | C20: - | D20: - | E20: - | F20: - | G20: - | H20: - | I20: 100 | J20: 150 | K20: 0 | L20: - | M20: 250
A21: קמפיין פסולת אלקטרונית | B21: הסברה | C21: - | D21: - | E21: - | F21: - | G21: - | H21: - | I21: 7.56 | J21: 0.7434 | K21: 0 | L21: - | M21: 245
A22: כנס ראשי רשויות - "עיר בת קיימא" | B22: הסברה | C22: - | D22: - | E22: - | F22: - | G22: - | H22: - | I22: 149.57374 | J22: - | K22: 0 | L22: - | M22: 149.57374
A23: תערוכת מחזור - שנקר | B23: הסברה | C23: - | D23: - | E23: - | F23: - | G23: - | H23: - | I23: 70 | J23: - | K23: 0 | L23: 0 | M23: 70
A24: כנס ירושלים | B24: הסברה | C24: - | D24: - | E24: - | F24: - | G24: - | H24: - | I24: 50 | J24: - | K24: 0 | L24: - | M24: 50
A25: קמפיין רדיו ליום הניקיון | B25: הסברה | C25: - | D25: - | E25: - | F25: - | G25: - | H25: - | I25: 49.92338 | J25: - | K25: 0 | L25: - | M25: 49.92338
A26: רכש סלים לציבור כחלק מחוק שקיות ניילון | B26: הסברה | C26: - | D26: - | E26: - | F26: - | G26: - | H26: - | I26: 3.41904 | J26: 2.48538 | K26: 0 | L26: - | M26: 5.90442
M28: =SUM(M4:M27) -> 66637.192

Sheet 11
A1: 13 בדואים
A3: משימת תקציב | B3: ס"ה תקציב הפרוייט | C3: פירוט הרשויות
A4: הסדרת שוק הפסולת במגזר הבדואי | B4: 51414.542 | C4: פירוט הרשויות הינו כפי המופיע בהחלטת ממשלה 546.
A5: הסדרת פסולת הבדואים בצפון | B5: 5000 | C5: פירוט בהחלטת ממשלה בדואים צפון
A6: שרות לאומי מגזר הבדואי במחוז דרום | B6: 1060.8599 | C6: הרשויות זהות לאמור בהחלטת ממשלה 546
A7: תיעוד פרוייקט הבדואים | B7: 250 | C7: =C6 -> הרשויות זהות לאמור בהחלטת ממשלה 546
B8: =SUM(B4:B7) -> 57725.402
A11: ספק | B11: סכום
A12: 20000862 - מ.א. אל קסום | B12: 12965686
A13: 20000861 - מ.א. נווה מדבר | B13: 11065686
A14: 40001034 - רשות הגנים הלאומיים ושמורות הטבע | B14: 2167000
A15: 40000346 - החברה להגנת הטבע | B15: 1499999.3
A16: 40004137 - סוכנות היהודית | B16: 1499993.7
A17: 20000119 - מ. מ. חורה | B17: 1477027
A18: 20000099 - מ. מ. כסיפה | B18: 1475420
A19: 20000098 - מ. מ. תל שבע | B19: 1470600
A20: 20000106 - עירית רהט | B20: 1461612
A21: 20000298 - מ. מ. ערערה-בנגב | B21: 1448907
A22: 20000297 - מ. מ. לקיה | B22: 1416770
A23: 20000114 - מ. מ. שגב-שלום | B23: 1398291
... A26: 10000058 - משרד החינוך והתרבות,ראשי | B26: 304000
A27: (סה"כ) | B27: =SUM(B12:B26) -> 41484111
A29: Selection Status:
A30: נושא משימת תקציב: בדואים
A32: התחייבויות שיצאו עד כה | B32: =B27/1000 -> 41484.111
A33: ס"ה תוקצב | B33: =טבלה8[[#Totals],[ס"ה תקציב הפרוייט]] -> 57725.402
A34: צריך לצאת | B34: =B33-B32 -> 16241.291

Sheet 13
A1: 15 סיוע לישובי הדרום
A3: משימת תקציב | B3: ס"ה תקציב הפרוייט
A4: החלטת ממשלה 2025 - טיפול במפגעי פסולת בניין על ידי פינוי ומחזור בדרום | B4: 9990
A5: החלטת ממשלה 2025 - חינוך סביבתי (תמיכה ביוזמות בית ספריות) | B5: 3745.254
A6: החלטת ממשלה 2025 - הפרדה במקור (הפרדת פסולת ביתית - רשויות מקדימות) | B6: 9700
A7: החלטת ממשלה 1846 - סיוע להפחתת כמות הפסולת המועברת להטמנה בישובי הדרום | B7: 7280
B9: =SUM(B4:B8) -> 30715.254
A12: ספק | B12: משימת תקציב | C12: החלטת ממשלה 2025 - טיפול במפגעי פסולת בניין על ידי פינוי ומחזור בדרום | D12: החלטת ממשלה 1846 - סיוע להפחתת כמות הפסולת המועברת להטמנה בישובי הדרום | E12: החלטת ממשלה 2025 - חינוך סביבתי (תמיכה ביוזמות בית ספריות) | F12: החלטת ממשלה 2025 - הפרדה במקור (הפרדת פסולת ביתית - רשויות מקדימות)
A13: 20000106 - עירית רהט | C13: - | D13: - | E13: 276670 | F13: -
A14: 20000112 - מ. מ. להבים | C14: 240000 | D14: - | E14: 15000 | F14: -
A15: 20000099 - מ. מ. כסיפה | C15: 240000 | D15: - | E15: 99960 | F15: -
A16: 20000096 - עירית שדרות | C16: - | D16: 4000000 | E16: 44145 | F16: -
A17: 20000205 - מ. א. באר-טוביה | C17: 240000 | D17: - | E17: 74092 | F17: -
A18: 20000004 - עירית אופקים | C18: - | D18: - | E18: 85437 | F18: 365000
A19: 20000014 - עירית אשדוד | C19: 450000 | D19: - | E19: 681588 | F19: 3137150
A20: 20000208 - מ. א. חוף אשקלון | C20: 240000 | D20: 340000 | E20: 48051 | F20: -
A21: 20000082 - מ. מ. עומר | C21: 240000 | D21: - | E21: 30055 | F21: -
A22: 20000111 - מ. מ. מיתר | C22: 240000 | D22: - | E22: 29498 | F22: -
A23: 20000217 - מ. א. תמר | C23: 240000 | D23: - | E23: 20000 | F23: -
A24: 20000862 - מ.א. אל קסום | C24: 240000 | D24: - | E24: 113167 | F24: -
A25: 20000015 - מ. מ. מצפה רמון | C25: 240000 | D25: - | E25: 16709 | F25: -
A26: 20000026 - עירית נתיבות | C26: 240000 | D26: - | E26: 100395 | F26: -
A27: 20000097 - עירית קרית מלאכי | C27: 240000 | D27: - | E27: 68697 | F27: -
A28: 20000098 - מ. מ. תל שבע | C28: 240000 | D28: - | E28: 82910 | F28: -
A29: 20000119 - מ. מ. חורה | C29: 240000 | D29: - | E29: 88118 | F29: -
A30: 20000130 - עירית דימונה | C30: 240000 | D30: - | E30: 121029 | F30: 531200
A31: 20000150 - עירית קרית גת | C31: 240000 | D31: - | E31: 150538 | F31: -
A32: 20000207 - מ. א. יואב | C32: - | D32: - | E32: 29342 | F32: -
A33: 20000210 - מ. א. לכיש | C33: 240000 | D33: - | E33: 19000 | F33: -
A34: 20000212 - מ. א. אשכול | C34: - | D34: 1460000 | E34: 36395 | F34: -
A35: 20000213 - מ. א. שדות נגב | C35: - | D35: 620000 | E35: 39696 | F35: 37000
A36: 20000219 - מ. א. חבל אילות | C36: 240000 | D36: - | E36: 18000 | F36: -
A37: 20000220 - מ. א. הערבה התיכונה | C37: 240000 | D37: - | E37: 17000 | F37: -
A38: 20000229 - עירית אשקלון | C38: 450000 | D38: - | E38: 329436 | F38: 462250
A39: 20000254 - עירית באר שבע | C39: 450000 | D39: - | E39: 520583 | F39: 2950000
A40: 20000298 - מ. מ. ערערה-בנגב | C40: 240000 | D40: - | E40: 82786 | F40: -
A41: 20000354 - מ. מ. נאות חובב | C41: 240000 | D41: - | E41: - | F41: -
A42: 20000206 - מ. א. שפיר | C42: 240000 | D42: - | E42: 36829 | F42: -
A43: 20000144 - עירית ערד | C43: 240000 | D43: - | E43: 64691 | F43: -
A44: 20000114 - מ. מ. שגב-שלום | C44: 240000 | D44: - | E44: 74432 | F44: -
A45: 20000085 - מ. מ. ירוחם | C45: 240000 | D45: - | E45: 28660 | F45: -
A46: 20000214 - מ. א. בני שמעון | C46: 2090000 | D46: - | E46: 35326 | F46: -
A47: 20000209 - מ. א. שער הנגב | C47: - | D47: 860000 | E47: 25870 | F47: -
A48: 20000215 - מ. א. מרחבים | C48: - | D48: - | E48: 48811 | F48: -
A49: 20000216 - מ. א. רמת נגב | C49: 240000 | D49: - | E49: 19000 | F49: 73000
A50: 20000861 - מ.א. נווה מדבר | C50: 240000 | D50: - | E50: 104378 | F50: -
A51: 20000297 - מ. מ. לקיה | C51: 240000 | D51: - | E51: 68960 | F51: -
A52: (סה"כ) | C52: 9920000 | D52: 7280000 | E52: 3745254 | F52: 7555600
A54: Selection Status:
A55: נושא משימת תקציב: סיוע לישובי הדרום

Sheet 14
A1: 16 בקרה
A3: משימת תקציב | B3: ס"ה תקציב הפרוייט
A4: חברה מלווה בדיקה חשבונאית והנדסית | B4: 0
A5: שירותי רואי חשבון - יעוץ שוטף ועריכת ביקורת לאגף אריזות | B5: 19300
A6: רוח מלווה לפרוייקט האסבסט | B6: 137.71415
A7: רו"ח לחוק הצמיגים | B7: 910.00791
A8: חברה מלווה בדיקה חשבונאית והנדסית | B8: 7562.3394
A9: בקרה חשבונאית | B9: 10275.322
B11: =SUM(B4:B10) -> 38185.384
A14: ספק | B14: משימת תקציב | C14: רו"ח לחוק הצמיגים | D14: שירותי רואי חשבון - יעוץ שוטף ועריכת ביקורת לאגף אריזות | E14: חברה מלווה בדיקה חשבונאית והנדסית | F14: בקרה חשבונאית
A15: 40010965 - קבוצת פארטו בע"מ | C15: - | D15: - | E15: 6742598.7 | F15: -
A16: 40164476 - אליאב אורי | C16: 212443.56 | D16: - | E16: - | F16: -
A17: 40009876 - פאהן קנה ניהול בקרה בע"מ | C17: - | D17: - | E17: - | F17: 2908937.5
A18: 10000021 - לשכת הפירסום הממשלתי | C18: - | D18: 2690.76 | E18: - | F18: -
A19: 40005659 - בן דוד שלוי קופ ושות' רואי חשבון (ב | C19: 185117.5 | D19: - | E19: - | F19: -
A20: 40005659 - ע. בן דוד ושות' רואי חשבון | C20: 512446.85 | D20: - | E20: - | F20: -
A21: 40276336 - אלקלעי מונרוב ושות' | C21: - | D21: - | E21: - | F21: 724269.78
A22: (סה"כ) | C22: 910007.91 | D22: 2690.76 | E22: 6742598.7 | F22: 3633207.2
A24: Selection Status:
A25: נושא משימת תקציב: בקרה

Sheet 15
A1: 18 פרוייקטורים ויועצים
A3: משימת תקציב | B3: ס"ה תקציב הפרוייט
A4: יועץ לאשכול שלטון מקומי | B4: 2250
A5: פרויקט PPP - הכנת תסקיר סביבתי | B5: 324
A6: פרויקט יועצים PPP | B6: 8261.5581
A7: פרוייקטורים למחוזות | B7: 2661.2746
A8: פעולות הערכות ליישום חוק האריזות | B8: 2161.1251
A9: ייעוץ משפטי לאגף אריזות | B9: 5211.8954
A10: ייעוץ כלכלי לאגף אריזות | B10: 13810.121
A11: ייעוץ ובקרה ליישום חוק הפסולת האלקטרונית | B11: 49.56
B12: =SUM(B4:B11) -> 34729.534
A14: ספק | B14: משימת תקציב | C14: פעולות הערכות ליישום חוק האריזות | D14: ייעוץ משפטי לאגף אריזות | E14: ייעוץ כלכלי לאגף אריזות | F14: ייעוץ ובקרה ליישום חוק הפסולת האלקטרונית | G14: פרוייקטורים למחוזות | H14: פרויקט יועצים PPP
A15: 40004710 - אירוח הר הכרמל (ניהול) בע"מ | C15: 5992.59 | D15: - | E15: - | F15: - | G15: - | H15: -
A16: 40225745 - גולדן קראון תיירות בע"מ | C16: 13119.6 | D16: - | E16: - | F16: - | G16: - | H16: -
A17: 40377322 - רתם עירית | C17: - | D17: - | E17: - | F17: - | G17: 844627.88 | H17: -
A18: 40276336 - אלקלעי מונרוב ושות' | C18: - | D18: - | E18: 127492.42 | F18: - | G18: - | H18: -
A19: 40225886 - גרוס קלינהנדלר חודק הל | C19: 729545.12 | D19: 1839677.7 | E19: - | F19: - | G19: - | H19: -
A20: 40158963 - קיבוץ כרמים | C20: 8932 | D20: - | E20: - | F20: - | G20: - | H20: -
A21: 40400611 - מיכאלה ודניאל פלודה | C21: - | D21: - | E21: - | F21: - | G21: 585286.48 | H21: -
A22: 40515447 - בארי ייעוץ כלכלי בע"מ | C22: - | D22: - | E22: - | F22: - | G22: - | H22: 224829.15
A23: 10000021 - לשכת הפירסום הממשלתי | C23: 237150.33 | D23: - | E23: - | F23: - | G23: - | H23: 7996.89
A24: 40407606 - קי.אמ.סי. טכנולוגיות בע"מ | C24: - | D24: - | E24: - | F24: - | G24: 5900 | H24: -
A25: 40165542 - שלהבת מערכות מידע בע"מ | C25: - | D25: - | E25: - | F25: - | G25: 503190.74 | H25: -
A26: 40442200 - שגן הילה | C26: 109009 | D26: - | E26: - | F26: - | G26: - | H26: -
A27: 40468904 - אנטרופי יועצים בע"מ | C27: 172448.45 | D27: - | E27: - | F27: - | G27: - | H27: -
A28: 40364536 - צבן צנובר בע"מ | C28: 418534.54 | D28: 409673 | E28: 115311.01 | F28: - | G28: - | H28: -
A29: 40006936 - דן אנד ברדסטריט (ישראל) בע"מ | C29: 17400 | D29: - | E29: - | F29: - | G29: - | H29: -
A30: 40009876 - פאהן קנה ניהול בקרה בע"מ | C30: - | D30: - | E30: 454872.6 | F30: - | G30: - | H30: -
A31: 40015656 - אביב - ניהול הנדסה ומערכות מידע בע" | C31: - | D31: - | E31: - | F31: - | G31: - | H31: 1391412
A32: 40012248 - מלון מעלה החמישה | C32: 6505.2 | D32: - | E32: - | F32: - | G32: - | H32: -
A33: 40001123 - מוסד שמואל נאמן למחקר מדיניות לאומי | C33: 99000 | D33: - | E33: - | F33: - | G33: - | H33: -
A34: 41056986 - אסכולה יעוץ כלכלי ומימוני בע"מ | C34: - | D34: - | E34: - | F34: 49560 | G34: - | H34: -
A35: 40242435 - גוטהלף תומר | C35: - | D35: - | E35: - | F35: - | G35: - | H35: 484307.69
A36: 40010874 - יוסי לוי ושות', עורכי-דין | C36: - | D36: - | E36: - | F36: - | G36: - | H36: 1710952.1
A37: 10000002 - החשב הכללי | C37: 243000 | D37: - | E37: - | F37: - | G37: - | H37: -
A38: 40001579 - חברת החשמל לישראל בעמ | C38: - | D38: - | E38: - | F38: - | G38: - | H38: 23600
A39: 40548162 - טריסקר אלונה | C39: 2940.6 | D39: - | E39: - | F39: - | G39: - | H39: -
A40: 40010590 - מועב שרותי מזון בע"מ | C40: 2150.12 | D40: - | E40: - | F40: - | G40: - | H40: -
A41: 40377960 - א.ח.י. ניהול פרוייקטים תשתיות ואיכו | C41: - | D41: - | E41: - | F41: - | G41: 722358.6 | H41: -
A42: 40010572 - אדן טכנולוגיה ויעוץ כלכלי בע"מ | C42: - | D42: - | E42: - | F42: - | G42: - | H42: 2827727.4
A43: 40003393 - ענבל חברה לביטוח בע"מ | C43: - | D43: - | E43: - | F43: - | G43: - | H43: 1461162.9
A44: (סה"כ) | C44: 2065727.6 | D44: 2249350.7 | E44: 697676.03 | F44: 49560 | G44: 2661363.7 | H44: 8131988.1
A46: Selection Status:
A47: נושא משימת תקציב: פרוייקטורים ויועצים

Sheet פרוייקטים נוספים
B16: פרויקט | C16: סך תקציב הפרוייקט
A17: 1.1 | B17: פרוייקטים שונים | C17: 144344.53
A18: 1.2 | B18: תמיכות 2008-2009 | C18: 143490.69
A19: 1.3 | B19: ניקוי הקישון | C19: 36000
A20: 1.4 | B20: שיקום פארק אריאל שרון | C20: 24750
A21: 1.5 | B21: שכר | C21: 22380.389
A22: 1.6 | B22: מערכות מיחשוב תומכות | C22: 21758.408
A23: 1.7 | B23: שיקום אתר רתמים | C23: 21000
A24: 1.8 | B24: פסולת חקלאית | C24: 20000
A25: 1.9 | B25: רזרבה | C25: 20000
A26: 1.1 | B26: תמיכות שונות | C26: 14390.172
A27: 1.11 | B27: סקרים ומחקרים | C27: 14156.746
A28: 1.12 | B28: ניקוי גדות נחלים באמצעות מיחזור | C28: 10500
... A33: 1.17 | B33: נסיעות לחו"ל | C33: 122.24136
B35: סכום כולל | C35: =SUM(C17:C33) -> 508552.98

Sheet 1.1
A1: 9 פרוייקטים שונים
A3: משימת תקציב | B3: ס"ה תקציב הפרוייט
A4: הקמת יחידת דוד לפיקוח על מעברי איו"ש | B4: 32218.34
A5: ק"ק שקיות | B5: 29249.68
A6: שינוע פסולת - רשויות מקומיות איו"ש | B6: 17297.052
A7: פרוייקטים (שלטון מקומי) | B7: 8740.7863
A8: מוזיאון הטבע | B8: 8490
A9: שינוע פסולת - עיריית אל בירה | B9: 6839.812
A10: בורות כילוי | B10: 6001.056
A11: מרכז מבקרים ברמת חובב | B11: 5726.5
A12: שיקום נחלים עוטף עזה | B12: 5000
A13: תוכנית רב שנתית לחיזוק קצרין | B13: 3000
A14: פעילות שוטפת אגף פסולת | B14: 2632.7897
A15: עבור עידוד הציבור לשימוש בשקיות רב פעמיות | B15: 2600
... A39: ה.מ 1652 תמיכה בקרית ארבע | B39: 0
B41: =SUM(B4:B40) -> 144344.53

Sheet 1.2
A1: ספק | B1: משימת תקציב | C1: תמיכות ישנות בוצה תעשייתית 2009-2010 | D1: תמיכות ישנות חינוך למיחזור | E1: תמיכות ישנות תוכניות אב ותוכניות מפורטות | F1: תמיכות ישנות חלק א (פסולת) | G1: תמיכות ישנות - פסולת בניין | H1: תמיכות ישנות חינוך למיחזור-איו"ש | I1: תמיכות ישנות תוכניות אב ותוכניות מפורטות - איו"ש | J1: תמיכות ישנות חלק א (פסולת)-איו"ש
A2: 20000186 - מ. א. לב השרון | C2: - | D2: 160781 | E2: 218648 | F2: 450453 | G2: - | H2: - | I2: - | J2: -
A3: 20000160 - מ. א. זבולון | C3: - | D3: - | E3: 128786 | F3: 236618 | G3: - | H3: - | I3: - | J3: -
A4: 40375757 - אקו אויל חץ וירומטל בע"מ | C4: 180225.9 | D4: - | E4: - | F4: - | G4: - | H4: - | I4: - | J4: -
A5: 20000112 - מ. מ. להבים | C5: - | D5: 119271 | E5: - | F5: 52511 | G5: - | H5: - | I5: - | J5: -
A6: 20000215 - מ. א. מרחבים | C6: - | D6: 73770 | E6: 125177 | F6: 165120 | G6: - | H6: - | I6: - | J6: -
A7: 20000020 - מ. מ. פרדסיה | C7: - | D7: - | E7: - | F7: 102995 | G7: - | H7: - | I7: - | J7: -
A8: 20000108 - מ. מ. כוכב יאיר | C8: - | D8: 74655 | E8: 48160 | F8: 120365 | G8: - | H8: - | I8: - | J8: -
A9: 20000258 - עירית יהוד-מונוסון | C9: - | D9: 160781 | E9: - | F9: 210122 | G9: - | H9: - | I9: - | J9: -
A10: 40001597 - החברה הכלכלית לפיתוח באר-שבע בערבון | C10: - | D10: - | E10: - | F10: 7317 | G10: - | H10: - | I10: - | J10: -
A11: 20000119 - מ. מ. חורה | C11: - | D11: 82433 | E11: 71572 | F11: 58154 | G11: - | H11: - | I11: - | J11: -
A12: 20000120 - מ. מ. שהם | C12: - | D12: 28392 | E12: 24360 | F12: 78335 | G12: - | H12: - | I12: - | J12: -
A13: 20000114 - מ. מ. שגב-שלום | C13: - | D13: - | E13: - | F13: 45000 | G13: - | H13: - | I13: - | J13: -
A14: 20000138 - עירית אור יהודה | C14: - | D14: 131618 | E14: 40758 | F14: 614763 | G14: - | H14: - | I14: - | J14: -
A15: 20000018 - מ. מ. גן יבנה | C15: - | D15: - | E15: 71978 | F15: 156144 | G15: - | H15: - | I15: - | J15: -
A16: 20000351 - איגוד ערים איזור הגליל המערבי (א | C16: - | D16: 1025668.3 | E16: 603128 | F16: 2392920 | G16: - | H16: - | I16: - | J16: -
A17: 20000240 - עירית עפולה | C17: - | D17: - | E17: 119348 | F17: 414355 | G17: - | H17: - | I17: - | J17: -
A18: 20000353 - איגוד ערים המשולש הדרומי (איכות | C18: - | D18: 426773 | E18: 321280 | F18: - | G18: - | H18: - | I18: - | J18: -
A19: 20000348 - איגוד ערים השרון הצפוני (תברואה) | C19: - | D19: 110976 | E19: - | F19: - | G19: - | H19: - | I19: - | J19: -
A20: 20000297 - מ. מ. לקיה | C20: - | D20: - | E20: 26426 | F20: 25035 | G20: - | H20: - | I20: - | J20: -
A21: 20000137 - מ. א. מגידו | C21: - | D21: 118389 | E21: 59012 | F21: 185362 | G21: - | H21: - | I21: - | J21: -
A22: 20000053 - מ. מ. כפר מנדא | C22: - | D22: 113754.6 | E22: - | F22: 179892 | G22: - | H22: - | I22: - | J22: -
A23: 20000015 - מ. מ. מצפה רמון | C23: - | D23: - | E23: 26123 | F23: 66229 | G23: - | H23: - | I23: - | J23: -
A24: 20000245 - עירית קרית מוצקין | C24: - | D24: 136191 | E24: 54377 | F24: - | G24: - | H24: - | I24: - | J24: -
A25: 20000244 - עירית צפת | C25: - | D25: 67380 | E25: - | F25: 398861 | G25: - | H25: - | I25: - | J25: -
A26: 20000254 - עירית באר שבע | C26: - | D26: - | E26: 299860 | F26: 2771017 | G26: - | H26: - | I26: - | J26: -
A27: 20000190 - מ. א. דרום השרון | C27: - | D27: 144898 | E27: - | F27: 182273 | G27: - | H27: - | I27: - | J27: -
A28: 20000195 - מ. א. ברנר | C28: - | D28: - | E28: 55265 | F28: 121502 | G28: - | H28: - | I28: - | J28: -
A29: 40019939 - אלקון מרכז מיחזור (2003) בע"מ | C29: 59493.7 | D29: - | E29: - | F29: - | G29: - | H29: - | I29: - | J29: -
A30: 20000133 - מ. מ. קרית טבעון | C30: - | D30: - | E30: 93764 | F30: 219674 | G30: - | H30: - | I30: - | J30: -
A31: 20000005 - מ. מ. אליכין | C31: - | D31: 58650 | E31: 41650 | F31: 33837 | G31: - | H31: - | I31: - | J31: -
A32: 20000129 - מ. א. מבואות החרמון | C32: - | D32: - | E32: - | F32: 104003 | G32: - | H32: - | I32: - | J32: -
A33: 20000157 - עירית קרית שמונה | C33: - | D33: 141637 | E33: - | F33: 100173 | G33: - | H33: - | I33: - | J33: -
A34: 20000078 - עיריית כפר קאסם | C34: - | D34: - | E34: - | F34: 185955 | G34: - | H34: - | I34: - | J34: -
A35: 20000171 - עירית מעלה אדומים | C35: - | D35: - | E35: - | F35: - | G35: - | H35: - | I35: - | J35: 581490
A36: 20000185 - מ. א. עמק חפר | C36: - | D36: 233398 | E36: 318294 | F36: 2919052 | G36: - | H36: - | I36: - | J36: -
A37: 20000253 - עירית טמרה | C37: - | D37: 141103 | E37: - | F37: - | G37: - | H37: - | I37: - | J37: -
A38: 20000085 - מ. מ. ירוחם | C38: - | D38: 74526 | E38: - | F38: 148534 | G38: - | H38: - | I38: - | J38: -
A39: 20000149 - עירית קרית אונו | C39: - | D39: 179697 | E39: 55703 | F39: 345014 | G39: - | H39: - | I39: - | J39: -
A40: 20000130 - עירית דימונה | C40: - | D40: 167565 | E40: 88419 | F40: 500690 | G40: - | H40: - | I40: - | J40: -
A41: 20000150 - עירית קרית גת | C41: - | D41: - | E41: 91727 | F41: 789365 | G41: - | H41: - | I41: - | J41: -
A42: 20000210 - מ. א. לכיש | C42: - | D42: - | E42: - | F42: 119072 | G42: - | H42: - | I42: - | J42: -
A43: 20000212 - מ. א. אשכול | C43: - | D43: - | E43: 196448 | F43: 109976 | G43: - | H43: - | I43: - | J43: -
A44: 20000004 - עירית אופקים | C44: - | D44: 141569 | E44: 90270 | F44: 42499 | G44: - | H44: - | I44: - | J44: -
A45: 10000021 - לשכת הפירסום הממשלתי | C45: - | D45: 6109.58 | E45: - | F45: - | G45: - | H45: - | I45: - | J45: -
A46: 40375841 - טל אור אקולוגיה בע"מ | C46: 420892 | D46: - | E46: - | F46: - | G46: - | H46: - | I46: - | J46: -
A47: 20000249 - עירית רמלה | C47: - | D47: 143640 | E47: 104794 | F47: 696619 | G47: - | H47: - | I47: - | J47: -
A48: 20000127 - מ. א. הגליל העליון | C48: - | D48: 52702 | E48: 71190 | F48: 535848 | G48: - | H48: - | I48: - | J48: -
A49: 20000205 - מ. א. באר-טוביה | C49: - | D49: 126261 | E49: 295417 | F49: 244743 | G49: - | H49: - | I49: - | J49: -
A50: 20000073 - מ. מ. אזור | C50: - | D50: 127678.5 | E50: - | F50: 105997 | G50: - | H50: - | I50: - | J50: -
A51: 20000002 - מ. מ. מזכרת בתיה | C51: - | D51: 111053 | E51: - | F51: 140896 | G51: - | H51: - | I51: - | J51: -
A52: 20000077 - מ. מ. כפר-ברא | C52: - | D52: - | E52: - | F52: 45963 | G52: - | H52: - | I52: - | J52: -
A53: 20000026 - עירית נתיבות | C53: - | D53: 122950 | E53: 53814 | F53: 454023 | G53: - | H53: - | I53: - | J53: -
A54: 20000100 - עירית נצרת עילית | C54: - | D54: - | E54: 55242 | F54: 39859 | G54: - | H54: - | I54: - | J54: -
A55: 20000201 - עירית תל-אביב-יפו | C55: - | D55: 368851 | E55: 278516 | F55: 5161845 | G55: - | H55: - | I55: - | J55: -
A56: 20000217 - מ. א. תמר | C56: - | D56: 66909 | E56: 84096 | F56: 578370 | G56: - | H56: - | I56: - | J56: -
A57: 20000003 - מ. מ. יסוד המעלה | C57: - | D57: - | E57: - | F57: 21627 | G57: - | H57: - | I57: - | J57: -
A58: 20000128 - מ. א. מרום הגליל | C58: - | D58: 37148 | E58: - | F58: - | G58: - | H58: - | I58: - | J58: -
A59: 20000118 - מ. מ. כסרא סמיע | C59: - | D59: 72662 | E59: - | F59: 41400 | G59: - | H59: - | I59: - | J59: -
A60: 20000232 - מ. א. שומרון | C60: - | D60: - | E60: - | F60: - | G60: - | H60: - | I60: - | J60: 177271
A61: 20000371 - מ. א. אבו בסמה | C61: - | D61: 221311 | E61: 69696 | F61: - | G61: - | H61: - | I61: - | J61: -
A62: 20000099 - מ. מ. כסיפה | C62: - | D62: - | E62: - | F62: 43848 | G62: - | H62: - | I62: - | J62: -
A63: 20000069 - מ. מ. שעב | C63: - | D63: - | E63: - | F63: 77266 | G63: - | H63: - | I63: - | J63: -
A64: 20000088 - מ. מ. רכסים | C64: - | D64: - | E64: - | F64: 88747 | G64: - | H64: - | I64: - | J64: -
A65: 20000103 - מ. מ. בני עי"ש | C65: - | D65: - | E65: - | F65: 82253 | G65: - | H65: - | I65: - | J65: -
A66: 20000044 - מ. מ. חורפיש | C66: - | D66: - | E66: - | F66: 25500 | G66: - | H66: - | I66: - | J66: -
A67: 20000173 - מ. מ. אפרתה | C67: - | D67: - | E67: - | F67: - | G67: - | H67: - | I67: - | J67: 30763
A68: 20000172 - מ. מ. קרני שומרון | C68: - | D68: - | E68: - | F68: - | G68: - | H68: - | I68: - | J68: 20983
A69: 20000134 - מ. א. עמק המעיינות | C69: - | D69: 85702 | E69: 138779 | F69: 192451 | G69: - | H69: - | I69: - | J69: -
A70: 20000223 - עירית חדרה | C70: - | D70: - | E70: 203998 | F70: 1193704 | G70: - | H70: - | I70: - | J70: -
A71: 20000182 - עירית חיפה | C71: - | D71: 318326.5 | E71: 62621 | F71: 3241539 | G71: - | H71: - | I71: - | J71: -
A72: 20000046 - מ. מ. יפיע | C72: - | D72: - | E72: - | F72: - | G72: 262800 | H72: - | I72: - | J72: -
A73: 20000094 - עירית אור עקיבא | C73: - | D73: - | E73: - | F73: 287009 | G73: - | H73: - | I73: - | J73: -
A74: 20000084 - מ. מ. שלומי | C74: - | D74: - | E74: 34200 | F74: - | G74: - | H74: - | I74: - | J74: -
A75: 20000225 - עירית טבריה | C75: - | D75: 96699 | E75: 110430 | F75: 565301 | G75: - | H75: - | I75: - | J75: -
A76: 20000055 - מ. מ. מג'ד אל-כרום | C76: - | D76: - | E76: 58500 | F76: - | G76: - | H76: - | I76: - | J76: -
A77: 20000211 - עירית בת-ים | C77: - | D77: 343006 | E77: 73500 | F77: 1882868 | G77: - | H77: - | I77: - | J77: -
A78: 20000162 - מ. א. חוף הכרמל | C78: - | D78: 160781 | E78: 230637 | F78: 611266 | G78: - | H78: - | I78: - | J78: -
A79: 20000167 - עירית אריאל | C79: - | D79: - | E79: - | F79: - | G79: - | H79: - | I79: - | J79: 84259
A80: 20000207 - מ. א. יואב | C80: - | D80: 128423 | E80: - | F80: 121025 | G80: - | H80: - | I80: - | J80: -
A81: 20000022 - מ. מ. קדימה-צורן | C81: - | D81: - | E81: - | F81: 79667 | G81: - | H81: - | I81: - | J81: -
A82: 20000039 - מ. מ. גוש חלב | C82: - | D82: 13575 | E82: - | F82: 18800 | G82: - | H82: - | I82: - | J82: -
A83: 40470149 - החברה לפיתוח ביתר עילית בע"מ | C83: - | D83: - | E83: - | F83: - | G83: - | H83: - | I83: 118947 | J83: -
A84: 20000180 - עירית ביתר עילית | C84: - | D84: - | E84: - | F84: - | G84: - | H84: - | I84: - | J84: 205190
A85: 20000161 - מ. א. מנשה | C85: - | D85: 98763 | E85: 122888 | F85: 310460 | G85: - | H85: - | I85: - | J85: -
A86: 20000198 - מ. א. גדרות | C86: - | D86: - | E86: 49216 | F86: 66033 | G86: - | H86: - | I86: - | J86: -
A87: 20000346 - איגוד ערים אזור דן (תברואה ואשפה | C87: - | D87: - | E87: - | F87: 2097500 | G87: - | H87: - | I87: - | J87: -
A88: 20000132 - מ. א. עמק הירדן | C88: - | D88: 123423 | E88: 135998 | F88: 429606 | G88: - | H88: - | I88: - | J88: -
A89: 20000242 - מ. מ. פרדס-חנה-כרכור | C89: - | D89: - | E89: 217680 | F89: 384417 | G89: - | H89: - | I89: - | J89: -
A90: 20000243 - עירית פתח תקוה | C90: - | D90: 252370 | E90: 185634 | F90: 1587170 | G90: - | H90: - | I90: - | J90: -
A91: 20000070 - מ. מ. ג'יסר אל זרקא | C91: - | D91: - | E91: - | F91: 28673 | G91: 1087700 | H91: - | I91: - | J91: -
A92: 20000135 - מ. א. הגלבוע | C92: - | D92: 62353 | E92: 215100 | F92: 554584 | G92: - | H92: - | I92: - | J92: -
A93: 20000187 - מ. א. חוף השרון | C93: - | D93: 103562 | E93: 49000 | F93: - | G93: - | H93: - | I93: - | J93: -
A94: 20000102 - עירית מעלות תרשיחא | C94: - | D94: 170239 | E94: 50688 | F94: - | G94: - | H94: - | I94: - | J94: -
A95: 20000261 - עירית הוד השרון | C95: - | D95: 120347 | E95: - | F95: 467973 | G95: - | H95: - | I95: - | J95: -
A96: 20000259 - עירית קרית ביאליק | C96: - | D96: 165969 | E96: 73102 | F96: 729622 | G96: - | H96: - | I96: - | J96: -
A97: 40458072 - תעשיות אנרגיה חפר (ת.א.ח) בע"מ | C97: - | D97: - | E97: - | F97: 735000 | G97: - | H97: - | I97: - | J97: -
A98: 20000081 - מ. מ. כפר קרע | C98: - | D98: - | E98: 65000 | F98: - | G98: 401500 | H98: - | I98: - | J98: -
A99: 20000014 - עירית אשדוד | C99: - | D99: - | E99: 158571 | F99: 3342853 | G99: - | H99: - | I99: - | J99: -
A100: 20000179 - מ. מ. הר-אדר | C100: - | D100: - | E100: - | F100: - | G100: - | H100: - | I100: 53762 | J100: 61111
...

Sheet 1.6
A1: 21 מערכות מיחשוב תומכות
A3: משימת תקציב | B3: ס"ה תקציב הפרוייט
A4: מערכת ממוחשבת ליישום חוק פסולת אלקטרונית | B4: 3800
A5: מערכת ממוחשבת ליישום חוק האריזות | B5: 10832.39
A6: מנוי למאגר מידע RPET | B6: 19.61553
A7: מיחשוב מערכת גביית היטל הטמנה | B7: 6606.4263
A8: מאגר מידע פסולת | B8: 499.9761
B9: =SUM(B4:B8) -> 21758.408
A13: ספק | B13: משימת תקציב | C13: מיחשוב מערכת גביית היטל הטמנה | D13: מנוי למאגר מידע RPET | E13: מערכת ממוחשבת ליישום חוק האריזות
A14: 40003660 - מרטנס הופמן שירותי מיחשוב בע"מ | C14: 252601.49 | D14: - | E14: 3391336.1
A15: 40003666 - סיסנת - תכנה בע"מ | C15: 242631.65 | D15: - | E15: -
A16: 40001205 - מטריקס אי. טי. מערכות מידע מתקדמות | C16: 472986.88 | D16: - | E16: 264333.92
A17: 40005148 - נס א.ט. בע"מ | C17: 1345659.9 | D17: - | E17: 2352104.1
A18: 40001141 - אלעד מערכות תוכנה בע"מ | C18: - | D18: - | E18: 1941916.9
A19: 40003644 - אס. קיו. לינק בע"מ | C19: 417549.06 | D19: - | E19: 2662222.1
A20: 40003679 - טלדור יועצים בע"מ | C20: 369819.51 | D20: - | E20: -
A21: 50001850 - REED BUSINESS INFORMATION | C21: - | D21: 7930.54 | E21: -
A22: (סה"כ) | C22: 3101248.5 | D22: 7930.54 | E22: 10611913
A24: Selection Status:
A25: נושא משימת תקציב: מערכות מיחשוב תומכות

Sheet 1.10
A1: 25 תמיכות שונות
A3: משימת תקציב | B3: ס"ה תקציב הפרוייט
A4: סיוע לפעילות 2 איגודי ערים - איו"ש | B4: 846
A5: תיגבור כח אדם ליחידות סביבתיות | B5: 2466.4505
A6: צמצום פסולת בתעשייה | B6: 28
A7: מרסקות גזם בחקלאות | B7: 1049.7218
A8: טיפול בבוצת מט"שים | B8: 10000
B9: =SUM(B4:B8) -> 14390.172
A12: ספק | B12: משימת תקציב | C12: צמצום פסולת בתעשייה | D12: טיפול בבוצת מט"שים | E12: תיגבור כח אדם ליחידות סביבתיות | F12: מרסקות גזם בחקלאות
A13: 41091013 - אקו - אנרגיה ישראל בע"מ | C13: - | D13: 2000000 | E13: - | F13: -
A14: 20000253 - עירית טמרה | C14: - | D14: - | E14: 80146 | F14: -
A15: 10000145 - משרד החקלאות | C15: - | D15: - | E15: - | F15: 1046000
A16: 40010439 - אלקטרה אנרגיה בע"מ | C16: - | D16: 1328000 | E16: - | F16: -
A17: 20000153 - עירית יבנה | C17: - | D17: 209314 | E17: - | F17: -
A18: 41091014 - ר. ג. א. שרותים ונקיון (ישראל) 1987 | C18: - | D18: 1456480 | E18: - | F18: -
A19: 20000371 - מ. א. אבו בסמה | C19: - | D19: - | E19: 339593 | F19: -
A20: 20000156 - עירית טייבה | C20: - | D20: - | E20: 256570 | F20: -
A21: 20000216 - מ. א. רמת נגב | C21: - | D21: 1066205 | E21: - | F21: -
A22: 20000106 - עירית רהט | C22: - | D22: - | E22: 375144 | F22: -
A23: 20000064 - מ. מ. עין מאה'ל | C23: - | D23: - | E23: 370727 | F23: -
A24: 41091012 - רמים משאבי סביבה - אגודה שיתופית חק | C24: - | D24: 1940000 | E24: - | F24: -
A25: 20000204 - עירית בני ברק | C25: - | D25: - | E25: 271366.5 | F25: -
A26: 20000092 - מ. מ. ביר אל-מכסור | C26: - | D26: - | E26: 508833 | F26: -
A27: 20000353 - איגוד ערים המשולש הדרומי (איכות | C27: - | D27: - | E27: 152791 | F27: -
A28: 20000308 - איגוד ערים אגן בית נטופה (סביבה) | C28: - | D28: - | E28: 111280 | F28: -
A29: 40226308 - דור כימיקלים בע"מ | C29: 28000 | D29: - | E29: - | F29: -
A30: 10000021 - לשכת הפירסום הממשלתי | C30: - | D30: - | E30: - | F30: 3721.84
A31: (סה"כ) | C31: 28000 | D31: 7999999 | E31: 2466450.5 | F31: 1049721.8
A33: Selection Status:
A34: נושא משימת תקציב: תמיכות שונות

Sheet 1.11
A1: 26 סקרים ומחקרים
A3: משימת תקציב | B3: סוג מטרות המשימה | C3: מטרות המשימה | D3: ס"ה תקציב הפרוייט
A4: קידום השימוש בקומפוסט בחקלאות (העברה למשרד החקלאות -שה"מ) | B4: פיתוח | C4: פיתוח - רכש | D4: 1560
A5: סקר הרכב פסולת | B5: פיתוח | C5: פיתוח - רכש | D5: 2033.7558
A6: מחקרים הפקת אנרגיה מביומסה | B6: פיתוח | C6: פיתוח - רכש | D6: 8295.2527
A7: מחקרים בנושא השבה ומיחזור | B7: פיתוח | C7: פיתוח - רכש | D7: 435.08
A8: מחקרים הפקת אנרגיה מביומסה - איו"ש | B8: כללי | C8: כללי - אמצעים חלופיים להטמנה | D8: 1158.658
A9: למ"ס - סקר כמויות פסולת בתעשיה | B9: פיתוח | C9: פיתוח - רכש | D9: 674
D11: =SUM(D4:D10) -> 14156.746
A14: ספק | B14: משימת תקציב | C14: סקר הרכב פסולת | D14: קידום השימוש בקומפוסט בחקלאות (העברה למשרד החקלאות -שה"מ) | E14: למ"ס - סקר כמויות פסולת בתעשיה | F14: מחקרים הפקת אנרגיה מביומסה - איו"ש | G14: מחקרים בנושא השבה ומיחזור | H14: מחקרים הפקת אנרגיה מביומסה
A15: 40000250 - אוניברסיטת בן גוריון | C15: - | D15: - | E15: - | F15: - | G15: - | H15: 981875
A16: 10000023 - הלשכה המרכזית לסטטיסטיקה | C16: 122000 | D16: - | E16: 674000 | F16: - | G16: - | H16: -
A17: 40010827 - ד.ה.ב. מד בע"מ | C17: - | D17: - | E17: - | F17: - | G17: - | H17: 132000
A18: 40394506 - ע.ב. אנרגיה נקייה בע"מ | C18: - | D18: - | E18: - | F18: - | G18: - | H18: 1199750
A19: 40464517 - דיזיינר אנרג'י בע"מ | C19: - | D19: - | E19: - | F19: - | G19: - | H19: 441430
A20: 40458072 - תעשיות אנרגיה חפר (ת.א.ח) בע"מ | C20: - | D20: - | E20: - | F20: - | G20: - | H20: 400200
A21: 40000249 - אוניברסיטת חיפה | C21: - | D21: - | E21: - | F21: - | G21: - | H21: 1116650
A22: 40001048 - מוסד הטכניון למחקר ופתוח בעמ | C22: - | D22: - | E22: - | F22: - | G22: - | H22: 1200000
A23: 40376532 - אבי נוביק - שחף תכנון סביבתי בע"מ | C23: 1911755.8 | D23: - | E23: - | F23: - | G23: - | H23: -
A24: 40000058 - אגודת הגליל - האגודה הערבית הארצית | C24: - | D24: - | E24: - | F24: - | G24: - | H24: 1478785
A25: 40000243 - אוניברסיטת תל-אביב אגודה. | C25: - | D25: - | E25: - | F25: - | G25: - | H25: 872852
A26: 40001708 - אוניברסיטת אריאל בשומרון (ע"ר) | C26: - | D26: - | E26: - | F26: 1158658 | G26: - | H26: -
A27: 10000021 - לשכת הפירסום הממשלתי | C27: - | D27: - | E27: - | F27: - | G27: - | H27: 22060.73
A28: 40172538 - נתיבי ישראל - החברה הלאומית לתשתיות | C28: - | D28: - | E28: - | F28: - | G28: 435080 | H28: -
A29: 40486921 - טרנס ביו-דיזל בע"מ | C29: - | D29: - | E29: - | F29: - | G29: - | H29: 449650
A30: 10000145 - משרד החקלאות | C30: - | D30: 1560000 | E30: - | F30: - | G30: - | H30: -
A31: (סה"כ) | C31: 2033755.8 | D31: 1560000 | E31: 674000 | F31: 1158658 | G31: 435080 | H31: 8295252.7
A33: Selection Status:
A34: נושא משימת תקציב: סקרים ומחקרים

Sheet 1.13
A1: ספק | B1: משימת תקציב | C1: סבסוד קליטת חומר אורגני מופרד במקור
A2: 20000346 - איגוד ערים אזור דן (תברואה ואשפה | C2: 1600000
A3: 20000214 - מ. א. בני שמעון | C3: 1599000
A4: 41109870 - אורוז שרותים בעמ | C4: 1592604
A5: 40517295 - גרין נט מחזור וטיפול בפסולת בע"מ | C5: 1586440.7
A6: 40572660 - קומפוסט אור בע"מ | C6: 1288983.1
A7: 40210803 - אמניר תעשיות ושרותי סביבה בע"מ | C7: 1084765.9
A8: (סה"כ) | C8: 8751793.7
A10: Selection Status:
A11: נושא משימת תקציב: סבסוד קליטת חומר אורגני מופרד במקור

Sheet 1.14
A1: ספק | B1: משימת תקציב | C1: רכישת קומפוסטרים יישוביים 2012
A2: 20000127 - מ. א. הגליל העליון | C2: 1200000
A3: 20000219 - מ. א. חבל אילות | C3: 833000
A4: 20000140 - מ. א. משגב | C4: 480000
A5: 20000220 - מ. א. הערבה התיכונה | C5: 240000
A6: 20000440 - מ. א. תמר | C6: 80000
A7: 20000188 - מ. מ. מג'דל שמס | C7: 66000
A8: 20000216 - מ. א. רמת נגב | C8: 60000
A9: (סה"כ) | C9: 2959000
A11: Selection Status:
A12: נושא משימת תקציב: קומפסוטציה יישובית
